BEGIN:VCALENDAR
VERSION:2.0
PRODID:-//My CHQ - ECPv6.15.20//NONSGML v1.0//EN
CALSCALE:GREGORIAN
METHOD:PUBLISH
X-ORIGINAL-URL:https://mychq.org
X-WR-CALDESC:Events for My CHQ
REFRESH-INTERVAL;VALUE=DURATION:PT1H
X-Robots-Tag:noindex
X-PUBLISHED-TTL:PT1H
BEGIN:VTIMEZONE
TZID:America/New_York
BEGIN:DAYLIGHT
TZOFFSETFROM:-0500
TZOFFSETTO:-0400
TZNAME:EDT
DTSTART:20240310T070000
END:DAYLIGHT
BEGIN:STANDARD
TZOFFSETFROM:-0400
TZOFFSETTO:-0500
TZNAME:EST
DTSTART:20241103T060000
END:STANDARD
BEGIN:DAYLIGHT
TZOFFSETFROM:-0500
TZOFFSETTO:-0400
TZNAME:EDT
DTSTART:20250309T070000
END:DAYLIGHT
BEGIN:STANDARD
TZOFFSETFROM:-0400
TZOFFSETTO:-0500
TZNAME:EST
DTSTART:20251102T060000
END:STANDARD
BEGIN:DAYLIGHT
TZOFFSETFROM:-0500
TZOFFSETTO:-0400
TZNAME:EDT
DTSTART:20260308T070000
END:DAYLIGHT
BEGIN:STANDARD
TZOFFSETFROM:-0400
TZOFFSETTO:-0500
TZNAME:EST
DTSTART:20261101T060000
END:STANDARD
END:VTIMEZONE
BEGIN:VEVENT
DTSTART;TZID=America/New_York:20250815T080000
DTEND;TZID=America/New_York:20250815T170000
DTSTAMP:20260423T094441
CREATED:20250303T010829Z
LAST-MODIFIED:20250303T010829Z
UID:10014663-1755244800-1755277200@mychq.org
SUMMARY:Kids & Sibs Summer Camp!
DESCRIPTION:SAVE THE DATE!! \n5th Annual Kids and Sibs Summer Camp at YMCA Camp Onyahsa on August 14th and August 15th! More information to come!
URL:https://mychq.org/event/kids-sibs-summer-camp/2025-08-15/
LOCATION:YMCA Camp Onyahsa\, 5411 E Lake Rd\, Dewittville\, 14728\, United States
CATEGORIES:Camps
ATTACH;FMTTYPE=image/jpeg:https://mychq.org/wp-content/uploads/2025/03/480273469_1024296359728569_2742127806652153450_n.jpg
ORGANIZER;CN="Prevention Works":MAILTO:info@preventionworks.us
END:VEVENT
END:VCALENDAR