BEGIN:VCALENDAR
VERSION:2.0
PRODID:-//Chautauqua County Events, Local Businesses &amp; Resources | My CHQ - ECPv6.15.20//NONSGML v1.0//EN
CALSCALE:GREGORIAN
METHOD:PUBLISH
X-WR-CALNAME:Chautauqua County Events, Local Businesses &amp; Resources | My CHQ
X-ORIGINAL-URL:https://mychq.org
X-WR-CALDESC:Events for Chautauqua County Events, Local Businesses &amp; Resources | My CHQ
REFRESH-INTERVAL;VALUE=DURATION:PT1H
X-Robots-Tag:noindex
X-PUBLISHED-TTL:PT1H
BEGIN:VTIMEZONE
TZID:America/New_York
BEGIN:DAYLIGHT
TZOFFSETFROM:-0500
TZOFFSETTO:-0400
TZNAME:EDT
DTSTART:20240310T070000
END:DAYLIGHT
BEGIN:STANDARD
TZOFFSETFROM:-0400
TZOFFSETTO:-0500
TZNAME:EST
DTSTART:20241103T060000
END:STANDARD
BEGIN:DAYLIGHT
TZOFFSETFROM:-0500
TZOFFSETTO:-0400
TZNAME:EDT
DTSTART:20250309T070000
END:DAYLIGHT
BEGIN:STANDARD
TZOFFSETFROM:-0400
TZOFFSETTO:-0500
TZNAME:EST
DTSTART:20251102T060000
END:STANDARD
BEGIN:DAYLIGHT
TZOFFSETFROM:-0500
TZOFFSETTO:-0400
TZNAME:EDT
DTSTART:20260308T070000
END:DAYLIGHT
BEGIN:STANDARD
TZOFFSETFROM:-0400
TZOFFSETTO:-0500
TZNAME:EST
DTSTART:20261101T060000
END:STANDARD
END:VTIMEZONE
BEGIN:VEVENT
DTSTART;TZID=America/New_York:20251031T170000
DTEND;TZID=America/New_York:20251031T200000
DTSTAMP:20260423T194720
CREATED:20251023T151844Z
LAST-MODIFIED:20251023T151844Z
UID:10022617-1761930000-1761940800@mychq.org
SUMMARY:Trunk or Treat @ West Portland Baptist Church
DESCRIPTION:Bring everyone in costumes for a fun Trunk or Treat!
URL:https://mychq.org/event/trunk-or-treat-west-portland-baptist-church/
LOCATION:West Portland Baptist Church\, 7081 US-20\, Westfield\, 14787\, United States
CATEGORIES:Kids & Family
ATTACH;FMTTYPE=image/jpeg:https://mychq.org/wp-content/uploads/2025/10/480333354_605561832111375_2969252508256867370_n.jpg
END:VEVENT
BEGIN:VEVENT
DTSTART;TZID=America/New_York:20251011T090000
DTEND;TZID=America/New_York:20251011T150000
DTSTAMP:20260423T194720
CREATED:20251006T162253Z
LAST-MODIFIED:20251006T162253Z
UID:10022403-1760173200-1760194800@mychq.org
SUMMARY:Apple Butter Festival
DESCRIPTION:The Annual Apple Butter Festival is just 1 month away on October 11th. Put it in your calendar and plan to be with us.
URL:https://mychq.org/event/apple-butter-festival/
LOCATION:West Portland Baptist Church\, 7081 US-20\, Westfield\, 14787\, United States
CATEGORIES:Festivals & Fairs
ATTACH;FMTTYPE=image/jpeg:https://mychq.org/wp-content/uploads/2025/10/546414615_758896550111235_2103330782832324090_n.jpg
ORGANIZER;CN="West Portland Baptist Church":MAILTO:westportlandbc@gmail.com
END:VEVENT
END:VCALENDAR