BEGIN:VCALENDAR
VERSION:2.0
PRODID:-//Chautauqua County Events, Local Businesses &amp; Resources | My CHQ - ECPv6.15.20//NONSGML v1.0//EN
CALSCALE:GREGORIAN
METHOD:PUBLISH
X-ORIGINAL-URL:https://mychq.org
X-WR-CALDESC:Events for Chautauqua County Events, Local Businesses &amp; Resources | My CHQ
REFRESH-INTERVAL;VALUE=DURATION:PT1H
X-Robots-Tag:noindex
X-PUBLISHED-TTL:PT1H
BEGIN:VTIMEZONE
TZID:America/New_York
BEGIN:DAYLIGHT
TZOFFSETFROM:-0500
TZOFFSETTO:-0400
TZNAME:EDT
DTSTART:20240310T070000
END:DAYLIGHT
BEGIN:STANDARD
TZOFFSETFROM:-0400
TZOFFSETTO:-0500
TZNAME:EST
DTSTART:20241103T060000
END:STANDARD
BEGIN:DAYLIGHT
TZOFFSETFROM:-0500
TZOFFSETTO:-0400
TZNAME:EDT
DTSTART:20250309T070000
END:DAYLIGHT
BEGIN:STANDARD
TZOFFSETFROM:-0400
TZOFFSETTO:-0500
TZNAME:EST
DTSTART:20251102T060000
END:STANDARD
BEGIN:DAYLIGHT
TZOFFSETFROM:-0500
TZOFFSETTO:-0400
TZNAME:EDT
DTSTART:20260308T070000
END:DAYLIGHT
BEGIN:STANDARD
TZOFFSETFROM:-0400
TZOFFSETTO:-0500
TZNAME:EST
DTSTART:20261101T060000
END:STANDARD
BEGIN:DAYLIGHT
TZOFFSETFROM:-0500
TZOFFSETTO:-0400
TZNAME:EDT
DTSTART:20270314T070000
END:DAYLIGHT
BEGIN:STANDARD
TZOFFSETFROM:-0400
TZOFFSETTO:-0500
TZNAME:EST
DTSTART:20271107T060000
END:STANDARD
END:VTIMEZONE
BEGIN:VEVENT
DTSTART;TZID=America/New_York:20260115T170000
DTEND;TZID=America/New_York:20260115T183000
DTSTAMP:20260424T123718
CREATED:20260107T173016Z
LAST-MODIFIED:20260107T173016Z
UID:10023966-1768496400-1768501800@mychq.org
SUMMARY:Business After Hours @ UpTwn Kix
DESCRIPTION:Kick off the New Year with some networking at UpTwn Kix in Jamestown during the first CHQ Chamber Business After Hours of 2026! This event is open to any businessperson interested in making connections and building relationships within the local business community. \nChamber members may send up to two representatives at no cost. Non-members\, or anyone attending beyond the two-person member limit\, are welcome to join for just $10 per person. Pre-registration is not required\, but it is greatly appreciated for planning purposes. Walk-ins are welcome. \nJoin fellow professionals for an evening of casual networking\, conversation\, and connection in a fun\, energetic setting. Enjoy complimentary light refreshments and beverages in a relaxed atmosphere while getting to know one of our local businesses. \nCome mix\, mingle\, and help us start the year on the right foot. We look forward to seeing you there!
URL:https://mychq.org/event/business-after-hours-uptwn-kix/
LOCATION:UpTwn Kix\, 117 W 4th St\, Jamestown\, 14701\, United States
CATEGORIES:Networking & Business
ATTACH;FMTTYPE=image/jpeg:https://mychq.org/wp-content/uploads/2026/01/612220602_1396022575885827_3135243657397232248_n.jpg
ORGANIZER;CN="CHQ Chamber":MAILTO:cswanson@chautauquachamber.org
END:VEVENT
BEGIN:VEVENT
DTSTART;TZID=America/New_York:20251011T130000
DTEND;TZID=America/New_York:20251011T170000
DTSTAMP:20260424T123718
CREATED:20250926T150718Z
LAST-MODIFIED:20250926T150718Z
UID:10022060-1760187600-1760202000@mychq.org
SUMMARY:UpTwn Kix Two Year Anniversary Block Party!
DESCRIPTION:Attention\, everyone \nUptwnkix will be celebrating his two year anniversary and we want everybody to come by all walks of life\, and all ages ￼ \n\nWe will have free food\, free haircuts\, and so much more\nMany local businesses will be attending. Stay tuned for more updates. ￼\n￼ October 11 is the date. Please be there and tell a friend.\n\n\n￼  Location: 117 W 4th St\, Jamestown NY \n Hours: \nMon–thursi: 11 AM – 7 PM \nFri : 10am – 8pm \nSat: closed \nSun: 12pm-5pm \n Website: uptwnkix.shop \n Contact: Call/text (484) 447-9601 or DM us @uptwnkix \n Payment: Cash & card accepted | Afterpay available \n Online Drop: Available on website by end of today
URL:https://mychq.org/event/uptwn-kix-two-year-anniversary-block-party/
LOCATION:UpTwn Kix\, 117 W 4th St\, Jamestown\, 14701\, United States
CATEGORIES:Kids & Family
ATTACH;FMTTYPE=image/jpeg:https://mychq.org/wp-content/uploads/2025/09/554915071_122197049948066635_2686160690244871575_n.jpg
END:VEVENT
END:VCALENDAR