BEGIN:VCALENDAR
VERSION:2.0
PRODID:-//My CHQ - ECPv6.15.20//NONSGML v1.0//EN
CALSCALE:GREGORIAN
METHOD:PUBLISH
X-ORIGINAL-URL:https://mychq.org
X-WR-CALDESC:Events for My CHQ
REFRESH-INTERVAL;VALUE=DURATION:PT1H
X-Robots-Tag:noindex
X-PUBLISHED-TTL:PT1H
BEGIN:VTIMEZONE
TZID:America/New_York
BEGIN:DAYLIGHT
TZOFFSETFROM:-0500
TZOFFSETTO:-0400
TZNAME:EDT
DTSTART:20240310T070000
END:DAYLIGHT
BEGIN:STANDARD
TZOFFSETFROM:-0400
TZOFFSETTO:-0500
TZNAME:EST
DTSTART:20241103T060000
END:STANDARD
BEGIN:DAYLIGHT
TZOFFSETFROM:-0500
TZOFFSETTO:-0400
TZNAME:EDT
DTSTART:20250309T070000
END:DAYLIGHT
BEGIN:STANDARD
TZOFFSETFROM:-0400
TZOFFSETTO:-0500
TZNAME:EST
DTSTART:20251102T060000
END:STANDARD
BEGIN:DAYLIGHT
TZOFFSETFROM:-0500
TZOFFSETTO:-0400
TZNAME:EDT
DTSTART:20260308T070000
END:DAYLIGHT
BEGIN:STANDARD
TZOFFSETFROM:-0400
TZOFFSETTO:-0500
TZNAME:EST
DTSTART:20261101T060000
END:STANDARD
BEGIN:DAYLIGHT
TZOFFSETFROM:-0500
TZOFFSETTO:-0400
TZNAME:EDT
DTSTART:20270314T070000
END:DAYLIGHT
BEGIN:STANDARD
TZOFFSETFROM:-0400
TZOFFSETTO:-0500
TZNAME:EST
DTSTART:20271107T060000
END:STANDARD
END:VTIMEZONE
BEGIN:VEVENT
DTSTART;TZID=America/New_York:20260404T100000
DTEND;TZID=America/New_York:20260404T170000
DTSTAMP:20260423T142229
CREATED:20260302T181934Z
LAST-MODIFIED:20260302T181934Z
UID:10026879-1775296800-1775322000@mychq.org
SUMMARY:THE BUNNY HOP in Westfield\, NY
DESCRIPTION:THE BUNNY HOP in Westfield\, NY \n April 3 & 4\, 2026  \nEaster Egg Hunt ~ Meet the Easter Bunny ~ Treats ~ Golden Egg Hunt \nMovies ~ Easter Bonnet Contest and more. \nCheck the reminder below \nLook for the Bunny Stop Sign seen in this post to see who is participating. \nA post with complete details with dates\, times place and activities to follow. \nSponsored by The First Baotist Church (Easter Egg Hunt)\, Westfield’s shops and businesses\, the Patterson Library and Lake Shore Center For the Arts. \nFor more information call or text Marilyn Hemmer (716) 753-6043.
URL:https://mychq.org/event/the-bunny-hop-in-westfield-ny/2026-04-04/
LOCATION:Town of Westfield\, 31 E Main St\, Westfield\, 14787\, United States
CATEGORIES:Festivals & Fairs
ATTACH;FMTTYPE=image/jpeg:https://mychq.org/wp-content/uploads/2026/03/646042592_4361935094071756_2022729635514742608_n.jpg
ORGANIZER;CN="Westfield NY":MAILTO:westfieldmkt@gmail.com
END:VEVENT
BEGIN:VEVENT
DTSTART;TZID=America/New_York:20251213T110000
DTEND;TZID=America/New_York:20251213T150000
DTSTAMP:20260423T142229
CREATED:20251203T172314Z
LAST-MODIFIED:20251203T172314Z
UID:10023410-1765623600-1765638000@mychq.org
SUMMARY:Westfield's Annual Cookie Tour
DESCRIPTION:Join us for a day of shopping and delicious treats! Stop by all of these amazing stores to collect your treats!
URL:https://mychq.org/event/westfields-annual-cookie-tour/
LOCATION:Town of Westfield\, 31 E Main St\, Westfield\, 14787\, United States
CATEGORIES:Kids & Family
ATTACH;FMTTYPE=image/png:https://mychq.org/wp-content/uploads/2025/12/cookie-tour.png
ORGANIZER;CN="Westfield NY":MAILTO:westfieldmkt@gmail.com
END:VEVENT
BEGIN:VEVENT
DTSTART;TZID=America/New_York:20251123T080000
DTEND;TZID=America/New_York:20251123T170000
DTSTAMP:20260423T142229
CREATED:20251008T182857Z
LAST-MODIFIED:20251008T182857Z
UID:10022436-1763884800-1763917200@mychq.org
SUMMARY:CHRISTMAS IN WESTFIELD 2025
DESCRIPTION:SAVE THE DATE! \n\nCHRISTMAS iN THE VILLAGE Of WESTFIELD 2025 ~ NOVEMBER 21\, 22\, 23\nSomething for everyone! Family friendly activities!\nEvent details and final schedule to follow!\n\nQuestions? Call or text Marilyn Hemmer \n(716) 753-6043
URL:https://mychq.org/event/christmas-in-westfield-2025/2025-11-23/
LOCATION:Town of Westfield\, 31 E Main St\, Westfield\, 14787\, United States
CATEGORIES:Festivals & Fairs
ATTACH;FMTTYPE=image/jpeg:https://mychq.org/wp-content/uploads/2025/10/557701152_4213696732228927_2511582759405978640_n.jpg
ORGANIZER;CN="Westfield NY":MAILTO:westfieldmkt@gmail.com
END:VEVENT
BEGIN:VEVENT
DTSTART;TZID=America/New_York:20250920T070000
DTEND;TZID=America/New_York:20250920T170000
DTSTAMP:20260423T142229
CREATED:20250918T204749Z
LAST-MODIFIED:20250918T204749Z
UID:10021686-1758351600-1758387600@mychq.org
SUMMARY:3rd Annual Westfield Grape & Wine Festival
DESCRIPTION:Come to the 3rd Annual Westfield Grape and Wine Festival. Free Admission! Fun family events! Pie Baking Contests\, Vineyard Tours\, and Grape Stomping\, to name a few. More information can be found at https://www.westfieldny.com/living-here/westfield-grape-and-wine-festival
URL:https://mychq.org/event/3rd-annual-westfield-grape-wine-festival/2025-09-20/
LOCATION:Town of Westfield\, 31 E Main St\, Westfield\, 14787\, United States
CATEGORIES:Festivals & Fairs
ATTACH;FMTTYPE=image/jpeg:https://mychq.org/wp-content/uploads/2025/09/547399898_636146766218842_2662174152448684669_n.jpg
ORGANIZER;CN="Westfield NY":MAILTO:westfieldmkt@gmail.com
END:VEVENT
BEGIN:VEVENT
DTSTART;TZID=America/New_York:20250727T100000
DTEND;TZID=America/New_York:20250727T160000
DTSTAMP:20260423T142229
CREATED:20250611T174628Z
LAST-MODIFIED:20250611T174628Z
UID:10018338-1753610400-1753632000@mychq.org
SUMMARY:Westfield Community Wide Yard Sale Weekend
DESCRIPTION:The last weekend in July is fast approaching- here’s hoping there will be lots of fun yard sales to wander! The poster has plenty of room for tons more addresses!
URL:https://mychq.org/event/westfield-community-wide-yard-sale-weekend/2025-07-27/
LOCATION:Town of Westfield\, 31 E Main St\, Westfield\, 14787\, United States
CATEGORIES:Markets & Yard Sales
ATTACH;FMTTYPE=image/jpeg:https://mychq.org/wp-content/uploads/2025/06/505014703_10161427192507709_3249886552350959817_n.jpg
ORGANIZER;CN="Westfield NY":MAILTO:westfieldmkt@gmail.com
END:VEVENT
END:VCALENDAR