BEGIN:VCALENDAR
VERSION:2.0
PRODID:-//My CHQ - ECPv6.15.20//NONSGML v1.0//EN
CALSCALE:GREGORIAN
METHOD:PUBLISH
X-WR-CALNAME:My CHQ
X-ORIGINAL-URL:https://mychq.org
X-WR-CALDESC:Events for My CHQ
REFRESH-INTERVAL;VALUE=DURATION:PT1H
X-Robots-Tag:noindex
X-PUBLISHED-TTL:PT1H
BEGIN:VTIMEZONE
TZID:America/New_York
BEGIN:DAYLIGHT
TZOFFSETFROM:-0500
TZOFFSETTO:-0400
TZNAME:EDT
DTSTART:20250309T070000
END:DAYLIGHT
BEGIN:STANDARD
TZOFFSETFROM:-0400
TZOFFSETTO:-0500
TZNAME:EST
DTSTART:20251102T060000
END:STANDARD
BEGIN:DAYLIGHT
TZOFFSETFROM:-0500
TZOFFSETTO:-0400
TZNAME:EDT
DTSTART:20260308T070000
END:DAYLIGHT
BEGIN:STANDARD
TZOFFSETFROM:-0400
TZOFFSETTO:-0500
TZNAME:EST
DTSTART:20261101T060000
END:STANDARD
BEGIN:DAYLIGHT
TZOFFSETFROM:-0500
TZOFFSETTO:-0400
TZNAME:EDT
DTSTART:20270314T070000
END:DAYLIGHT
BEGIN:STANDARD
TZOFFSETFROM:-0400
TZOFFSETTO:-0500
TZNAME:EST
DTSTART:20271107T060000
END:STANDARD
END:VTIMEZONE
BEGIN:VEVENT
DTSTART;TZID=America/New_York:20260618T170000
DTEND;TZID=America/New_York:20260618T200000
DTSTAMP:20260423T031112
CREATED:20260417T135859Z
LAST-MODIFIED:20260417T135859Z
UID:10028228-1781802000-1781812800@mychq.org
SUMMARY:Step Up for Autism Color Run
DESCRIPTION:Join The Resource Center and Filling the Gap Inc. for our First Ever Color Run! \n5K Race as well as an Inclusive Loop! \nJune 18\, 2026 @ 200 Dunham Avenue\, Jamestown NY 14701 \nRegistration Starts at 5:00 PMRACE BEGINS AT 6:00 PM \n18 and Under – $15 registration fee19 and Over – $20 registration fee \nRegister today > https://runsignup.com/…/NY/Celoron/StepUpforAutismColorRun \nRegistration includes: \n* Official race t-shirt!* Color Stations Throughout the Course* Live Music & Community Celebration* Food and Drink \nJoin us for an evening of color\, community\, and connection! \n* Raise awareness about Autism* Celebrate inclusion* Bring our community together* Support individuals with disabilities \nRaising Awareness\, Creating Friendships and Promoting Acceptance.
URL:https://mychq.org/event/step-up-for-autism-color-run/
LOCATION:The Resource Center – Jamestown\, 200 Dunham Ave\, Jamestown\, 14701\, United States
CATEGORIES:Sports
ATTACH;FMTTYPE=image/jpeg:https://mychq.org/wp-content/uploads/2026/04/671691284_1579821544147056_1978904233294035214_n.jpg
ORGANIZER;CN="The Resource Center - Jamestown":MAILTO:steve.waterson@resourcecenter.org
END:VEVENT
END:VCALENDAR