BEGIN:VCALENDAR
VERSION:2.0
PRODID:-//Chautauqua County Events, Local Businesses &amp; Resources | My CHQ - ECPv6.15.20//NONSGML v1.0//EN
CALSCALE:GREGORIAN
METHOD:PUBLISH
X-WR-CALNAME:Chautauqua County Events, Local Businesses &amp; Resources | My CHQ
X-ORIGINAL-URL:https://mychq.org
X-WR-CALDESC:Events for Chautauqua County Events, Local Businesses &amp; Resources | My CHQ
REFRESH-INTERVAL;VALUE=DURATION:PT1H
X-Robots-Tag:noindex
X-PUBLISHED-TTL:PT1H
BEGIN:VTIMEZONE
TZID:America/New_York
BEGIN:DAYLIGHT
TZOFFSETFROM:-0500
TZOFFSETTO:-0400
TZNAME:EDT
DTSTART:20250309T070000
END:DAYLIGHT
BEGIN:STANDARD
TZOFFSETFROM:-0400
TZOFFSETTO:-0500
TZNAME:EST
DTSTART:20251102T060000
END:STANDARD
BEGIN:DAYLIGHT
TZOFFSETFROM:-0500
TZOFFSETTO:-0400
TZNAME:EDT
DTSTART:20260308T070000
END:DAYLIGHT
BEGIN:STANDARD
TZOFFSETFROM:-0400
TZOFFSETTO:-0500
TZNAME:EST
DTSTART:20261101T060000
END:STANDARD
BEGIN:DAYLIGHT
TZOFFSETFROM:-0500
TZOFFSETTO:-0400
TZNAME:EDT
DTSTART:20270314T070000
END:DAYLIGHT
BEGIN:STANDARD
TZOFFSETFROM:-0400
TZOFFSETTO:-0500
TZNAME:EST
DTSTART:20271107T060000
END:STANDARD
END:VTIMEZONE
BEGIN:VEVENT
DTSTART;TZID=America/New_York:20260314T180000
DTEND;TZID=America/New_York:20260314T210000
DTSTAMP:20260425T080213
CREATED:20260304T170217Z
LAST-MODIFIED:20260304T170217Z
UID:10026918-1773511200-1773522000@mychq.org
SUMMARY:80s/90s Themed Dance Party
DESCRIPTION:80’s and 90’s were the best\, we can all use a rewind and dance the night away. Get your 80s and 90s apparel out\, tease that hair and put on your blue eyeshadow! See you all Saturday March 14th! 6-9pm
URL:https://mychq.org/event/80s-90s-themed-dance-party/
LOCATION:The Old Tool Tavern\, 114 School St\, Randolph\, 14772\, United States
CATEGORIES:Adults Only & Parties
ATTACH;FMTTYPE=image/jpeg:https://mychq.org/wp-content/uploads/2026/03/637900548_1438455114732283_6627256780458792250_n.jpg
END:VEVENT
END:VCALENDAR