BEGIN:VCALENDAR
VERSION:2.0
PRODID:-//Chautauqua County Events, Local Businesses &amp; Resources | My CHQ - ECPv6.15.20//NONSGML v1.0//EN
CALSCALE:GREGORIAN
METHOD:PUBLISH
X-ORIGINAL-URL:https://mychq.org
X-WR-CALDESC:Events for Chautauqua County Events, Local Businesses &amp; Resources | My CHQ
REFRESH-INTERVAL;VALUE=DURATION:PT1H
X-Robots-Tag:noindex
X-PUBLISHED-TTL:PT1H
BEGIN:VTIMEZONE
TZID:America/New_York
BEGIN:DAYLIGHT
TZOFFSETFROM:-0500
TZOFFSETTO:-0400
TZNAME:EDT
DTSTART:20250309T070000
END:DAYLIGHT
BEGIN:STANDARD
TZOFFSETFROM:-0400
TZOFFSETTO:-0500
TZNAME:EST
DTSTART:20251102T060000
END:STANDARD
BEGIN:DAYLIGHT
TZOFFSETFROM:-0500
TZOFFSETTO:-0400
TZNAME:EDT
DTSTART:20260308T070000
END:DAYLIGHT
BEGIN:STANDARD
TZOFFSETFROM:-0400
TZOFFSETTO:-0500
TZNAME:EST
DTSTART:20261101T060000
END:STANDARD
BEGIN:DAYLIGHT
TZOFFSETFROM:-0500
TZOFFSETTO:-0400
TZNAME:EDT
DTSTART:20270314T070000
END:DAYLIGHT
BEGIN:STANDARD
TZOFFSETFROM:-0400
TZOFFSETTO:-0500
TZNAME:EST
DTSTART:20271107T060000
END:STANDARD
END:VTIMEZONE
BEGIN:VEVENT
DTSTART;TZID=America/New_York:20260117T170000
DTEND;TZID=America/New_York:20260117T190000
DTSTAMP:20260424T123703
CREATED:20260110T234522Z
LAST-MODIFIED:20260110T234522Z
UID:10024166-1768669200-1768676400@mychq.org
SUMMARY:Mocktails\, Cocktails\, and Misfires!
DESCRIPTION:Next Saturday the store will be closing at 5pm for an amazing new event! You are all invited to join us in beating the mid January doldrums with a fun gathering in a cozy\, unique space! It will run from 5:00-7:00pm on Saturday\, January 17th. Bring your worst Christmas gift misfires from any year to exchange or give away! There will be treats for sipping and snacking. Please RSVP to theeclecticbird@gmail.com. Looking forward to an entertaining evening in Uptown Mayville!
URL:https://mychq.org/event/mocktails-cocktails-and-misfires/
LOCATION:The Eclectic Bird\, 99 Ash St\, Mayville\, 14757\, United States
CATEGORIES:Adults Only & Parties
ATTACH;FMTTYPE=image/jpeg:https://mychq.org/wp-content/uploads/2026/01/614199802_122216047298273947_4700582077548740723_n.jpg
END:VEVENT
END:VCALENDAR