BEGIN:VCALENDAR
VERSION:2.0
PRODID:-//Chautauqua County Events, Local Businesses &amp; Resources | My CHQ - ECPv6.15.20//NONSGML v1.0//EN
CALSCALE:GREGORIAN
METHOD:PUBLISH
X-ORIGINAL-URL:https://mychq.org
X-WR-CALDESC:Events for Chautauqua County Events, Local Businesses &amp; Resources | My CHQ
REFRESH-INTERVAL;VALUE=DURATION:PT1H
X-Robots-Tag:noindex
X-PUBLISHED-TTL:PT1H
BEGIN:VTIMEZONE
TZID:America/New_York
BEGIN:DAYLIGHT
TZOFFSETFROM:-0500
TZOFFSETTO:-0400
TZNAME:EDT
DTSTART:20250309T070000
END:DAYLIGHT
BEGIN:STANDARD
TZOFFSETFROM:-0400
TZOFFSETTO:-0500
TZNAME:EST
DTSTART:20251102T060000
END:STANDARD
BEGIN:DAYLIGHT
TZOFFSETFROM:-0500
TZOFFSETTO:-0400
TZNAME:EDT
DTSTART:20260308T070000
END:DAYLIGHT
BEGIN:STANDARD
TZOFFSETFROM:-0400
TZOFFSETTO:-0500
TZNAME:EST
DTSTART:20261101T060000
END:STANDARD
BEGIN:DAYLIGHT
TZOFFSETFROM:-0500
TZOFFSETTO:-0400
TZNAME:EDT
DTSTART:20270314T070000
END:DAYLIGHT
BEGIN:STANDARD
TZOFFSETFROM:-0400
TZOFFSETTO:-0500
TZNAME:EST
DTSTART:20271107T060000
END:STANDARD
END:VTIMEZONE
BEGIN:VEVENT
DTSTART;TZID=America/New_York:20260425T090000
DTEND;TZID=America/New_York:20260425T130000
DTSTAMP:20260425T064537
CREATED:20251125T160014Z
LAST-MODIFIED:20251125T160014Z
UID:10023302-1777107600-1777122000@mychq.org
SUMMARY:2026 Winter Market Kick Off!
DESCRIPTION:Our winter market is back for a 2nd season and MORE dates!Join us the 2nd and 4th Saturday of each month\, January through May! Inside in the Undercroft of St. Luke’s!FREE Pancakes (GF & DF) Fresh and local food and handmade goods \nSee you at the market January 10th!
URL:https://mychq.org/event/2026-winter-market-kick-off/2026-04-25/
LOCATION:St. Luke’s Episcopal Church\, 410 N Main St\, Jamestown\, 14701\, United States
CATEGORIES:Markets & Yard Sales
ATTACH;FMTTYPE=image/jpeg:https://mychq.org/wp-content/uploads/2025/11/586031733_1622725278851434_419675276324648253_n.jpg
ORGANIZER;CN="Jamestown Farmers Market":MAILTO:info@jfmny.org
END:VEVENT
BEGIN:VEVENT
DTSTART;TZID=America/New_York:20260427T180000
DTEND;TZID=America/New_York:20260427T193000
DTSTAMP:20260425T064537
CREATED:20260112T163725Z
LAST-MODIFIED:20260112T163725Z
UID:10024171-1777312800-1777318200@mychq.org
SUMMARY:Monday Night Cafe 2026
DESCRIPTION:Monday Night Cafe is the free monthly community dinner offered by the Jamestown Farmers Market and St. Luke’s Church to celebrate the gift of belonging. \nMNC is an opportunity to relish all things local in our community–from new friends and neighbors met around the dinner table to the fresh local food featured from our local farmers and producers! The Menu changes each month and showcases the best offerings of the season.
URL:https://mychq.org/event/monday-night-cafe-2026/2026-04-27/
LOCATION:St. Luke’s Episcopal Church\, 410 N Main St\, Jamestown\, 14701\, United States
CATEGORIES:Food & Drink
ATTACH;FMTTYPE=image/jpeg:https://mychq.org/wp-content/uploads/2026/01/612110653_1321193906710175_8911568590721241313_n.jpg
ORGANIZER;CN="St. Luke's Episcopal Church":MAILTO:stlukes@stlukesjamestown.org
END:VEVENT
END:VCALENDAR