BEGIN:VCALENDAR
VERSION:2.0
PRODID:-//My CHQ - ECPv6.15.20//NONSGML v1.0//EN
CALSCALE:GREGORIAN
METHOD:PUBLISH
X-ORIGINAL-URL:https://mychq.org
X-WR-CALDESC:Events for My CHQ
REFRESH-INTERVAL;VALUE=DURATION:PT1H
X-Robots-Tag:noindex
X-PUBLISHED-TTL:PT1H
BEGIN:VTIMEZONE
TZID:America/New_York
BEGIN:DAYLIGHT
TZOFFSETFROM:-0500
TZOFFSETTO:-0400
TZNAME:EDT
DTSTART:20240310T070000
END:DAYLIGHT
BEGIN:STANDARD
TZOFFSETFROM:-0400
TZOFFSETTO:-0500
TZNAME:EST
DTSTART:20241103T060000
END:STANDARD
BEGIN:DAYLIGHT
TZOFFSETFROM:-0500
TZOFFSETTO:-0400
TZNAME:EDT
DTSTART:20250309T070000
END:DAYLIGHT
BEGIN:STANDARD
TZOFFSETFROM:-0400
TZOFFSETTO:-0500
TZNAME:EST
DTSTART:20251102T060000
END:STANDARD
BEGIN:DAYLIGHT
TZOFFSETFROM:-0500
TZOFFSETTO:-0400
TZNAME:EDT
DTSTART:20260308T070000
END:DAYLIGHT
BEGIN:STANDARD
TZOFFSETFROM:-0400
TZOFFSETTO:-0500
TZNAME:EST
DTSTART:20261101T060000
END:STANDARD
BEGIN:DAYLIGHT
TZOFFSETFROM:-0500
TZOFFSETTO:-0400
TZNAME:EDT
DTSTART:20270314T070000
END:DAYLIGHT
BEGIN:STANDARD
TZOFFSETFROM:-0400
TZOFFSETTO:-0500
TZNAME:EST
DTSTART:20271107T060000
END:STANDARD
END:VTIMEZONE
BEGIN:VEVENT
DTSTART;TZID=America/New_York:20260314T180000
DTEND;TZID=America/New_York:20260314T210000
DTSTAMP:20260423T081444
CREATED:20251125T161019Z
LAST-MODIFIED:20251125T161019Z
UID:10023305-1773511200-1773522000@mychq.org
SUMMARY:Ion Sky Trio Unplugged @ South Dayton American Legion
DESCRIPTION:Let’s celebrate St. Patrick’s Day Weekend with all your acoustic favorites at the South Dayton Legion and Ion Sky.
URL:https://mychq.org/event/ion-sky-trio-unplugged-south-dayton-american-legion/
LOCATION:South Dayton American Legion #1593\, 4 Mill St\, South Dayton\, 14138\, United States
CATEGORIES:Music & Entertainment
ATTACH;FMTTYPE=image/jpeg:https://mychq.org/wp-content/uploads/2024/12/469051756_1159122642256482_1409042906988357216_n.jpg
ORGANIZER;CN="Ion Sky":MAILTO:grav7785@hotmail.com
END:VEVENT
BEGIN:VEVENT
DTSTART;TZID=America/New_York:20250827T180000
DTEND;TZID=America/New_York:20250827T210000
DTSTAMP:20260423T081444
CREATED:20250602T154339Z
LAST-MODIFIED:20250602T154339Z
UID:10017798-1756317600-1756328400@mychq.org
SUMMARY:Horseshoes @ South Dayton American Legion
DESCRIPTION:Come play horseshoes\, $10 per person\, open to the public!
URL:https://mychq.org/event/horseshoes-south-dayton-american-legion/2025-08-27/
LOCATION:South Dayton American Legion #1593\, 4 Mill St\, South Dayton\, 14138\, United States
CATEGORIES:Sports
ATTACH;FMTTYPE=image/jpeg:https://mychq.org/wp-content/uploads/2025/06/494680680_10161738155393071_3759509745899524448_n.jpg
END:VEVENT
END:VCALENDAR