BEGIN:VCALENDAR
VERSION:2.0
PRODID:-//Chautauqua County Events, Local Businesses &amp; Resources | My CHQ - ECPv6.15.20//NONSGML v1.0//EN
CALSCALE:GREGORIAN
METHOD:PUBLISH
X-ORIGINAL-URL:https://mychq.org
X-WR-CALDESC:Events for Chautauqua County Events, Local Businesses &amp; Resources | My CHQ
REFRESH-INTERVAL;VALUE=DURATION:PT1H
X-Robots-Tag:noindex
X-PUBLISHED-TTL:PT1H
BEGIN:VTIMEZONE
TZID:America/New_York
BEGIN:DAYLIGHT
TZOFFSETFROM:-0500
TZOFFSETTO:-0400
TZNAME:EDT
DTSTART:20240310T070000
END:DAYLIGHT
BEGIN:STANDARD
TZOFFSETFROM:-0400
TZOFFSETTO:-0500
TZNAME:EST
DTSTART:20241103T060000
END:STANDARD
BEGIN:DAYLIGHT
TZOFFSETFROM:-0500
TZOFFSETTO:-0400
TZNAME:EDT
DTSTART:20250309T070000
END:DAYLIGHT
BEGIN:STANDARD
TZOFFSETFROM:-0400
TZOFFSETTO:-0500
TZNAME:EST
DTSTART:20251102T060000
END:STANDARD
BEGIN:DAYLIGHT
TZOFFSETFROM:-0500
TZOFFSETTO:-0400
TZNAME:EDT
DTSTART:20260308T070000
END:DAYLIGHT
BEGIN:STANDARD
TZOFFSETFROM:-0400
TZOFFSETTO:-0500
TZNAME:EST
DTSTART:20261101T060000
END:STANDARD
BEGIN:DAYLIGHT
TZOFFSETFROM:-0500
TZOFFSETTO:-0400
TZNAME:EDT
DTSTART:20270314T070000
END:DAYLIGHT
BEGIN:STANDARD
TZOFFSETFROM:-0400
TZOFFSETTO:-0500
TZNAME:EST
DTSTART:20271107T060000
END:STANDARD
END:VTIMEZONE
BEGIN:VEVENT
DTSTART;TZID=America/New_York:20260405T103000
DTEND;TZID=America/New_York:20260405T160000
DTSTAMP:20260425T202527
CREATED:20260204T193704Z
LAST-MODIFIED:20260204T193704Z
UID:10024729-1775385000-1775404800@mychq.org
SUMMARY:Easter Brunch
DESCRIPTION:Celebrate Easter Sunday with classic brunch favorites\, chef-crafted specialties\, and a selection of sweet treats for a memorable holiday gathering. \nEaster Sunday | April 5\, 2026Seating Times: 10:30 AM – 4:00 PM \nPricing:Adults – $64Children (ages 6–11) – $28Children 5 and under – Complimentary \nCoffee & water included. \nReservations are required. Call (716) 355-4141 ext. 7146 or book online via OpenTable.
URL:https://mychq.org/event/easter-brunch/
LOCATION:Peek’n Peak\, 1405 Olde Rd\, Clymer\, 14724\, United States
CATEGORIES:Food & Drink
ATTACH;FMTTYPE=image/jpeg:https://mychq.org/wp-content/uploads/2026/02/625042556_1348355607334618_7623093411809383923_n.jpg
ORGANIZER;CN="Peek'n Peak":MAILTO:info@pknpk.com
END:VEVENT
BEGIN:VEVENT
DTSTART;TZID=America/New_York:20260315T110000
DTEND;TZID=America/New_York:20260315T150000
DTSTAMP:20260425T202527
CREATED:20260204T193600Z
LAST-MODIFIED:20260204T193600Z
UID:10024728-1773572400-1773586800@mychq.org
SUMMARY:Spring Fest 2026
DESCRIPTION:Everyone’s favorite party weekend is back at The Peak! \nSpring Fest Weekend returns with live music\, DJ parties\, great food and drinks\, plus our iconic Cardboard Box Derby and Pond Skim. This year’s theme is St. Patrick’s Day\, so break out your best Irish gear and join the fun. \nEvent Highlights: \n-Live music & DJ parties all weekend-Cardboard Box Derby-Pond Skim-Food\, drinks\, and après-ski vibes \nSaturday\, March 14-Cardboard Box DerbyBeginner’s Hill | 11:00 AM – 12:00 PMRegistration begins at 9:30 AM at the Main LodgeRegister here:https://www.eventbrite.com/…/spring-fest-cardboard-box… \n-Pond SkimBehind The Lodge | 2:00 PMRegistration from 11:00 AM – 12:00 PM in The Lodge Lobby
URL:https://mychq.org/event/spring-fest-2026/2026-03-15/
LOCATION:Peek’n Peak\, 1405 Olde Rd\, Clymer\, 14724\, United States
CATEGORIES:Festivals & Fairs
ATTACH;FMTTYPE=image/jpeg:https://mychq.org/wp-content/uploads/2026/02/615437981_1333744835462362_7002817031460732759_n.jpg
ORGANIZER;CN="Peek'n Peak":MAILTO:info@pknpk.com
END:VEVENT
BEGIN:VEVENT
DTSTART;TZID=America/New_York:20260314T140000
DTEND;TZID=America/New_York:20260314T150000
DTSTAMP:20260425T202527
CREATED:20260303T155138Z
LAST-MODIFIED:20260303T155138Z
UID:10026886-1773496800-1773500400@mychq.org
SUMMARY:Pond Skim 2026 at Spring Fest
DESCRIPTION: Pond Skim 2026 at Spring Fest  \nSaturday\, March 14New Location This Year: Behind the Lodge \nWho’s ready to skim? Grab your gear and take the challenge to see how far you can make it across the pond. Prizes will be awarded — and don’t forget\, this year’s theme is St. Patrick’s Day\, so wear your green! \nSchedule:• Registration: 11:00 AM – 12:00 PM (Behind the Lodge)• Pond Skim Begins: 2:00 PM \nCome dressed to impress and ready to make a splash!
URL:https://mychq.org/event/pond-skim-2026-at-spring-fest/
LOCATION:Peek’n Peak\, 1405 Olde Rd\, Clymer\, 14724\, United States
CATEGORIES:Festivals & Fairs
ATTACH;FMTTYPE=image/jpeg:https://mychq.org/wp-content/uploads/2026/03/638852961_1364266355743543_1188016181798724343_n.jpg
ORGANIZER;CN="Peek'n Peak":MAILTO:info@pknpk.com
END:VEVENT
BEGIN:VEVENT
DTSTART;TZID=America/New_York:20260314T110000
DTEND;TZID=America/New_York:20260314T120000
DTSTAMP:20260425T202527
CREATED:20260303T155054Z
LAST-MODIFIED:20260303T155054Z
UID:10026885-1773486000-1773489600@mychq.org
SUMMARY:Peek’n Peak’s 2026 Cardboard Box Derby
DESCRIPTION: Peek’n Peak’s 2026 Cardboard Box Derby Saturday\, March 14 during Spring Fest | Beginner’s Hill \nCalling all cardboard craftsmen! Start gathering boxes and sketching your plans — it’s time to turn cardboard\, glue\, tape\, and paper into vehicles that can survive a ride down the Beginner’s Hill.Grab your coworkers\, friends\, family\, or organization and build something unforgettable. \n Register your team now:https://www.eventbrite.com/…/spring-fest-cardboard-box… \nEvent Schedule• Registration & Check-In: 9:30 AM at The Lodge• Sled Inspection: 10:00 AM at Beginner’s Hill• Derby Begins: 11:00 AM \nKey Rules• Vehicles may be no wider than 12 feet• Must carry 1–6 riders (pilots must finish in the box)• Helmets required• Family-friendly designs only• Ages 3+• Costumes and team spirit encouraged \nPrizes awarded separately for Kids and Adults: Creativity Best Team Spirit Fastest Time \nFull rules available at registration link.
URL:https://mychq.org/event/peekn-peaks-2026-cardboard-box-derby/
LOCATION:Peek’n Peak\, 1405 Olde Rd\, Clymer\, 14724\, United States
CATEGORIES:Festivals & Fairs
ATTACH;FMTTYPE=image/jpeg:https://mychq.org/wp-content/uploads/2026/03/638781987_1364259145744264_4516138467475634081_n.jpg
ORGANIZER;CN="Peek'n Peak":MAILTO:info@pknpk.com
END:VEVENT
BEGIN:VEVENT
DTSTART;TZID=America/New_York:20260207T120000
DTEND;TZID=America/New_York:20260207T170000
DTSTAMP:20260425T202527
CREATED:20260114T212046Z
LAST-MODIFIED:20260114T212046Z
UID:10024284-1770465600-1770483600@mychq.org
SUMMARY:2026 Chili Cook-Off at Peek’n Peak
DESCRIPTION: 2026 Chili Cook-Off at Peek’n Peak  \nPeek’n Peak is once again searching for the area’s best chili! Think you have the winning recipe? Put your skills to the test or come hungry and vote for your favorite. \n Proceeds benefit the dedicated volunteer fire departments serving the Clymer\, Sherman\, and Findley Lake communities. \n What to expect:• Samples of the area’s best chili• People’s Choice voting• DJ Mark with music\, games & prizes• $500 Grand Prize for Best Overall Chili• Awards for Spiciest Chili\, Most Unique Recipe\, Best Team Spirit & Best Decorated Booth \n Location: The Retreat at Peek’n Peak Date: Saturday\, February 7 Time: 12:00 PM – 5:00 PM \n Admission (at the door):• $15 Adults• $5 Children 11 & under \n Chili Contestants:• No entry fee to compete• Up to two vendors per booth• Register your chili here: https://www.eventbrite.com/…/peekn-peak-chili-cook-off… \nCome compete\, come taste\, or come cheer — it’s a fun-filled afternoon for a great cause!
URL:https://mychq.org/event/2026-chili-cook-off-at-peekn-peak/
LOCATION:Peek’n Peak\, 1405 Olde Rd\, Clymer\, 14724\, United States
CATEGORIES:Food & Drink
ATTACH;FMTTYPE=image/jpeg:https://mychq.org/wp-content/uploads/2026/01/606144886_1317377647099081_8140929301734667893_n.jpg
ORGANIZER;CN="Peek'n Peak":MAILTO:info@pknpk.com
END:VEVENT
BEGIN:VEVENT
DTSTART;TZID=America/New_York:20251231T180000
DTEND;TZID=America/New_York:20251231T235900
DTSTAMP:20260425T202527
CREATED:20251117T160540Z
LAST-MODIFIED:20251117T160540Z
UID:10023041-1767204000-1767225540@mychq.org
SUMMARY:New Years Eve Masquerade Party & Prime Rib Buffet
DESCRIPTION:Ring in the New Year in Style! \nCelebrate with great food\, music\, and festive masks at our Mardi Gras–themed New Year’s Eve Party at Bistro 210! \nEntertainment: DJ Josh with Sound Investment \nEvent Tickets: $125 per personIncludes:-Two drink tickets-Private bar access-Prime Rib buffet-Midnight munchies & dessert stations-Champagne toast at midnight-Live entertainment \nPrime Rib Buffet Only:-Adults: $82 per person-Ages 6–11: $38-Children 5 & under: Complimentary \nBoth ticket options include the Champagne toast and entertainment. \nLearn more and reserve your spot: www.pknpk.com/special-events/nye-party
URL:https://mychq.org/event/new-years-eve-masquerade-party-prime-rib-buffet/
LOCATION:Peek’n Peak\, 1405 Olde Rd\, Clymer\, 14724\, United States
CATEGORIES:Adults Only & Parties
ATTACH;FMTTYPE=image/jpeg:https://mychq.org/wp-content/uploads/2025/11/581491855_1282083843961795_1439103970925116472_n.jpg
ORGANIZER;CN="Peek'n Peak":MAILTO:info@pknpk.com
END:VEVENT
BEGIN:VEVENT
DTSTART;TZID=America/New_York:20251214T080000
DTEND;TZID=America/New_York:20251214T120000
DTSTAMP:20260425T202527
CREATED:20251117T160430Z
LAST-MODIFIED:20251117T160430Z
UID:10023040-1765699200-1765713600@mychq.org
SUMMARY:Breakfast with Santa @ Peek'n Peak
DESCRIPTION:Breakfast With Santa at Bistro 210December 7 & 14\, 2025 \nGather your friends and family for Peek’n Peak’s beloved Breakfast with Santa! \nEnjoy a delicious breakfast buffet featuring scrambled eggs\, bacon\, sausage\, home fries\, pastries\, fresh fruit\, and more. \nSeatings: 8 AM – 12 PM (last seating at noon)Pricing: Adults $25 | Kids $18Add-on: Hot Chocolate Bar for $7 \nYour experience includes the breakfast buffet\, craft stations\, photo opportunities with Santa\, and a gift from Santa. \nReservations are requiredCall (716) 355-4141 ext. 7146 or reserve online at www.opentable.com/r/bistro-210-clymer
URL:https://mychq.org/event/breakfast-with-santa-peekn-peak/2025-12-14/
LOCATION:Peek’n Peak\, 1405 Olde Rd\, Clymer\, 14724\, United States
CATEGORIES:Kids & Family
ATTACH;FMTTYPE=image/jpeg:https://mychq.org/wp-content/uploads/2025/11/581713318_1282150263955153_3088544792937894127_n.jpg
ORGANIZER;CN="Peek'n Peak":MAILTO:info@pknpk.com
END:VEVENT
BEGIN:VEVENT
DTSTART;TZID=America/New_York:20251206T170000
DTEND;TZID=America/New_York:20251206T190000
DTSTAMP:20260425T202527
CREATED:20251117T160304Z
LAST-MODIFIED:20251117T160304Z
UID:10023038-1765040400-1765047600@mychq.org
SUMMARY:Job Fairs @ Peek'n Peak
DESCRIPTION:Job Fair dates: \nDecember 4\, 2025\, from 5 PM to 7 PM \nDecember 6\, 2025\, from 9 AM to 12 PM \nDecember 6\, 2025\, from 5 PM to 7 PM \nAll departments will be hiring both full-time and part-time workers. We have jobs available that fit all skill and experience levels.
URL:https://mychq.org/event/job-fairs-peekn-peak/2025-12-06/2/
LOCATION:Peek’n Peak\, 1405 Olde Rd\, Clymer\, 14724\, United States
CATEGORIES:Job Search & Employment
ATTACH;FMTTYPE=image/jpeg:https://mychq.org/wp-content/uploads/2025/11/576376442_1277370511099795_4385258852439236061_n.jpg
ORGANIZER;CN="Peek'n Peak":MAILTO:info@pknpk.com
END:VEVENT
BEGIN:VEVENT
DTSTART;TZID=America/New_York:20251206T083000
DTEND;TZID=America/New_York:20251206T220000
DTSTAMP:20260425T202527
CREATED:20251202T193616Z
LAST-MODIFIED:20251202T193616Z
UID:10023365-1765009800-1765058400@mychq.org
SUMMARY:Opening Day 2025
DESCRIPTION:Get ready for Opening Day 2025 at Peek’n Peak on Saturday\, December 6! \nSeason Passholders can enjoy early access to the slopes beginning at 8:30 AM\, with the general public joining the fun at 10 AM. Kick off the season with a full day of skiing\, snow\, and excitement! \nLift tickets will be $40. Lessons will not be offered until 12/13. \nEnjoy music\, giveaways\, and celebrate the start of another great season! \nPlease note: Opening Day is weather-dependent and subject to change.
URL:https://mychq.org/event/opening-day-2025/
LOCATION:Peek’n Peak\, 1405 Olde Rd\, Clymer\, 14724\, United States
CATEGORIES:Outdoors & Nature
ATTACH;FMTTYPE=image/jpeg:https://mychq.org/wp-content/uploads/2025/12/589740644_1295580552612124_4299281446238772899_n.jpg
ORGANIZER;CN="Peek'n Peak":MAILTO:info@pknpk.com
END:VEVENT
BEGIN:VEVENT
DTSTART;TZID=America/New_York:20251127T110000
DTEND;TZID=America/New_York:20251127T160000
DTSTAMP:20260425T202527
CREATED:20251117T160056Z
LAST-MODIFIED:20251117T160056Z
UID:10023035-1764241200-1764259200@mychq.org
SUMMARY:Thanksgiving Brunch at Bistro 210
DESCRIPTION:Join us for Thanksgiving Brunch at Bistro 210! \nCelebrate the holiday with family and friends at Peek’n Peak’s festive Thanksgiving Brunch. \nTime: 11 AM – 4 PMAdults: $58.95Kids: $24.95Ages 5 & Under: Free \nEnjoy a delicious spread featuring multiple stations\, including:– Appetizers– Shrimp Cocktail– Charcuterie– Salad Bar– Turkey & Prime Rib Carving Station– Dessert Station \nReservations are required.Please call (716) 355-4141 x 7146 to reserve your table.
URL:https://mychq.org/event/thanksgiving-brunch-at-bistro-210/
LOCATION:Peek’n Peak\, 1405 Olde Rd\, Clymer\, 14724\, United States
CATEGORIES:Food & Drink
ATTACH;FMTTYPE=image/jpeg:https://mychq.org/wp-content/uploads/2025/11/579257949_1280296994140480_6965439371009345946_n.jpg
ORGANIZER;CN="Peek'n Peak":MAILTO:info@pknpk.com
END:VEVENT
BEGIN:VEVENT
DTSTART;TZID=America/New_York:20251123T170000
DTEND;TZID=America/New_York:20251123T200000
DTSTAMP:20260425T202527
CREATED:20250924T171526Z
LAST-MODIFIED:20250924T171526Z
UID:10021995-1763917200-1763928000@mychq.org
SUMMARY:Medieval Feast
DESCRIPTION:The Riverside Players have brought the legendary Medieval Feast to Peek’n Peak! Be our guest as you journey back to the age of kings and queens\, knights and damsels\, jesters and jousters! Join in the fun as your wenches and knaves not only perform… they also serve a plentiful feast! Eat\, drink and be merry! All without utensils! A note to those who will attending please bring cash to tip the actors because credit cards were not around in Medieval times!
URL:https://mychq.org/event/medieval-feast/2025-11-23/
LOCATION:Peek’n Peak\, 1405 Olde Rd\, Clymer\, 14724\, United States
CATEGORIES:Food & Drink
ATTACH;FMTTYPE=image/jpeg:https://mychq.org/wp-content/uploads/2025/09/548887718_1230960919074088_5450946437790926968_n.jpg
ORGANIZER;CN="Peek'n Peak":MAILTO:info@pknpk.com
END:VEVENT
BEGIN:VEVENT
DTSTART;TZID=America/New_York:20251108T213000
DTEND;TZID=America/New_York:20251108T235900
DTSTAMP:20260425T202527
CREATED:20250924T171225Z
LAST-MODIFIED:20250924T171225Z
UID:10021987-1762637400-1762646340@mychq.org
SUMMARY:Bistro After Dark Concert Series
DESCRIPTION:Join us at Bistro 210 for tons of live music all year long! All shows (unless marked otherwise) are from 9:30PM – 12:30AM. \n\nSeptember 27 – Akoostically Challenged Trio\n \nOctober 3 – DJ Tito B\nOctober 4 – Lopaka Rootz Duo\nOctober 10 – DJ Felix\nOctober 11 – Bad Habit\nOctober 17 – DJ Felix\nOctober 18 – Theory of Evolution\nOctober 24 – DJ Tito B\nOctober 25 – Wicked Goose\nOctober 31 – DJ Felix (Halloween Party)  \n\n November 1 – Interstate Daydream\nNovember 7 – DJ Tito B\nNovember 8 – Hyde & Seek  
URL:https://mychq.org/event/bistro-after-dark-concert-series/2025-11-08/
LOCATION:Peek’n Peak\, 1405 Olde Rd\, Clymer\, 14724\, United States
CATEGORIES:Music & Entertainment
ATTACH;FMTTYPE=image/png:https://mychq.org/wp-content/uploads/2025/09/bristo.png
ORGANIZER;CN="Peek'n Peak":MAILTO:info@pknpk.com
END:VEVENT
BEGIN:VEVENT
DTSTART;TZID=America/New_York:20251108T170000
DTEND;TZID=America/New_York:20251108T200000
DTSTAMP:20260425T202527
CREATED:20250924T171350Z
LAST-MODIFIED:20250924T171350Z
UID:10021988-1762621200-1762632000@mychq.org
SUMMARY:The Wurst Party Ever
DESCRIPTION:The Wurst Party Ever is back! \nJoin us for Peek’n Peak’s 12th annual German Beer Festival — a celebration of beers\, brats\, and bands you won’t forget. \n What to Expect: \n-Sample beers from 42 taps-Savor authentic German dishes-Dance the night away with a massive 26-piece German band \n Your Ticket Includes: \n-Six food tickets (enough for bratwurst with kraut\, German potato salad\, Bavarian cheddar soup — or mix and match your favorites)-A souvenir stein or wine glass-Access to group activities and a photo op with the 26-piece German band \nThis year’s festival promises to be the Wurst Party yet! \nGet your tickets here: https://se-pknpk.secure-cdn.na2.accessoticketing.com/…
URL:https://mychq.org/event/the-wurst-party-ever/
LOCATION:Peek’n Peak\, 1405 Olde Rd\, Clymer\, 14724\, United States
CATEGORIES:Food & Drink
ATTACH;FMTTYPE=image/jpeg:https://mychq.org/wp-content/uploads/2025/09/549772355_1230954552408058_8339646233690193363_n.jpg
ORGANIZER;CN="Peek'n Peak":MAILTO:info@pknpk.com
END:VEVENT
BEGIN:VEVENT
DTSTART;TZID=America/New_York:20251019T100000
DTEND;TZID=America/New_York:20251019T170000
DTSTAMP:20260425T202527
CREATED:20250627T190755Z
LAST-MODIFIED:20250627T190755Z
UID:10018844-1760868000-1760893200@mychq.org
SUMMARY:37th Annual Fall Fest @ Peek'n Peak
DESCRIPTION:Peek’n Peak’s Fall Fest is Back!Mark your calendars for two festive weekends filled with fun for the whole family — October 11–12 and 18–19! \nJoin us for a celebration of all things fall\, featuring: Unique Vendors Live Music Family-Friendly Activities Seasonal Treats…and so much more! \nInterested in becoming a vendor? The application is now open at pknpkfallfest.com.
URL:https://mychq.org/event/37th-annual-fall-fest-peekn-peak/2025-10-19/
LOCATION:Peek’n Peak\, 1405 Olde Rd\, Clymer\, 14724\, United States
CATEGORIES:Festivals & Fairs
ATTACH;FMTTYPE=image/jpeg:https://mychq.org/wp-content/uploads/2025/06/502849157_1142094201294094_8656954387623484901_n.jpg
ORGANIZER;CN="Peek'n Peak":MAILTO:info@pknpk.com
END:VEVENT
BEGIN:VEVENT
DTSTART;TZID=America/New_York:20251018T100000
DTEND;TZID=America/New_York:20251018T150000
DTSTAMP:20260425T202527
CREATED:20250924T171025Z
LAST-MODIFIED:20250924T171025Z
UID:10021974-1760781600-1760799600@mychq.org
SUMMARY:Peek’n Peak Soapbox Derby
DESCRIPTION:Peek’n Peak Soapbox Derby \n\n\n\n\nRegister Your Team Now! CLICK HERE \n\n\n\n\nRegistration 10 AM – 11 AM \nRaces Start at 12 at the Bunny Hill. \nThe Soap Box Derby isn’t just about speed but its about style and safety! Get creative with your builds but make sure to keep the weight under 175 LBS! \n  \nCheck out the Rules below!
URL:https://mychq.org/event/peekn-peak-soapbox-derby/
LOCATION:Peek’n Peak\, 1405 Olde Rd\, Clymer\, 14724\, United States
CATEGORIES:Sports
ATTACH;FMTTYPE=image/png:https://mychq.org/wp-content/uploads/2025/09/Untitled-design-1.png
ORGANIZER;CN="Peek'n Peak":MAILTO:info@pknpk.com
END:VEVENT
BEGIN:VEVENT
DTSTART;TZID=America/New_York:20251011T080000
DTEND;TZID=America/New_York:20251011T150000
DTSTAMP:20260425T202527
CREATED:20250808T180029Z
LAST-MODIFIED:20250808T180029Z
UID:10020578-1760169600-1760194800@mychq.org
SUMMARY:Southern Tier Classic Car Club Car Shows
DESCRIPTION:Southern Tier Classic Car Club Show Dates Announced. The show dates are Saturday\, August 16th at Celoron Moose Lodge in Celoron\, New York\, and Saturday\, October 11th for the Peek N Peak car show in Clymer\, New York.
URL:https://mychq.org/event/southern-tier-classic-car-club-car-shows/2025-10-11/
LOCATION:Celoron Moose Lodge 2587\, 52 Dunham Ave\, Celoron\, 14720\, United States
CATEGORIES:Car Show
ATTACH;FMTTYPE=image/jpeg:https://mychq.org/wp-content/uploads/2025/08/529010324_24449536091307243_3294094575839916406_n.jpg
END:VEVENT
BEGIN:VEVENT
DTSTART;TZID=America/New_York:20250913T080000
DTEND;TZID=America/New_York:20250913T170000
DTSTAMP:20260425T202527
CREATED:20250611T183559Z
LAST-MODIFIED:20250611T183559Z
UID:10018361-1757750400-1757782800@mychq.org
SUMMARY:Volleyball League at Peek'N Peak
DESCRIPTION:We are excited to be bringing back Volleyball at Peek’n Peak! \nOur nets are designed for versatility and are adjustable to suit men’s\, women’s\, coed\, and junior heights. Elevate your game with AVP Optx volleyballs\, ensuring a top-notch experience! \nPower 4’s Volleyball League 2025 Season: \nSign up deadline: May 22nd \nPlease complete a waiver prior to participating! \nLeague Rules: \n\n\nTeam Composition: Each team must have at least one female player at all times during the game. \n\n\nEligibility for Playoffs: To be eligible for the playoffs on July 23rd\, a player must be present for more than half of the regular season games. \n\n\nGame Format: Games are played to 21 points\, win by 2 points. \n\n\nPlayoffs (July 23rd): \n\n\nBest of 3 sets: \n\n\nFirst two sets to 25 points\, win by 2. \n\n\nThird set (if necessary) to 15 points. \n\n\n\n\n\n\nSelf-Officiating: Games are self-officiated but must be held to a higher standard\, as this is a power league. \n\n\nTeams are expected to maintain a high level of sportsmanship and fairness. \n\n\nAny disputes can be brought to the League Director. \n\n\n\n\nReporting Scores: Scores must be reported to the League Director after each game. \n\n\nStandings: Weekly standings will be sent out every Monday. \n\n\nTop 8 Teams: Top 8 teams qualify for the playoffs. \n\n\nTeam Captain: Required for each team; they will be the main point of contact. \n\n\nSportsmanship: High expectations for sportsmanship both on and off the court. \n\n\nLeague Fees: $150 per team \nSign Up Here  \n\nJune 7th: Coed 6’s\nJune 14th: Women’s Power 4’s\nJuly 4th: Weekend Stars\, Stripes\, and Spikes Coed Tournament\nJuly 20th: Men’s Doubles\nAugust 9th: Coed Power 4’s\nAugust 23rd: Coed’s 6’s\nSeptember 13th: Women’s Doubles
URL:https://mychq.org/event/volleyball-league-at-peekn-peak/2025-09-13/
LOCATION:Peek’n Peak\, 1405 Olde Rd\, Clymer\, 14724\, United States
CATEGORIES:Sports
ATTACH;FMTTYPE=image/png:https://mychq.org/wp-content/uploads/2025/06/Volleyball-Poster.png
ORGANIZER;CN="Peek'n Peak":MAILTO:info@pknpk.com
END:VEVENT
BEGIN:VEVENT
DTSTART;TZID=America/New_York:20250831T180000
DTEND;TZID=America/New_York:20250831T220000
DTSTAMP:20260425T202527
CREATED:20250409T161331Z
LAST-MODIFIED:20250409T161331Z
UID:10016083-1756663200-1756677600@mychq.org
SUMMARY:Bonfires & Brews!
DESCRIPTION:June 28 – August 31\nAll Shows: 6PM – 10PM\nLocation: Gazebo Grill Main Stage \n\n\n\n\nEnjoy summer nights at our Gazebo Grill Main Stage with great food & beer specials\, lawn games\, s’mores\, fire pits\, and live music! Don’t forget\, we’re dog friendly! \nLive Music Lineup: \nJune 28 – Theory of Evolution\nJuly 5 – Two For Flinching\nJuly 12 – Tiny Music\nJuly 19 – Suns of Beaches\nJuly 26 – Hellz Bellz\nAugust 2 – Taylor Remaid\nAugust 9 – Dirty Shirley\nAugust 16 – Crush\nAugust 30 – Ray & The County Kind\nAugust 31 – The Swamp Yankees
URL:https://mychq.org/event/bonfires-brews/2025-08-31/
LOCATION:Peek’n Peak\, 1405 Olde Rd\, Clymer\, 14724\, United States
CATEGORIES:Music & Entertainment
ATTACH;FMTTYPE=image/png:https://mychq.org/wp-content/uploads/2025/04/Condensed-Web-Event-Img.-Bonfires-_-Brews-01.png
ORGANIZER;CN="Peek'n Peak":MAILTO:info@pknpk.com
END:VEVENT
BEGIN:VEVENT
DTSTART;TZID=America/New_York:20250830T120000
DTEND;TZID=America/New_York:20250830T160000
DTSTAMP:20260425T202527
CREATED:20250611T183047Z
LAST-MODIFIED:20250611T183047Z
UID:10018354-1756555200-1756569600@mychq.org
SUMMARY:2025 Cabana Pool Parties @ Peek'n Peak
DESCRIPTION:Party poolside at Peek’n Peak all summer long! Join us from 12 pm to 4 pm for summer pool parties featuring DJs\, games\, and giveaways. Plus\, enjoy food and drinks from the Cabana Bar! \nJune 14 | DJ Felix \nJuly 5 | DJ Campbell\nJuly 12 | DJ Campbell\nJuly 19 | DJ Felix \nAugust 2 | DJ Tito\nAugust 9 | DJ Felix\nAugust 23 | DJ Campbell\nAugust 30 | DJ Tito
URL:https://mychq.org/event/2025-cabana-pool-parties-peekn-peak/2025-08-30/
LOCATION:Peek’n Peak\, 1405 Olde Rd\, Clymer\, 14724\, United States
CATEGORIES:Kids & Family
ATTACH;FMTTYPE=image/png:https://mychq.org/wp-content/uploads/2025/06/Peekn-Peak-pool.png
ORGANIZER;CN="Peek'n Peak":MAILTO:info@pknpk.com
END:VEVENT
BEGIN:VEVENT
DTSTART;TZID=America/New_York:20250824T080000
DTEND;TZID=America/New_York:20250824T120000
DTSTAMP:20260425T202527
CREATED:20250409T161553Z
LAST-MODIFIED:20250409T161553Z
UID:10016086-1756022400-1756036800@mychq.org
SUMMARY:Country Music Weekend!
DESCRIPTION:Three Days of Country Fun \n\n\n\n\nSAVE THE DATE & CHECK BACK SOON FOR THE FULL EVENT LINEUP!  \nFriday\, August 22\n–Country Style Dinner Features @ Bistro 210 | Starting at 5pm \nSaturday\, August 23\n–Country Breakfast Buffet @ Bistro 210 | 8am – 11:30am | Adults: $18.99 | Kids: $14.99 | 5 & under: $5\n–Country Style Pool Party @ Cabana Bar/Outdoor Pool | 12pm – 4pm \nThe Chris Higbee Band @ Slope-Side Behind Main Lodge |\nGeneral Admission & VIP Tickets Coming Soon!\nOPENING ACT: TBD \nSunday\, August 24\n–Country Breakfast Buffet @ Bistro 210 | 8am – 11:30am | Adults: $18.99 | Kids: $14.99 | 5 & under: $5 \nOvernight Packages are available for purchase here!
URL:https://mychq.org/event/country-music-weekend/2025-08-24/
LOCATION:Peek’n Peak\, 1405 Olde Rd\, Clymer\, 14724\, United States
CATEGORIES:Festivals & Fairs
ATTACH;FMTTYPE=image/jpeg:https://mychq.org/wp-content/uploads/2025/04/Simplified-Web-Img-01-1.jpg
ORGANIZER;CN="Peek'n Peak":MAILTO:info@pknpk.com
END:VEVENT
BEGIN:VEVENT
DTSTART;TZID=America/New_York:20250720T080000
DTEND;TZID=America/New_York:20250720T113000
DTSTAMP:20260425T202527
CREATED:20250525T222618Z
LAST-MODIFIED:20250525T222618Z
UID:10017608-1752998400-1753011000@mychq.org
SUMMARY:Jimmy Buffet Tribute Weekend
DESCRIPTION:Calling all Parrotheads! Jimmy Buffett Tribute Weekend returns to Peek’n Peak! Join us for an unforgettable weekend of all things Jimmy Buffett! We will have a food tent\, drinks\, bonfires\, lawn games\, and more all weekend long! Don’t miss this chance to escape to the islands and party the Margaritaville Way. \nEnjoy Margaritaville-themed parties all weekend long at Gazebo Grill! We will have an outside Tiki Bar & Grill open in addition to Gazebo Grill. \nSchedule: \nFriday\, July 18:5 O’Clock Rum Bucket Party Sponsored by Parrot Bay Rum | Gazebo Grill | 5:00pm – 10:00pmNeville Francis & The Riddum Posse | Gazebo Main Stage | 6:00pm – 10:00pmOutside Tiki Bar & Grill | 5:00pm – 10:00pmFire pits\, S’mores and yard games \nThe Salty Margarita After Party with DJ Felix | Bistro 210| 9:30pm – 12:30amTequila Promos and Signatures MargaritasLate-night menu featuring Fish Tacos and Cheeseburgers of course! \nSaturday\, July 19:Corona Beach Party with DJ Felix | Pool Complex | 12:00pm – 4:00pm *Games\, Prizes\, Signature Tropical Drinks!* \n5 O’Clock Flip Flops & Straw Hats Happy Hour | Resort Wide | 5:00pm – 6:00pm \nMargaritaville Island Bash | Gazebo Grill & Main Stage | 5:30pm – 10:00pmSuns of Beaches | 6:00 pm – 10:00 pm |Outside Tiki Bar & Grill | 5:00pm – 10:00pmFire pits\, S’mores and yard gamesWear your favorite Crazy Island hat & Tropical Outfit for a chance to win a prize! \nBistro Beach Bum After Party | Bistro 210 | 9:30pm – 12:30amLopaka Rootz & Friends BandWear your favorite Crazy Island hat & Tropical Outfit for a chance to win a prize!Late Night Menu & Signature Island Drinks including several Margarita’s to choose from! \nSunday\, July 20:Breakfast in ParadiseAll you can eat Breakfast Buffet plus a Bloody Mary and Mimosa Bar | Bistro 210 | 8:00am – 11:30pm
URL:https://mychq.org/event/jimmy-buffet-tribute-weekend/2025-07-20/
LOCATION:Peek’n Peak\, 1405 Olde Rd\, Clymer\, 14724\, United States
CATEGORIES:Festivals & Fairs
ATTACH;FMTTYPE=image/jpeg:https://mychq.org/wp-content/uploads/2025/05/498247368_1128272906009557_6904188277089788491_n.jpg
ORGANIZER;CN="Peek'n Peak":MAILTO:info@pknpk.com
END:VEVENT
END:VCALENDAR