BEGIN:VCALENDAR
VERSION:2.0
PRODID:-//Chautauqua County Events, Local Businesses &amp; Resources | My CHQ - ECPv6.15.20//NONSGML v1.0//EN
CALSCALE:GREGORIAN
METHOD:PUBLISH
X-ORIGINAL-URL:https://mychq.org
X-WR-CALDESC:Events for Chautauqua County Events, Local Businesses &amp; Resources | My CHQ
REFRESH-INTERVAL;VALUE=DURATION:PT1H
X-Robots-Tag:noindex
X-PUBLISHED-TTL:PT1H
BEGIN:VTIMEZONE
TZID:America/New_York
BEGIN:DAYLIGHT
TZOFFSETFROM:-0500
TZOFFSETTO:-0400
TZNAME:EDT
DTSTART:20240310T070000
END:DAYLIGHT
BEGIN:STANDARD
TZOFFSETFROM:-0400
TZOFFSETTO:-0500
TZNAME:EST
DTSTART:20241103T060000
END:STANDARD
BEGIN:DAYLIGHT
TZOFFSETFROM:-0500
TZOFFSETTO:-0400
TZNAME:EDT
DTSTART:20250309T070000
END:DAYLIGHT
BEGIN:STANDARD
TZOFFSETFROM:-0400
TZOFFSETTO:-0500
TZNAME:EST
DTSTART:20251102T060000
END:STANDARD
BEGIN:DAYLIGHT
TZOFFSETFROM:-0500
TZOFFSETTO:-0400
TZNAME:EDT
DTSTART:20260308T070000
END:DAYLIGHT
BEGIN:STANDARD
TZOFFSETFROM:-0400
TZOFFSETTO:-0500
TZNAME:EST
DTSTART:20261101T060000
END:STANDARD
END:VTIMEZONE
BEGIN:VEVENT
DTSTART;TZID=America/New_York:20251024T150000
DTEND;TZID=America/New_York:20251026T120000
DTSTAMP:20260425T183922
CREATED:20250924T173504Z
LAST-MODIFIED:20250924T173504Z
UID:10022005-1761318000-1761480000@mychq.org
SUMMARY:Women's Wellness Retreats with Renewed Spirit Adventures at Panama Rocks
DESCRIPTION:Step away from the noise. Step into the woods. \nThis summer and fall\, Renewed Spirit Adventures invites you to join us at Panama Rocks for a series of all-inclusive transformational wellness retreats designed to help you reset\, reflect\, and recharge. \nNestled among ancient rock formations\, towering trees\, and winding forest paths\, each retreat is a unique opportunity to:\n• Nourish your body with gentle yoga\, forest bathing\, and movement\n• Calm your mind with mindfulness practices and guided meditation\n• Reignite your spirit through journaling\, workshops\, and connection\nWhether you’re seeking stillness\, joy\, healing\, or simply time for yourself—there’s a retreat for you. \nTake the first step—your path to renewal begins here!
URL:https://mychq.org/event/womens-wellness-retreats-with-renewed-spirit-adventures-at-panama-rocks/
LOCATION:Panama Rocks Scenic Park\, 11 Rock Hill Rd\, Panama\, 14767\, United States
CATEGORIES:Camps
ATTACH;FMTTYPE=image/jpeg:https://mychq.org/wp-content/uploads/2025/09/Womens-Wellness-Retreats-with-Renewed-Spirit-Adventures.jpg
ORGANIZER;CN="Renewed Spirit Adventures":MAILTO:support@renewedspiritadventures.com
END:VEVENT
BEGIN:VEVENT
DTSTART;TZID=America/New_York:20251011T110000
DTEND;TZID=America/New_York:20251011T140000
DTSTAMP:20260425T183922
CREATED:20251008T191758Z
LAST-MODIFIED:20251008T191758Z
UID:10022454-1760180400-1760191200@mychq.org
SUMMARY:Halloween Picnic
DESCRIPTION:Join us for a day full of fun\, friendship\, and a little spooky spirit!When: Saturday\, October 11th | 11:00am-2:00pmWhere: Panama Rocks Scenic ParkBring: a snack to shareCostumes: Optional\, but encouraged for extra fun!Activities: Arts & Crafts\, exploring the rocks\, and good companyAdmission: Covered by the Dwyer Program–just bring yourself (and a snack)!Let’s celebrate the season together in one of WNY’s most beautiful spots.
URL:https://mychq.org/event/halloween-picnic/
LOCATION:Panama Rocks Scenic Park\, 11 Rock Hill Rd\, Panama\, 14767\, United States
CATEGORIES:Veterans
ATTACH;FMTTYPE=image/jpeg:https://mychq.org/wp-content/uploads/2025/10/557626305_1226819076141276_8067530958588067612_n.jpg
ORGANIZER;CN="Dwyer Chautauqua":MAILTO:dwyerchautauqua@gmail.com
END:VEVENT
BEGIN:VEVENT
DTSTART;TZID=America/New_York:20251005T100000
DTEND;TZID=America/New_York:20251005T170000
DTSTAMP:20260425T183922
CREATED:20250724T144152Z
LAST-MODIFIED:20250724T144152Z
UID:10019890-1759658400-1759683600@mychq.org
SUMMARY:Panama Rocks Foliage Festival 2025
DESCRIPTION:HOURS: Hours are 10:00 am to 5:00pm on Saturday and Sunday. \nADMISSION: Admission to the Foliage Festival is FREE. Admission to the Panama Rocks scenic area is the normal daily rate. Street parking is free if available and field parking is $5 per vehicle. \nART & CRAFT SHOW & FARMERS MARKET: Shop over 70 vendors at our art and craft show and farmers market and enjoy demonstrations such as chainsaw carving by Lisa Barr; blacksmithing by John Stow; glass blowing by Grant Robinson of Liquid Monkey; rocket stoves by Paul Jackino from Paul’s Rocket Stoves! \nENTERTAINMENT: Traditional and original music by Davis & Eng – more coming soon! \nFOOD: by Lab Press Co. (grilled cheese\, soups\, and other Lab favorites); Ramsey’s Food Truck (cheese steaks\, sausage\, fries\, and funnel cakes); Best of Buffalo by Byron (wings\, beef on weck\, and WNY favorites); Another Guy’s Fries (fries\, pulled pork\, and cotton candy); Fowler’s (taffy and candy apples); Burning Asphalt (sauces and dressings); Panama Bee Farm (honey); Everday’s a Sundae (ice cream); Gelati’s Italian Ice (Italian Ice); Killa Kookies (baked goods); and fudge by Wow Fudge (fudge)! \nCOSTUME CONTEST: Dress up for our daily Costume Contest! More information coming soon! \nFALL & HALLOWEEN ACTIVITIES: Trick-or Treating with our art & craft vendors; Face Painting with Ashlee; make your own stuffed animal friend and pumpkin painting with Plushihut; more coming soon!
URL:https://mychq.org/event/panama-rocks-foliage-festival-2025/2025-10-05/
LOCATION:Panama Rocks Scenic Park\, 11 Rock Hill Rd\, Panama\, 14767\, United States
CATEGORIES:Festivals & Fairs
ATTACH;FMTTYPE=image/jpeg:https://mychq.org/wp-content/uploads/2025/07/522635195_1187646760067908_8243396187757820767_n.jpg
ORGANIZER;CN="Panama Rocks Scenic Park":MAILTO:panamajoe@panamarocks.com
END:VEVENT
BEGIN:VEVENT
DTSTART;TZID=America/New_York:20250913T100000
DTEND;TZID=America/New_York:20250913T120000
DTSTAMP:20260425T183922
CREATED:20250908T155601Z
LAST-MODIFIED:20250908T155601Z
UID:10021125-1757757600-1757764800@mychq.org
SUMMARY:Church of the Wild: Panama Rocks
DESCRIPTION:The next Church of the Wild is on Saturday\, September 13 at 10am at Panama Rocks. We’ll meet at 9:30am at St. Luke’s to carpool. Please RSVP to the Church Administrator at 716-483-6405 or nicole.gustafson@stlukesjamestown.org.
URL:https://mychq.org/event/church-of-the-wild-panama-rocks/
LOCATION:Panama Rocks Scenic Park\, 11 Rock Hill Rd\, Panama\, 14767\, United States
CATEGORIES:Church & Religion
ATTACH;FMTTYPE=image/jpeg:https://mychq.org/wp-content/uploads/2025/09/539361661_1211064904389743_3683835950031476272_n.jpg
ORGANIZER;CN="St. Luke's Episcopal Church":MAILTO:stlukes@stlukesjamestown.org
END:VEVENT
BEGIN:VEVENT
DTSTART;TZID=America/New_York:20250802T140000
DTEND;TZID=America/New_York:20250802T160000
DTSTAMP:20260425T183922
CREATED:20250705T210142Z
LAST-MODIFIED:20250705T210142Z
UID:10019272-1754143200-1754150400@mychq.org
SUMMARY:BubbleMania @ Panama Rocks
DESCRIPTION:Join us on Saturday\, July 12 and Saturday\, July 26 from 2:00 pm to 4:00 pm as we set up bubble machines and a sprinkler for kids to play in! \nParticipation in BubbleMania is included with normal park admission! \nNOTE: THIS IS NOT OCCURRING ON JULY 19 – THAT IS OUR WILD AMERICA NATURE FESTIVAL. Facebook added that date without our selecting it\, and will not let us remove it without deleting the event entirely.
URL:https://mychq.org/event/bubblemania-panama-rocks/2025-08-02/
LOCATION:Panama Rocks Scenic Park\, 11 Rock Hill Rd\, Panama\, 14767\, United States
CATEGORIES:Kids & Family
ATTACH;FMTTYPE=image/jpeg:https://mychq.org/wp-content/uploads/2025/07/514754035_1170305358468715_5658032043445052253_n.jpg
ORGANIZER;CN="Panama Rocks Scenic Park":MAILTO:panamajoe@panamarocks.com
END:VEVENT
BEGIN:VEVENT
DTSTART;TZID=America/New_York:20250720T100000
DTEND;TZID=America/New_York:20250720T170000
DTSTAMP:20260425T183922
CREATED:20250610T182626Z
LAST-MODIFIED:20250610T182626Z
UID:10018245-1753005600-1753030800@mychq.org
SUMMARY:2025 Wild America Nature Festival @ Panama Rocks
DESCRIPTION:Meet wild animals\, see hawks fly\, shop hand made arts and crafts\, and taste delicious food from local food vendors! \nThe Wild America Nature Festival will be at Panama Rocks on July 19 and 20\, 2025! Highlights include: \nMeet Wild Animals with Wild Creatures Discovery Center (11:00AM both days) \nWatch free-flying hawks and birds of prey with American Hawkeye (2:00pm both days) \nShop local and regional artists at the arts and craft festival and enjoy delicious food and snacks from 10:00am to 5:00pm each day! \nMusic by Davis and Eng at 12:15pm to 1:45pm and 3:15pm to 4:45pm both days. \nExplore Panama Rocks from 10:00am to 5:00pm both days. \nAdditional events/talks to be announced soon! \n— \nAdmission may be purchased at the gate!: \nAdults (age 13+) = $12Youth (age 6-12) = $105 & Under = FREE! \nField Parking is $5 per vehicle.Street parking is free when available.
URL:https://mychq.org/event/2025-wild-america-nature-festival-panama-rocks/2025-07-20/
LOCATION:Panama Rocks Scenic Park\, 11 Rock Hill Rd\, Panama\, 14767\, United States
CATEGORIES:Festivals & Fairs
ATTACH;FMTTYPE=image/jpeg:https://mychq.org/wp-content/uploads/2025/06/505857060_1153455863486998_5412953592244754446_n.jpg
ORGANIZER;CN="Panama Rocks Scenic Park":MAILTO:panamajoe@panamarocks.com
END:VEVENT
END:VCALENDAR