BEGIN:VCALENDAR
VERSION:2.0
PRODID:-//Chautauqua County Events, Local Businesses &amp; Resources | My CHQ - ECPv6.15.20//NONSGML v1.0//EN
CALSCALE:GREGORIAN
METHOD:PUBLISH
X-WR-CALNAME:Chautauqua County Events, Local Businesses &amp; Resources | My CHQ
X-ORIGINAL-URL:https://mychq.org
X-WR-CALDESC:Events for Chautauqua County Events, Local Businesses &amp; Resources | My CHQ
REFRESH-INTERVAL;VALUE=DURATION:PT1H
X-Robots-Tag:noindex
X-PUBLISHED-TTL:PT1H
BEGIN:VTIMEZONE
TZID:America/New_York
BEGIN:DAYLIGHT
TZOFFSETFROM:-0500
TZOFFSETTO:-0400
TZNAME:EDT
DTSTART:20240310T070000
END:DAYLIGHT
BEGIN:STANDARD
TZOFFSETFROM:-0400
TZOFFSETTO:-0500
TZNAME:EST
DTSTART:20241103T060000
END:STANDARD
BEGIN:DAYLIGHT
TZOFFSETFROM:-0500
TZOFFSETTO:-0400
TZNAME:EDT
DTSTART:20250309T070000
END:DAYLIGHT
BEGIN:STANDARD
TZOFFSETFROM:-0400
TZOFFSETTO:-0500
TZNAME:EST
DTSTART:20251102T060000
END:STANDARD
BEGIN:DAYLIGHT
TZOFFSETFROM:-0500
TZOFFSETTO:-0400
TZNAME:EDT
DTSTART:20260308T070000
END:DAYLIGHT
BEGIN:STANDARD
TZOFFSETFROM:-0400
TZOFFSETTO:-0500
TZNAME:EST
DTSTART:20261101T060000
END:STANDARD
END:VTIMEZONE
BEGIN:VEVENT
DTSTART;TZID=America/New_York:20251129T100000
DTEND;TZID=America/New_York:20251129T140000
DTSTAMP:20260425T150948
CREATED:20251118T172306Z
LAST-MODIFIED:20251118T172306Z
UID:10023115-1764410400-1764424800@mychq.org
SUMMARY:Christmas in Panama
DESCRIPTION:The Village of Panama invites you to: CHRISTMAS IN PANAMA!!! \nThis annual craft event is a way we can show support to our local small businesses as well as providing a great way to reach back out to our community! \nWe have reached our full capacity of vendors – please send us an email or be on the look out for next years event if you would like to secure a table. \nWe hope you are able to join us for this warm\, holiday event!
URL:https://mychq.org/event/christmas-in-panama/
LOCATION:Panama Methodist Church\, 22 E Main St\, Panama\, 14767\, United States
CATEGORIES:Markets & Yard Sales
ATTACH;FMTTYPE=image/jpeg:https://mychq.org/wp-content/uploads/2025/11/546443208_1241781297990992_4541964789467199103_n.jpg
END:VEVENT
BEGIN:VEVENT
DTSTART;TZID=America/New_York:20251122T160000
DTEND;TZID=America/New_York:20251122T190000
DTSTAMP:20260425T150948
CREATED:20251019T230108Z
LAST-MODIFIED:20251019T230108Z
UID:10022531-1763827200-1763838000@mychq.org
SUMMARY:Annual Harvest Dinner @ Panama Methodist Church
DESCRIPTION:COMING SOON! PMC ANNUAL HARVEST DINNER!
URL:https://mychq.org/event/annual-harvest-dinner-panama-methodist-church/
LOCATION:Panama Methodist Church\, 22 E Main St\, Panama\, 14767\, United States
CATEGORIES:Food & Drink
ATTACH;FMTTYPE=image/jpeg:https://mychq.org/wp-content/uploads/2025/10/556460196_1137249198507048_5830835350541440600_n.jpg
END:VEVENT
BEGIN:VEVENT
DTSTART;TZID=America/New_York:20251031T170000
DTEND;TZID=America/New_York:20251031T190000
DTSTAMP:20260425T150948
CREATED:20251019T225954Z
LAST-MODIFIED:20251019T225954Z
UID:10022530-1761930000-1761937200@mychq.org
SUMMARY:Truck or Treat @ Panama Methodist Church
DESCRIPTION:Panama Methodist Church 5pm-7pm
URL:https://mychq.org/event/truck-or-treat-panama-methodist-church/
LOCATION:Panama Methodist Church\, 22 E Main St\, Panama\, 14767\, United States
CATEGORIES:Kids & Family
ATTACH;FMTTYPE=image/jpeg:https://mychq.org/wp-content/uploads/2025/10/558141770_1137194775179157_2496156222503423869_n.jpg
END:VEVENT
BEGIN:VEVENT
DTSTART;TZID=America/New_York:20250817T170000
DTEND;TZID=America/New_York:20250817T210000
DTSTAMP:20260425T150948
CREATED:20250813T164848Z
LAST-MODIFIED:20250813T164848Z
UID:10020706-1755450000-1755464400@mychq.org
SUMMARY:Family Fun Day @ Panama Methodist Church
DESCRIPTION:bring the whole family for an evening filled with food\, activities\, games\, duck pool\, prizes\, and s’mores!
URL:https://mychq.org/event/family-fun-day-panama-methodist-church/
LOCATION:Panama Methodist Church\, 22 E Main St\, Panama\, 14767\, United States
CATEGORIES:Kids & Family
ATTACH;FMTTYPE=image/jpeg:https://mychq.org/wp-content/uploads/2025/08/529122776_1092923509606284_8273736459648169225_n.jpg
ORGANIZER;CN="Panama Methodist Church":MAILTO:contact@panamamethodist.org
END:VEVENT
END:VCALENDAR