BEGIN:VCALENDAR
VERSION:2.0
PRODID:-//Chautauqua County Events, Local Businesses &amp; Resources | My CHQ - ECPv6.15.20//NONSGML v1.0//EN
CALSCALE:GREGORIAN
METHOD:PUBLISH
X-ORIGINAL-URL:https://mychq.org
X-WR-CALDESC:Events for Chautauqua County Events, Local Businesses &amp; Resources | My CHQ
REFRESH-INTERVAL;VALUE=DURATION:PT1H
X-Robots-Tag:noindex
X-PUBLISHED-TTL:PT1H
BEGIN:VTIMEZONE
TZID:America/New_York
BEGIN:DAYLIGHT
TZOFFSETFROM:-0500
TZOFFSETTO:-0400
TZNAME:EDT
DTSTART:20250309T070000
END:DAYLIGHT
BEGIN:STANDARD
TZOFFSETFROM:-0400
TZOFFSETTO:-0500
TZNAME:EST
DTSTART:20251102T060000
END:STANDARD
BEGIN:DAYLIGHT
TZOFFSETFROM:-0500
TZOFFSETTO:-0400
TZNAME:EDT
DTSTART:20260308T070000
END:DAYLIGHT
BEGIN:STANDARD
TZOFFSETFROM:-0400
TZOFFSETTO:-0500
TZNAME:EST
DTSTART:20261101T060000
END:STANDARD
BEGIN:DAYLIGHT
TZOFFSETFROM:-0500
TZOFFSETTO:-0400
TZNAME:EDT
DTSTART:20270314T070000
END:DAYLIGHT
BEGIN:STANDARD
TZOFFSETFROM:-0400
TZOFFSETTO:-0500
TZNAME:EST
DTSTART:20271107T060000
END:STANDARD
END:VTIMEZONE
BEGIN:VEVENT
DTSTART;TZID=America/New_York:20260426T100000
DTEND;TZID=America/New_York:20260426T140000
DTSTAMP:20260425T080203
CREATED:20260408T150535Z
LAST-MODIFIED:20260408T150535Z
UID:10027756-1777197600-1777212000@mychq.org
SUMMARY:Annual Fundraiser for Chautauqua County Sled Stars
DESCRIPTION:Each year we host an annual fundraiser which features; cornhole\, large basket raffle\, 50/50’s\, and our main event featuring the Chautauqua County Sheriffs vs Chautauqua County Sled Stars battling it out on the ice! This fundraiser is crucial to our disabled hockey team\, we don’t charge the players anything to play. So sponsors and attendees like yourself is what ensures this program keeps operating offering the opportunity to children and adults alike!
URL:https://mychq.org/event/annual-fundraiser-for-chautauqua-county-sled-stars/
LOCATION:Northwest Arena\, 319 W 3rd St.\, Jamestown\, NY\, 14701\, United States
CATEGORIES:Fundraising
ATTACH;FMTTYPE=image/jpeg:https://mychq.org/wp-content/uploads/2026/04/666487317_1392680502664311_2406527225034245108_n.jpg
END:VEVENT
BEGIN:VEVENT
DTSTART;TZID=America/New_York:20260502T150000
DTEND;TZID=America/New_York:20260502T200000
DTSTAMP:20260425T080203
CREATED:20260408T181858Z
LAST-MODIFIED:20260408T181858Z
UID:10027759-1777734000-1777752000@mychq.org
SUMMARY:Home Opener Double Header - Let The Season Begin!
DESCRIPTION:JOIN THE WARRIN’ WRECKING DOLLS FOR OUR HOME OPENER DOUBLE HEADER! \nGet ready for hard hits\, fast laps\, and nonstop action as we kick off the season in style! \nDoors Open: 3:00 PMGame 1 (3:30 PM): B-Side Rollers vs AlignmentsGame 2 (6:00 PM): Warrin’ Wrecking Dolls vs Rowdy Rollers \nTickets:$8 Presale | $10 at the DoorKids under 12 are FREE! \n Grab your tickets now: https://square.link/u/E2MAqBWg \nBring your friends\, bring the energy\, and come cheer loud—this is one night you don’t want to miss!
URL:https://mychq.org/event/home-opener-double-header-let-the-season-begin/
LOCATION:Northwest Arena\, 319 W 3rd St.\, Jamestown\, NY\, 14701\, United States
CATEGORIES:Sports
ATTACH;FMTTYPE=image/jpeg:https://mychq.org/wp-content/uploads/2026/04/662559641_1409465844313509_6233235781284722891_n.jpg
ORGANIZER;CN="Warrin' Wreaking Dolls":MAILTO:warrinwreckingdolls@gmail.com
END:VEVENT
BEGIN:VEVENT
DTSTART;TZID=America/New_York:20260502T153000
DTEND;TZID=America/New_York:20260502T173000
DTSTAMP:20260425T080203
CREATED:20260221T223828Z
LAST-MODIFIED:20260221T223828Z
UID:10024989-1777735800-1777743000@mychq.org
SUMMARY:JCC Jayhawks Hockey Prospect Skate
DESCRIPTION:Is college hockey on your our your child’s radar? JCC Jayhawks Hockey is growing fast and actively recruiting for the 26-27 season! Our program is set to host our annual Prospect Skate this spring\, giving interested players a chance to skate with like-minded prospects\, view our remarkable facility\, and tour our incredible campus. Check out the complete details: \n\n Saturday\, May 2\n 3:30-5:30pm ET\n Northwest Arena\, Jamestown\, NY\n Optional SUNY JCC campus tour\n $25 (skate is a full game scrimmage)\n All players age 16 and up are welcome!\nREGISTER HERE  https://form.jotform.com/jccjayhawksh…/2026-prospect-skate\nQuestions? Send a DM or email Coach Tommy Gerace\, at jccjayhawkshockey@gmail.com.\n\n#ProtectTheNest
URL:https://mychq.org/event/jcc-jayhawks-hockey-prospect-skate/
LOCATION:Northwest Arena\, 319 W 3rd St.\, Jamestown\, NY\, 14701\, United States
CATEGORIES:Sports
ATTACH;FMTTYPE=image/jpeg:https://mychq.org/wp-content/uploads/2026/02/638778571_122215227620282182_1334352312229346575_n.jpg
ORGANIZER;CN="JCC Jayhawks Hockey":MAILTO:jccjayhawkshockey@gmail.com
END:VEVENT
BEGIN:VEVENT
DTSTART;TZID=America/New_York:20260508T080000
DTEND;TZID=America/New_York:20260508T160000
DTSTAMP:20260425T080203
CREATED:20260322T185347Z
LAST-MODIFIED:20260322T185347Z
UID:10027437-1778227200-1778256000@mychq.org
SUMMARY:Skate Chautauqua @ Northwest Arena
DESCRIPTION:Registration now open for Skate Chautauqua! Register for this competition on USFS EMS portal.
URL:https://mychq.org/event/skate-chautauqua-northwest-arena/2026-05-08/
LOCATION:Northwest Arena\, 319 W 3rd St.\, Jamestown\, NY\, 14701\, United States
CATEGORIES:Sports
ATTACH;FMTTYPE=image/jpeg:https://mychq.org/wp-content/uploads/2026/03/656918189_1557656763033951_5688426802401160289_n.jpg
ORGANIZER;CN="Jamestown Skating Club":MAILTO:info@jamestownskatingclubonice.com
END:VEVENT
BEGIN:VEVENT
DTSTART;TZID=America/New_York:20260520T090000
DTEND;TZID=America/New_York:20260520T133000
DTSTAMP:20260425T080203
CREATED:20260212T171751Z
LAST-MODIFIED:20260212T171751Z
UID:10024892-1779267600-1779283800@mychq.org
SUMMARY:STEM Wars CHQ 2026 - Career Fair and Tech Expo
DESCRIPTION:We’re thrilled to announce STEM Wars CHQ 2026 Career Fair and Tech Expo returns to Northwest Arena May 20-21st\, 2026. \n\n• Day 1\, Wednesday\, May 20th is Grade School STEM Wars (grades 3-5)\n• Day 2\, Thursday\, May 21st is Middle/High School STEM Wars (grades 6-12.).\nIf you’re a manufacturer\, tech supplier\, college/university\, or STEM related organization\, join us and meet your future workforce. Registration is now open: https://lnkd.in/gzubJxFY\nSTEM Wars 2026 is brought to you by the NEW YORK STATE TECHNOLOGY AND ENGINEERING EDUCATORS ASSOCIATION (NYSTEEA) and Dream It Do It WNY\, through the generous support of our Financial Supporters: Blackstone Advanced Technologies\, Cummins Inc\, Miraclean®\, Manufacturers Association of the Southern Tier\, National Grid\, County of Chautauqua Industrial Development Agency- CCIDA\, County of Chautauqua Industrial Development Agency- CCIDA\, U.S. Department of Labor\, Empire State Development Niagara County\, Ralph C. Wilson Jr. Foundation\, Grigg Lewis Foundation\, Inc\nDream It Do It WNY is powered by the Buffalo Niagara Manufacturing Alliance and the Manufacturers Association of the Southern Tier.\n\nhashtag#AMPUpYourFuture hashtag#STEMWARSCHQ
URL:https://mychq.org/event/stem-wars-chq-2026-career-fair-and-tech-expo/2026-05-20/
LOCATION:Northwest Arena\, 319 W 3rd St.\, Jamestown\, NY\, 14701\, United States
CATEGORIES:Training & Education
ATTACH;FMTTYPE=image/jpeg:https://mychq.org/wp-content/uploads/2026/02/633197112_1787581399318397_3180951040308984397_n.jpg
ORGANIZER;CN="Dream It Do It Western New York":MAILTO:ttranum@mast-wny.com
END:VEVENT
BEGIN:VEVENT
DTSTART;TZID=America/New_York:20260607T130000
DTEND;TZID=America/New_York:20260607T170000
DTSTAMP:20260425T080203
CREATED:20260318T180009Z
LAST-MODIFIED:20260318T180009Z
UID:10027318-1780837200-1780851600@mychq.org
SUMMARY:Mrs. Roper Romp... She's Back!
DESCRIPTION:This FUNdraiser is a co-ed 21+ pub crawl. Join the fun while supporting the Zonta mission! This rain or shine event was a blast last year and is sure to be again. Travel with all the Mrs. Ropers from the Ice Arena to three other walkable pubs (watch here for updates on where). Grab your caftan\, your $10.00 donation\, curl your hair\, grab your friends and have a blast!
URL:https://mychq.org/event/mrs-roper-romp-shes-back/
LOCATION:Northwest Arena\, 319 W 3rd St.\, Jamestown\, NY\, 14701\, United States
CATEGORIES:Adults Only & Parties
ATTACH;FMTTYPE=image/jpeg:https://mychq.org/wp-content/uploads/2026/03/654282522_921448633925163_785005561448002536_n.jpg
ORGANIZER;CN="Zonta Club of Jamestown":MAILTO:jamestown@zontadistrict4.org
END:VEVENT
BEGIN:VEVENT
DTSTART;TZID=America/New_York:20260806T190000
DTEND;TZID=America/New_York:20260806T220000
DTSTAMP:20260425T080203
CREATED:20260406T160408Z
LAST-MODIFIED:20260406T160408Z
UID:10027723-1786042800-1786053600@mychq.org
SUMMARY:Jerry Seinfeld @ Lucille Ball Comedy Festival
DESCRIPTION:The National Comedy Center presents Jerry Seinfeld during the annual Lucille Ball Comedy Festival in Jamestown\, NY. \nVisit ComedyCenter.org for more info! \nJerry Seinfeld’s comedy career took off after his first appearance on The Tonight Show with Johnny Carson in 1981. Eight years later\, he teamed up with fellow comedian Larry David to create what was to become the most successful comedy series in the history of television: Seinfeld. The show ran on NBC for nine seasons\, winning numerous Emmys\, Golden Globes\, and People’s Choice awards\, was named the greatest television show of all time in 2009 by TV Guide\, and in 2012 was identified as the best sitcom ever in a 60 Minutes/Vanity Fair poll. \nHis latest Emmy-nominated Netflix projects include Jerry Before Seinfeld and 23 Hours to Kill\, along with the highly acclaimed web series\, Comedians in Cars Getting Coffee. Seinfeld has also starred in\, written\, and produced movies (Comedian\, Bee Movie)\, directed and produced a Broadway hit (Colin Quinn: Long Story Short)\, and wrote three best-selling books (Is this Anything?\, The Comedians in Cars Getting Coffee Book\, and Seinlanguage) and a children’s book (Halloween). He stars in the Emmy-nominated comedy film\, Unfrosted\, which he directed\, co-wrote\, and produced. Seinfeld continues to perform both nationally and internationally.
URL:https://mychq.org/event/jerry-seinfeld-lucille-ball-comedy-festival/
LOCATION:Northwest Arena\, 319 W 3rd St.\, Jamestown\, NY\, 14701\, United States
CATEGORIES:Comedy
ATTACH;FMTTYPE=image/jpeg:https://mychq.org/wp-content/uploads/2026/04/660305636_1386867013477138_4876755393210337972_n.jpg
ORGANIZER;CN="National Comedy Center":MAILTO:info@comedycenter.org
END:VEVENT
BEGIN:VEVENT
DTSTART;TZID=America/New_York:20260808T190000
DTEND;TZID=America/New_York:20260808T220000
DTSTAMP:20260425T080203
CREATED:20260406T160446Z
LAST-MODIFIED:20260406T160446Z
UID:10027724-1786215600-1786226400@mychq.org
SUMMARY:Bert Kreischer @ Lucille Ball Comedy Festival
DESCRIPTION:The National Comedy Center presents Bert Kreischer during the annual Lucille Ball Comedy Festival in Jamestown\, NY. \nVisit ComedyCenter.org for more info! \nBert Kreischer’s career has evolved from Rolling Stone’s infamous “Number One Partier in the Nation” to one of the top-grossing stand-up comedians in the world—and a powerhouse entrepreneur\, actor\, producer\, content creator\, and entertainment brand. Named by Forbes as “one of the best storytellers of his generation\,” Kreischer has parlayed his signature comedyand authenticity into a dynamic media empire. \nHis sixth Netflix special\, Lucky\, filmed in his hometown of Tampa\, FL\, sold out all six shows within 24 hours of the on-sale and premiered in Netflix’s Top 10 Most Watched TV Shows inMarch 2025. \nThrough Berty Boy Productions\, Kreischer oversees hit podcasts and series including Bertcast\, Something’s Burning\, and 2 Bears\, 1 Cave (with Tom Segura)\, commanding over 16 million fans and 4 billion impressions. He also founded the Fully Loaded Comedy Festival\, a touring juggernaut that’s expanded to stadiums\, arenas\, and sold-out cruises. \nIn 2024\, Kreischer and Segura launched Por Osos Vodka\, an award-winning\, rapidly expanding spirits brand. Kreischer also starred in and produced Sony Pictures’ The Machine—a feature film adaptation of his legendary stand-up story—which broke into Netflix’s Global Top 10 Films upon release in 2023. His Netflix scripted comedy series Free Bert debuted in January 2026\, andquickly broke into Netflix’s U.S. and global Top 10. The show drew millions of viewers in its first weeks\, ranking among the platform’s most-watched series worldwide. \nToday\, Bert is on his Permission To Party World Tour and continues to blend comedy\, business\, and culture into one of the most recognizable personal brands in entertainment today.
URL:https://mychq.org/event/bert-kreischer-lucille-ball-comedy-festival/
LOCATION:Northwest Arena\, 319 W 3rd St.\, Jamestown\, NY\, 14701\, United States
CATEGORIES:Comedy
ATTACH;FMTTYPE=image/jpeg:https://mychq.org/wp-content/uploads/2026/04/660514954_1386849473478892_1059168255098670827_n.jpg
ORGANIZER;CN="National Comedy Center":MAILTO:info@comedycenter.org
END:VEVENT
BEGIN:VEVENT
DTSTART;TZID=America/New_York:20260809T170000
DTEND;TZID=America/New_York:20260809T200000
DTSTAMP:20260425T080203
CREATED:20260406T160527Z
LAST-MODIFIED:20260406T160527Z
UID:10027725-1786294800-1786305600@mychq.org
SUMMARY:Seth Meyers @ Lucille Ball Comedy Festival
DESCRIPTION:The National Comedy Center presents Seth Meyers during the annual Lucille Ball Comedy Festival in Jamestown\, NY. \nVisit ComedyCenter.org for more info! \nSeth Meyers is an Emmy Award-winning writer\, New York Times bestselling author and host of NBC’s Late Night with Seth Meyers since 2014. Meyers began his TV career with Saturday Night Live in 2001 where he was a cast member for thirteen seasons. He served as head writer for nine seasons and “Weekend Update” anchor for eight. He has released two critically acclaimed stand-up specials to date\, Lobby Baby (Netflix) and Seth Meyers: Dad Man Walking (HBO Max.) In all\, Meyers has garnered 33 Emmy nominations for his work in television. \nIn addition to his onscreen success\, Meyers is a New York Times bestselling author\, having published his first picture book\, I’m Not Scared\, You’re Scared\, in 2022. He currently co-hosts two podcasts\, Family Trips with the Meyers Brothers\, alongside his brother Josh Meyers\, and The Lonely Island and Seth Meyers Podcast\, with Andy Samberg\, Akiva Schaffer and Jorma Taccone.
URL:https://mychq.org/event/seth-meyers-lucille-ball-comedy-festival/
LOCATION:Northwest Arena\, 319 W 3rd St.\, Jamestown\, NY\, 14701\, United States
CATEGORIES:Comedy
ATTACH;FMTTYPE=image/jpeg:https://mychq.org/wp-content/uploads/2026/04/662412175_1386808000149706_1610915688698934378_n.jpg
ORGANIZER;CN="National Comedy Center":MAILTO:info@comedycenter.org
END:VEVENT
END:VCALENDAR