BEGIN:VCALENDAR
VERSION:2.0
PRODID:-//My CHQ - ECPv6.15.20//NONSGML v1.0//EN
CALSCALE:GREGORIAN
METHOD:PUBLISH
X-WR-CALNAME:My CHQ
X-ORIGINAL-URL:https://mychq.org
X-WR-CALDESC:Events for My CHQ
REFRESH-INTERVAL;VALUE=DURATION:PT1H
X-Robots-Tag:noindex
X-PUBLISHED-TTL:PT1H
BEGIN:VTIMEZONE
TZID:America/New_York
BEGIN:DAYLIGHT
TZOFFSETFROM:-0500
TZOFFSETTO:-0400
TZNAME:EDT
DTSTART:20240310T070000
END:DAYLIGHT
BEGIN:STANDARD
TZOFFSETFROM:-0400
TZOFFSETTO:-0500
TZNAME:EST
DTSTART:20241103T060000
END:STANDARD
BEGIN:DAYLIGHT
TZOFFSETFROM:-0500
TZOFFSETTO:-0400
TZNAME:EDT
DTSTART:20250309T070000
END:DAYLIGHT
BEGIN:STANDARD
TZOFFSETFROM:-0400
TZOFFSETTO:-0500
TZNAME:EST
DTSTART:20251102T060000
END:STANDARD
BEGIN:DAYLIGHT
TZOFFSETFROM:-0500
TZOFFSETTO:-0400
TZNAME:EDT
DTSTART:20260308T070000
END:DAYLIGHT
BEGIN:STANDARD
TZOFFSETFROM:-0400
TZOFFSETTO:-0500
TZNAME:EST
DTSTART:20261101T060000
END:STANDARD
BEGIN:DAYLIGHT
TZOFFSETFROM:-0500
TZOFFSETTO:-0400
TZNAME:EDT
DTSTART:20270314T070000
END:DAYLIGHT
BEGIN:STANDARD
TZOFFSETFROM:-0400
TZOFFSETTO:-0500
TZNAME:EST
DTSTART:20271107T060000
END:STANDARD
END:VTIMEZONE
BEGIN:VEVENT
DTSTART;TZID=America/New_York:20260419T100000
DTEND;TZID=America/New_York:20260419T150000
DTSTAMP:20260421T074516
CREATED:20260331T172054Z
LAST-MODIFIED:20260331T172054Z
UID:10027656-1776592800-1776610800@mychq.org
SUMMARY:Merritt's 4th Foodie Event - Omelette Bar
DESCRIPTION:Bringing to your feed\, Merritt’s 4th Foodie Event of the year\, Omelette Bar!! April 18-19! Take the girls out to brunch and get a gourmet\, made-to-order omelette with a side of fruit. This is the perfect opportunity to show off that new spring outfit!  Pair your delicious meal with a mimosa made with Merritt Sparkling Wine OR you can be adventurous and try a beermosa!  \nWe have options for everyone\, so don’t be afraid to bring all your friends and family! We have non-alcoholic and kids options for drinks\, and everyone can enjoy a fantastic omelette. \nThis foodie event coincides with Lake Erie Wine Country’s All-American Weekend\, so don’t be afraid to stop in for a tasting! What’s more American than small business?  \nOur menu will release soon\, so be on the lookout! You never know what recipes our chef will cook up 
URL:https://mychq.org/event/merritts-4th-foodie-event-omelette-bar/2026-04-19/
LOCATION:Merritt Winery\, 2264 King Road\, Forestville\, 14062\, United States
CATEGORIES:Food & Drink
ATTACH;FMTTYPE=image/jpeg:https://mychq.org/wp-content/uploads/2026/03/662541086_1538637308268085_7972068273558397008_n.jpg
ORGANIZER;CN="Merritt Winery":MAILTO:marketing@merrittestatewinery.com
END:VEVENT
BEGIN:VEVENT
DTSTART;TZID=America/New_York:20260404T100000
DTEND;TZID=America/New_York:20260404T170000
DTSTAMP:20260421T074516
CREATED:20260327T162240Z
LAST-MODIFIED:20260327T162240Z
UID:10027602-1775296800-1775322000@mychq.org
SUMMARY:Easter Candy Pairing at Merritt!
DESCRIPTION:Join us April 2\, 3\, and 4 for an easter candy wine pairing! \nWe have a limited number of pairings so get them while you can! Once they’re gone\, they’re gone!  \nWhile you’re here\, draw an egg from our Easter Sale Basket and get the chance to win different discounts up to a free bottle of wine!  \nTomorrow we will post our candy lineup for the tasting\, so stay tuned  \nDon’t forget to pick up one of our Wine Easter Baskets while you’re here! Its a perfect host gift!
URL:https://mychq.org/event/easter-candy-pairing-at-merritt/2026-04-04/
LOCATION:Merritt Winery\, 2264 King Road\, Forestville\, 14062\, United States
CATEGORIES:Food & Drink
ATTACH;FMTTYPE=image/jpeg:https://mychq.org/wp-content/uploads/2026/03/658406228_1535122405286242_696126451526705973_n.jpg
ORGANIZER;CN="Merritt Winery":MAILTO:marketing@merrittestatewinery.com
END:VEVENT
BEGIN:VEVENT
DTSTART;TZID=America/New_York:20260322T110000
DTEND;TZID=America/New_York:20260322T180000
DTSTAMP:20260421T074516
CREATED:20260221T052829Z
LAST-MODIFIED:20260221T052829Z
UID:10024979-1774177200-1774202400@mychq.org
SUMMARY:Loaded Baked Potato Bar @ Merritt Winery
DESCRIPTION:Do you like potatoes? Do you like stuffing potatoes with various ingredients? Then this is the Foodie Event for you!! Join us the Friday after St. Patrick’s Day through that Sunday for our Loaded Baked Potato Bar! \nBring out your Irish heritage (or just your love of drinking that counts too) to enjoy a potato or three with friends\, family\, and community! And who knows? Maybe you’ll see a leprechaun! \nFriday March 20th – 22. Merritt Winery’s Loaded Baked Potato Bar. Pair your favorite wine with your potato for the best dinner you’ll have all month. All orders can be made for dine-in or to go! The bar will be open for wine-by-the-glass\, bottle sales and tastings. Nonalcoholic beverages and beer will also be available.Please note seating is on a first come first serve basis.
URL:https://mychq.org/event/loaded-baked-potato-bar-merritt-winery/2026-03-22/
LOCATION:Merritt Winery\, 2264 King Road\, Forestville\, 14062\, United States
CATEGORIES:Food & Drink
ATTACH;FMTTYPE=image/jpeg:https://mychq.org/wp-content/uploads/2026/02/636901148_1500262632105553_6832080262662820780_n.jpg
ORGANIZER;CN="Merritt Winery":MAILTO:marketing@merrittestatewinery.com
END:VEVENT
BEGIN:VEVENT
DTSTART;TZID=America/New_York:20260307T160000
DTEND;TZID=America/New_York:20260307T180000
DTSTAMP:20260421T074516
CREATED:20260221T052923Z
LAST-MODIFIED:20260221T052923Z
UID:10024980-1772899200-1772906400@mychq.org
SUMMARY:Through the Decades Movie Trivia
DESCRIPTION:Surprise!!! We’re bringing back trivia night!  \nThis special edition of trivia night is Through the Decades Movie Trivia! We’re taking a look at movies from the 1950s all the way until today. Each round is a new decade. There will be 8 rounds with 7 questions each and breaks in between each round. We cover every genre from kids movies and Disney classics to action and adventure! \nWe also will be offering flavored popcorn and shirley temples to really put you in that movie mood! Along with our fantastic wines of course  \nDo you have what it takes to win the game? If you do\, you’ll win a $25 gift card to Merritt Winery! \nMarch 7th 4-6 PM don’t forget it! 
URL:https://mychq.org/event/through-the-decades-movie-trivia/
LOCATION:Merritt Winery\, 2264 King Road\, Forestville\, 14062\, United States
CATEGORIES:Trivia
ATTACH;FMTTYPE=image/jpeg:https://mychq.org/wp-content/uploads/2026/02/636997322_1503824221749394_1883586897037762970_n.jpg
ORGANIZER;CN="Merritt Winery":MAILTO:marketing@merrittestatewinery.com
END:VEVENT
BEGIN:VEVENT
DTSTART;TZID=America/New_York:20260208T110000
DTEND;TZID=America/New_York:20260208T180000
DTSTAMP:20260421T074516
CREATED:20260114T234324Z
LAST-MODIFIED:20260114T234324Z
UID:10024312-1770548400-1770573600@mychq.org
SUMMARY:Gourmet Pasta Bar @ Merritt Winery
DESCRIPTION:Wintertime is the perfect time for a warm\, delicious\, gourmet pasta dish! We have a pasta dish for everyone on this years menu (to be announced) so you won’t want to miss out on this Foodie Event! Pair your favorite wine and garlic bread with your pasta for the best dinner you’ll have all month. \nAll orders can be made for dine-in or to go! The bar will be open for wine-by-the-glass\, bottle sales and tastings. Nonalcoholic beverages and beer will also be available.Please note seating is on a first come first serve basis. \nEVENT HOURS: Friday Feb 6th – Sunday Feb 8 11AM – 6PM all days
URL:https://mychq.org/event/gourmet-pasta-bar-merritt-winery/2026-02-08/
LOCATION:Merritt Winery\, 2264 King Road\, Forestville\, 14062\, United States
CATEGORIES:Food & Drink
ATTACH;FMTTYPE=image/jpeg:https://mychq.org/wp-content/uploads/2026/01/615142238_1469415378523612_1144879259342860274_n.jpg
ORGANIZER;CN="Merritt Winery":MAILTO:marketing@merrittestatewinery.com
END:VEVENT
BEGIN:VEVENT
DTSTART;TZID=America/New_York:20260119T110000
DTEND;TZID=America/New_York:20260119T180000
DTSTAMP:20260421T074516
CREATED:20251210T203311Z
LAST-MODIFIED:20251210T203311Z
UID:10023493-1768820400-1768845600@mychq.org
SUMMARY:Gourmet Grilled Cheese Bar
DESCRIPTION:Warm up your winter weekend with specialty grilled cheese and your choice of hot soup! You don’t want to miss our first foodie event of the year!All orders can be made for dine-in or to go! The bar will be open for wine-by-the-glass\, bottle sales and tastings. Nonalcoholic beverages and beer will also be available.Please note seating is on a first come first serve basis.Stay tuned for the full menu coming soon…EVENT HOURS:Friday\, Jan. 16 – Monday\, Jan. 19 from 11am – 6pm all days
URL:https://mychq.org/event/gourmet-grilled-cheese-bar/2026-01-19/
LOCATION:Merritt Winery\, 2264 King Road\, Forestville\, 14062\, United States
CATEGORIES:Food & Drink
ATTACH;FMTTYPE=image/jpeg:https://mychq.org/wp-content/uploads/2025/12/597847361_1440723358059481_4323022942326476330_n.jpg
ORGANIZER;CN="Merritt Winery":MAILTO:marketing@merrittestatewinery.com
END:VEVENT
BEGIN:VEVENT
DTSTART;TZID=America/New_York:20251206T160000
DTEND;TZID=America/New_York:20251206T180000
DTSTAMP:20260421T074516
CREATED:20251121T163028Z
LAST-MODIFIED:20251121T163028Z
UID:10023239-1765036800-1765044000@mychq.org
SUMMARY:Jolly Holiday Trivia Night
DESCRIPTION:Join us at Merritt Winery for a Jolly Holiday Trivia Night! \nCreate a Team or go it alone for the chance to win a Gift Card to Merritt Winery and one of our cozy black sweatshirts. \nAnswer questions about your favorite holiday media\, from catchy songs\, classic Christmas movies\, delicious seasonal dishes\, and more in our 10-round Trivia Game. \nSaturday\, Dec. 6th\, 2025 at 4pm – 6pm
URL:https://mychq.org/event/jolly-holiday-trivia-night/
LOCATION:Merritt Winery\, 2264 King Road\, Forestville\, 14062\, United States
CATEGORIES:Trivia
ATTACH;FMTTYPE=image/jpeg:https://mychq.org/wp-content/uploads/2025/11/586367676_1424760366322447_5764615466565183412_n.jpg
ORGANIZER;CN="Merritt Winery":MAILTO:marketing@merrittestatewinery.com
END:VEVENT
BEGIN:VEVENT
DTSTART;TZID=America/New_York:20251116T100000
DTEND;TZID=America/New_York:20251116T180000
DTSTAMP:20260421T074516
CREATED:20251023T190016Z
LAST-MODIFIED:20251023T190016Z
UID:10022645-1763287200-1763316000@mychq.org
SUMMARY:Harvest Wine Weekends at Merritt Winery
DESCRIPTION:Harvest Weekends are back in November! We’re selling homemade chili all weekend. Pair it with your favorite glass of Merritt wine. All are welcome so bring your friends and family \nPresent your wine trail ticket and get a free sample of chili and free wine glass.
URL:https://mychq.org/event/harvest-wine-weekends-at-merritt-winery/2025-11-16/
LOCATION:Merritt Winery\, 2264 King Road\, Forestville\, 14062\, United States
CATEGORIES:Food & Drink
ATTACH;FMTTYPE=image/jpeg:https://mychq.org/wp-content/uploads/2025/10/Harvest-Wine-Weekends-Merritt-Winery-November-7-9-and-14-16.jpg
ORGANIZER;CN="Merritt Winery":MAILTO:marketing@merrittestatewinery.com
END:VEVENT
BEGIN:VEVENT
DTSTART;TZID=America/New_York:20251026T120000
DTEND;TZID=America/New_York:20251026T180000
DTSTAMP:20260421T074516
CREATED:20251001T171921Z
LAST-MODIFIED:20251001T171921Z
UID:10022317-1761480000-1761501600@mychq.org
SUMMARY:Merritt Hallo-Wine Weekend
DESCRIPTION:Start your Halloween plans a whole week early withMerritt Hallo-Wine Weekend! All weekend\, we areserving up some fang-tastic wine and candy pairings. \nYour tasting is FREE if you show up in costume! Weare also serving up some special spooky drinks that ourteam masterfully created. \nSaturday from 4 pm – 6 pm we will be holding a Horror MovieTrivia Night! Test your knowledge of all things horrorand win a gift basket worth $100. Work as a team or gosolo to keep the basket to yourself! Grab a seat\, a spooky drink\, and get ready! We can’t wait to see you there! \nFor groups of 10 or more\, please call to make a reservation. \nWinery Hours:Friday: 10am-6pmSat: 10am – 6pmSun: 12pm – 6pm
URL:https://mychq.org/event/merritt-hallo-wine-weekend/2025-10-26/
LOCATION:Merritt Winery\, 2264 King Road\, Forestville\, 14062\, United States
CATEGORIES:Adults Only & Parties
ATTACH;FMTTYPE=image/jpeg:https://mychq.org/wp-content/uploads/2025/10/557538144_1375105851287899_6893433390986816983_n.jpg
ORGANIZER;CN="Merritt Winery":MAILTO:marketing@merrittestatewinery.com
END:VEVENT
BEGIN:VEVENT
DTSTART;TZID=America/New_York:20250907T120000
DTEND;TZID=America/New_York:20250907T183000
DTSTAMP:20260421T074516
CREATED:20250612T154613Z
LAST-MODIFIED:20250612T154613Z
UID:10018478-1757246400-1757269800@mychq.org
SUMMARY:43rd Annual Septemberfest
DESCRIPTION:Announcing our 43rd annual Septemberfest!September 6 & 7\, 2025Merritt Estate Winery | Forestville\, NY \nKick off the fall season with us at Septemberfest! It’s a weekend full of fun for the entire family! This event offers free admission\, free parking\, and is suitable for all ages! The weekend will include: \nLive Music: Enjoy live music all day Saturday & Sunday\, featuring a variety of genres. Make sure to grab our lawn chair to kick back on Saturday. \nSaturday’s line-up:12pm-3pm: Barnstorm3:30pm-6:30pm: Black Widow7:30-10pm: Nerd Gone Wild \nSunday’s line-up:12pm-3pm: The Knight Crew3:30pm-6:30pm: Rockabilly Steve & BR 3 \nCraft & Boutique Vendors: Shop from over 30 local vendors selling unique\, handcrafted fall-themed items and local crafts you can’t find every day! Come shop & support small businesses in our community! \nDelicious Food & Apple Crisp: Make sure to come hungry and stop by the pavilion to grab a bite to eat. Our menu won’t leave you hungry! \nWine & Craft Beer: Enjoy a refreshing ice-cold beer from our craft beer taps\, sip on a wine slush\, or stop by the tasting room for a glass of wine. Non-alcoholic beverages are also available! \n Wine Tasting: Stop by our tasting room to enjoy a comprehensive tasting experience ($5 for 5 wine samples). We also offer tasting room specials and ice-cold bottles for sale. \nKids Activities: featuring Mr. NO the Balloon Guy\, a bounce house\, and fun games! These activities are perfect for the younger kids! \nEVENT HOURS:Saturday\, September 8th: 12 pm-10 pmSunday\, September 7th: 12-6:30pm \nOutside food and beverages are not permitted. \nDog Rules: We love dogs and welcome them to the winery\, but have a few rules…No dogs shall be left in vehicles.All dogs shall be on leashes.You must pick up after your pets.All dogs visiting must be comfortable and friendly with people and other dogs. Please note that we have a resident dog\, Copper\, on the premises at all times.Thank you!! \nKeep checking back in the discussion of this event for a full list of our vendors and more of what to expect as we get closer!
URL:https://mychq.org/event/43rd-annual-septemberfest/2025-09-07/
LOCATION:Merritt Winery\, 2264 King Road\, Forestville\, 14062\, United States
CATEGORIES:Festivals & Fairs
ATTACH;FMTTYPE=image/jpeg:https://mychq.org/wp-content/uploads/2025/06/506109647_1275834884548330_4940412589884452213_n.jpg
ORGANIZER;CN="Merritt Winery":MAILTO:marketing@merrittestatewinery.com
END:VEVENT
END:VCALENDAR