BEGIN:VCALENDAR
VERSION:2.0
PRODID:-//My CHQ - ECPv6.15.20//NONSGML v1.0//EN
CALSCALE:GREGORIAN
METHOD:PUBLISH
X-WR-CALNAME:My CHQ
X-ORIGINAL-URL:https://mychq.org
X-WR-CALDESC:Events for My CHQ
REFRESH-INTERVAL;VALUE=DURATION:PT1H
X-Robots-Tag:noindex
X-PUBLISHED-TTL:PT1H
BEGIN:VTIMEZONE
TZID:America/New_York
BEGIN:DAYLIGHT
TZOFFSETFROM:-0500
TZOFFSETTO:-0400
TZNAME:EDT
DTSTART:20240310T070000
END:DAYLIGHT
BEGIN:STANDARD
TZOFFSETFROM:-0400
TZOFFSETTO:-0500
TZNAME:EST
DTSTART:20241103T060000
END:STANDARD
BEGIN:DAYLIGHT
TZOFFSETFROM:-0500
TZOFFSETTO:-0400
TZNAME:EDT
DTSTART:20250309T070000
END:DAYLIGHT
BEGIN:STANDARD
TZOFFSETFROM:-0400
TZOFFSETTO:-0500
TZNAME:EST
DTSTART:20251102T060000
END:STANDARD
BEGIN:DAYLIGHT
TZOFFSETFROM:-0500
TZOFFSETTO:-0400
TZNAME:EDT
DTSTART:20260308T070000
END:DAYLIGHT
BEGIN:STANDARD
TZOFFSETFROM:-0400
TZOFFSETTO:-0500
TZNAME:EST
DTSTART:20261101T060000
END:STANDARD
BEGIN:DAYLIGHT
TZOFFSETFROM:-0500
TZOFFSETTO:-0400
TZNAME:EDT
DTSTART:20270314T070000
END:DAYLIGHT
BEGIN:STANDARD
TZOFFSETFROM:-0400
TZOFFSETTO:-0500
TZNAME:EST
DTSTART:20271107T060000
END:STANDARD
END:VTIMEZONE
BEGIN:VEVENT
DTSTART;TZID=America/New_York:20260404T100000
DTEND;TZID=America/New_York:20260404T120000
DTSTAMP:20260422T172606
CREATED:20260324T205612Z
LAST-MODIFIED:20260324T205612Z
UID:10027473-1775296800-1775304000@mychq.org
SUMMARY:Easter Egg Hunt @ Lucille Ball Memorial Park
DESCRIPTION:The Easter Egg Hunt for the Village of Celoron will be on April 4\, 2026 at 10am for ages 1-12. See the attached poster for details about the hunt and the Bike Drawing.
URL:https://mychq.org/event/easter-egg-hunt-lucille-ball-memorial-park/
LOCATION:Lucille Ball Memorial Park\, 21 Boulevard Ave\, Jamestown\, 14701\, United States
CATEGORIES:Kids & Family
ATTACH;FMTTYPE=image/jpeg:https://mychq.org/wp-content/uploads/2026/03/655300560_931441649594899_6646702586755649410_n.jpg
END:VEVENT
BEGIN:VEVENT
DTSTART;TZID=America/New_York:20250809T080000
DTEND;TZID=America/New_York:20250809T170000
DTSTAMP:20260422T172606
CREATED:20250403T225829Z
LAST-MODIFIED:20250403T225829Z
UID:10015864-1754726400-1754758800@mychq.org
SUMMARY:Chautauqua Lake Dragon Boat Festival!
DESCRIPTION:Have you heard? The Dragons are coming back to Chautauqua Lake! \n\nMark your calendars for Saturday\, August 9\, and get ready to experience the exhilarating excitement of Dragon Boat Racing!\nThis is a unique opportunity for your club\, business\, family\, or organization to get involved in a fun team-building activity while helping to raise funds for organizations that care for the lake we all love.\nLarge businesses or clubs can register for one of our 20-person boats. Our 10-person boats are perfect for small businesses and groups.\n Register before April 30 to SAVE $100!\nTo learn more or to register your team\, visit:\nhttps://bit.ly/chq-dragon-boat\n\nCHQ Lake Dragon Race
URL:https://mychq.org/event/chautauqua-lake-dragon-boat-festival/
LOCATION:Lucille Ball Memorial Park\, 21 Boulevard Ave\, Jamestown\, 14701\, United States
CATEGORIES:Festivals & Fairs
ATTACH;FMTTYPE=image/jpeg:https://mychq.org/wp-content/uploads/2025/04/488008797_1101823858640229_6660982621753782366_n.jpg
ORGANIZER;CN="Chautauqua Lake Association":MAILTO:heather@chautauqualakeassociation.org
END:VEVENT
END:VCALENDAR