BEGIN:VCALENDAR
VERSION:2.0
PRODID:-//Chautauqua County Events, Local Businesses &amp; Resources | My CHQ - ECPv6.15.20//NONSGML v1.0//EN
CALSCALE:GREGORIAN
METHOD:PUBLISH
X-ORIGINAL-URL:https://mychq.org
X-WR-CALDESC:Events for Chautauqua County Events, Local Businesses &amp; Resources | My CHQ
REFRESH-INTERVAL;VALUE=DURATION:PT1H
X-Robots-Tag:noindex
X-PUBLISHED-TTL:PT1H
BEGIN:VTIMEZONE
TZID:America/New_York
BEGIN:DAYLIGHT
TZOFFSETFROM:-0500
TZOFFSETTO:-0400
TZNAME:EDT
DTSTART:20240310T070000
END:DAYLIGHT
BEGIN:STANDARD
TZOFFSETFROM:-0400
TZOFFSETTO:-0500
TZNAME:EST
DTSTART:20241103T060000
END:STANDARD
BEGIN:DAYLIGHT
TZOFFSETFROM:-0500
TZOFFSETTO:-0400
TZNAME:EDT
DTSTART:20250309T070000
END:DAYLIGHT
BEGIN:STANDARD
TZOFFSETFROM:-0400
TZOFFSETTO:-0500
TZNAME:EST
DTSTART:20251102T060000
END:STANDARD
BEGIN:DAYLIGHT
TZOFFSETFROM:-0500
TZOFFSETTO:-0400
TZNAME:EDT
DTSTART:20260308T070000
END:DAYLIGHT
BEGIN:STANDARD
TZOFFSETFROM:-0400
TZOFFSETTO:-0500
TZNAME:EST
DTSTART:20261101T060000
END:STANDARD
END:VTIMEZONE
BEGIN:VEVENT
DTSTART;TZID=America/New_York:20250817T190000
DTEND;TZID=America/New_York:20250817T220000
DTSTAMP:20260425T064402
CREATED:20250715T133805Z
LAST-MODIFIED:20250715T133805Z
UID:10019722-1755457200-1755468000@mychq.org
SUMMARY:An Evening of Seneca Social Dancing
DESCRIPTION:Special shoutout to John Block\, the event coordinator and proud graduate of Fellowships of the Spirit—let’s show him some love and support! \n\n Join us for an unforgettable night of culture\, rhythm\, and tradition!\nAn Evening of Seneca Social Dancing is coming to Lily Dale on August 17 from 7–10 PM in the Auditorium—featuring the incredible Seneca Allegany Iroquois Dancers!\n\nExperience traditional songs\, fast-paced Smoke Dances\, and audience participation that brings the culture to life. \n Tickets: $50 \n Lily Dale Auditorium \nDon’t miss this beautiful celebration of Indigenous heritage! \nTICKETS: https://www.lilydaleassembly.org/…/an-evening-of-seneca…
URL:https://mychq.org/event/an-evening-of-seneca-social-dancing/
LOCATION:Lily Dale Assembly\, Inc.\, 5 Melrose Park\, Lily Dale\, 14752\, United States
CATEGORIES:Festivals & Fairs
ATTACH;FMTTYPE=image/jpeg:https://mychq.org/wp-content/uploads/2025/07/519423256_1131306792377802_6939341183939564707_n.jpg
ORGANIZER;CN="Lily Dale Assembly%2C Inc.":MAILTO:socialmedia@lilydaleassembly.org
END:VEVENT
BEGIN:VEVENT
DTSTART;TZID=America/New_York:20250809T203000
DTEND;TZID=America/New_York:20250809T223000
DTSTAMP:20260425T064402
CREATED:20241112T225715Z
LAST-MODIFIED:20241112T225715Z
UID:10011204-1754771400-1754778600@mychq.org
SUMMARY:Paranormal Investigation!
DESCRIPTION:Time & LocationAug 09\, 2025\, 8:30 PM – 10:30 PM\nLily Dale\, Lily Dale\, NY 14718\, USA\nAbout the Event\n\nPARANORMAL INVESTIGATION\n\nBrian J. Cano\, Dustin Pari\, John Zaffis\, Auditorium\n\n8:30 p.m. to 10:30 p.m.\n$50\n\nJoin Brian\, Dustin\, and John and they do a paranormal investigation of Historic Lily Dale! Venture into the Octagon\, Assembly Hall\, Lyceum\, Leolyn Woods\, and the Auditorium for a hands-on ghost hunting adventure for paranormal evidence. This is an authentic opportunity to explore alongside some of the most experienced investigators in their field. You are welcome to bring your own equipment. This event is limited to 20.
URL:https://mychq.org/event/paranormal-investigation/
LOCATION:Lily Dale Assembly\, Inc.\, 5 Melrose Park\, Lily Dale\, 14752\, United States
CATEGORIES:Other
ATTACH;FMTTYPE=image/jpeg:https://mychq.org/wp-content/uploads/2024/11/465454093_981190134038444_7769037790603835976_n.jpg
ORGANIZER;CN="Lily Dale Assembly%2C Inc.":MAILTO:socialmedia@lilydaleassembly.org
END:VEVENT
BEGIN:VEVENT
DTSTART;TZID=America/New_York:20250809T180000
DTEND;TZID=America/New_York:20250809T210000
DTSTAMP:20260425T064402
CREATED:20250715T150040Z
LAST-MODIFIED:20250715T150040Z
UID:10019728-1754762400-1754773200@mychq.org
SUMMARY:City of Light Spiritualist Church Fun Fair
DESCRIPTION:Reduced Lily Dale Gate Fee at 6:00pm & Free admission to Fun Fair. Mini Readings with Mediums & Psychics $10 for 10 min.\, Theme Basket Raffle\, 50/50 Raffle\, Silent Auction\, Bake Sale\, Book Sale\, Food & Fun!
URL:https://mychq.org/event/city-of-light-spiritualist-church-fun-fair/
LOCATION:Lily Dale Assembly\, Inc.\, 5 Melrose Park\, Lily Dale\, 14752\, United States
CATEGORIES:Festivals & Fairs
ATTACH;FMTTYPE=image/jpeg:https://mychq.org/wp-content/uploads/2025/07/515439682_10024141594364815_585906477135785417_n.jpg
ORGANIZER;CN="Lily Dale Assembly%2C Inc.":MAILTO:socialmedia@lilydaleassembly.org
END:VEVENT
BEGIN:VEVENT
DTSTART;TZID=America/New_York:20250808T190000
DTEND;TZID=America/New_York:20250808T220000
DTSTAMP:20260425T064402
CREATED:20241112T225556Z
LAST-MODIFIED:20241112T225912Z
UID:10011203-1754679600-1754690400@mychq.org
SUMMARY:Pathways | Interactive Paranormal Theater
DESCRIPTION:Time & LocationAug 08\, 2025\, 7:00 PM – 10:00 PM\nLily Dale\, Auditorium\, Lily Dale\, NY 14718\, USA\nAbout the EventFriday\, August 8\nPATHWAYS – Interactive Paranormal Theater\n\nBrian J. Cano\, Dustin Pari and featured guest John Zaffis\n\n7:00 p.m. to 10:00 p.m.\, Auditorium\n$55\n\nVIP $75 (includes ticket)\n\nJoin Paranormal Researchers Brian J. Cano and Dustin Pari along with featured guest\, John Zaffis\, for an interactive and immersive theater adventure that puts YOU in control! Pathways is part choose-your-adventure\, part experiment. Which path will you choose?\n6:00pm – Special VIP – includes photo\, quick meet/greet and first front two rows of seating. Limited tickets!
URL:https://mychq.org/event/pathways-interactive-paranormal-theater/
LOCATION:Lily Dale Assembly\, Inc.\, 5 Melrose Park\, Lily Dale\, 14752\, United States
CATEGORIES:Other
ATTACH;FMTTYPE=image/jpeg:https://mychq.org/wp-content/uploads/2024/11/465677691_981182284039229_6794309155160188286_n.jpg
ORGANIZER;CN="Lily Dale Assembly%2C Inc.":MAILTO:socialmedia@lilydaleassembly.org
END:VEVENT
END:VCALENDAR