BEGIN:VCALENDAR
VERSION:2.0
PRODID:-//My CHQ - ECPv6.15.20//NONSGML v1.0//EN
CALSCALE:GREGORIAN
METHOD:PUBLISH
X-WR-CALNAME:My CHQ
X-ORIGINAL-URL:https://mychq.org
X-WR-CALDESC:Events for My CHQ
REFRESH-INTERVAL;VALUE=DURATION:PT1H
X-Robots-Tag:noindex
X-PUBLISHED-TTL:PT1H
BEGIN:VTIMEZONE
TZID:America/New_York
BEGIN:DAYLIGHT
TZOFFSETFROM:-0500
TZOFFSETTO:-0400
TZNAME:EDT
DTSTART:20250309T070000
END:DAYLIGHT
BEGIN:STANDARD
TZOFFSETFROM:-0400
TZOFFSETTO:-0500
TZNAME:EST
DTSTART:20251102T060000
END:STANDARD
BEGIN:DAYLIGHT
TZOFFSETFROM:-0500
TZOFFSETTO:-0400
TZNAME:EDT
DTSTART:20260308T070000
END:DAYLIGHT
BEGIN:STANDARD
TZOFFSETFROM:-0400
TZOFFSETTO:-0500
TZNAME:EST
DTSTART:20261101T060000
END:STANDARD
BEGIN:DAYLIGHT
TZOFFSETFROM:-0500
TZOFFSETTO:-0400
TZNAME:EDT
DTSTART:20270314T070000
END:DAYLIGHT
BEGIN:STANDARD
TZOFFSETFROM:-0400
TZOFFSETTO:-0500
TZNAME:EST
DTSTART:20271107T060000
END:STANDARD
END:VTIMEZONE
BEGIN:VEVENT
DTSTART;TZID=America/New_York:20260614T130000
DTEND;TZID=America/New_York:20260614T200000
DTSTAMP:20260422T204342
CREATED:20260112T170611Z
LAST-MODIFIED:20260112T170611Z
UID:10024191-1781442000-1781467200@mychq.org
SUMMARY:An Afternoon of Pride in Historic Lily Dale!
DESCRIPTION:An Afternoon of Pride in Historic Lily Dale\, New YorkJune 14 • 1:00 PM – 8:00 PMSponsored by Sacred Grounds Coffee House \nCelebrate love\, history\, and community in one of the most unique spiritualist centers in the world. An Afternoon of Pride invites you to gather in the heart of historic Lily Dale for a full day dedicated to honoring LGBTQ+ stories\, voices\, and creative expression. \nThis vibrant community event brings together education\, conversation\, celebration\, and music in a welcoming lakeside setting known for its long tradition of spiritual openness. \n What to ExpectHistorical LGBTQ+ TalksExplore the rich and often overlooked history of LGBTQ+ individuals\, movements\, and cultural contributions\, including their intersections with spiritualism\, activism\, and community resilience. \nPanel DiscussionsJoin speakers\, advocates\, and community members for thoughtful conversations about identity\, inclusion\, and the ongoing journey toward equality. \nCommunity ResourcesConnect with local organizations offering support\, information\, and opportunities to get involved. \nFun & FestivitiesEnjoy a warm\, inclusive atmosphere with activities\, conversation\, and the charm of Lily Dale’s historic grounds. \nLive Music by Silent LegacyClose out the evening with an electrifying performance by Silent Legacy\, a Melissa Etheridge cover band delivering heartfelt vocals\, soulful guitar\, and the unmistakable energy of Etheridge’s iconic sound. \nMini Readings Available 7pm to 8pm \n Hosted with Heart by Sacred Grounds Coffee HouseEnjoy specialty drinks\, treats\, and the cozy hospitality of Sacred Grounds—your local hub for creativity\, connection\, and community spirit. \nInterested in helping Sponsor the Event? Please reach out to Stacy or Michele at sacredgroundld@gmail.com \nWant a resource table please reach out!
URL:https://mychq.org/event/an-afternoon-of-pride-in-historic-lily-dale/
LOCATION:Lily Dale Assembly\, Inc.\, 5 Melrose Park\, Lily Dale\, 14752\, United States
CATEGORIES:LGBTQ+
ATTACH;FMTTYPE=image/jpeg:https://mychq.org/wp-content/uploads/2026/01/613934076_1595389431417351_6349187480227929392_n.jpg
ORGANIZER;CN="Sacred Grounds Coffee House":MAILTO:sacredgroundsld@gmail.com
END:VEVENT
BEGIN:VEVENT
DTSTART;TZID=America/New_York:20260614T170000
DTEND;TZID=America/New_York:20260614T190000
DTSTAMP:20260422T204342
CREATED:20260129T144616Z
LAST-MODIFIED:20260129T144616Z
UID:10024543-1781456400-1781463600@mychq.org
SUMMARY:Silent Legacy Band - A Tribute to the Music of Melissa Etheridge
DESCRIPTION:Get ready for an afternoon of raw emotion and rock-powered nostalgia — Silent Legacy Band brings the unforgettable music of Melissa Etheridge to life with heart\, soul\, and unforgettable energy. \nAs Western New York’s premier Melissa Etheridge tribute band\, Silent Legacy delivers all your favorite Etheridge songs — from her early hits of the 1980s to her more recent work — with the same raspy vocals\, the classic 12-string guitar\, and that signature passionate delivery that made Etheridge a legend. Led by powerhouse vocalist Tara (who has been performing Etheridge covers for over 20 years)\, the band weaves together soaring vocals and tight musicianship for a performance that’s equal parts nostalgia and fresh energy.Fans say Tara’s voice “makes you feel the lyrics” — full of vulnerability one moment\, full of fire the next — and automatically draws you in\, whether you’re a longtime Etheridge fan or a first-time listener. \nSilent Legacy isn’t just a cover band. They are a tribute — meaning a carefully crafted\, deeply felt homage to the spirit and sound of Melissa Etheridge. Their shows deliver the emotion\, grit\, and intimacy that fans know and love. Whether you’re reliving memories\, belting out songs with friends\, or discovering Etheridge’s music for the first time — Silent Legacy Band promises a night you’ll remember. \nDon’t miss your chance to see them live … come celebrate the legacy in Lily Dale\, NY. \nMore information to follow.
URL:https://mychq.org/event/silent-legacy-band-a-tribute-to-the-music-of-melissa-etheridge/
LOCATION:Lily Dale Assembly\, Inc.\, 5 Melrose Park\, Lily Dale\, 14752\, United States
CATEGORIES:Music & Entertainment
ATTACH;FMTTYPE=image/jpeg:https://mychq.org/wp-content/uploads/2026/01/600798053_122241224420159984_3991852785364282466_n.jpg
ORGANIZER;CN="Silent Legacy Band":MAILTO:Silentlegacyband@yahoo.com
END:VEVENT
BEGIN:VEVENT
DTSTART;TZID=America/New_York:20260620T093000
DTEND;TZID=America/New_York:20260620T113000
DTSTAMP:20260422T204342
CREATED:20260224T212844Z
LAST-MODIFIED:20260224T212844Z
UID:10026608-1781947800-1781955000@mychq.org
SUMMARY:Opening Ceremony | Monks of Drepung Loseling Monastery
DESCRIPTION:Lily Dale Assembly opens its 147th season with a truly extraordinary week-long visit from the monks of Drepung Loseling Monastery — one of the most revered institutions in Tibetan Buddhism. From June 20 through 24\, the monks will be in residence at the Lily Dale Fire Hall on East Street\, where they will create a sacred Medicine Buddha Sand Mandala — an ancient ritual of breathtaking beauty and profound spiritual significance. \nThe sand mandala is one of Buddhism’s most powerful symbols of impermanence and compassion. Over the course of several days\, the monks will painstakingly construct the mandala using colored sand — and then\, in a deeply moving closing ceremony\, dismantle it and release the sand into Cassadaga Lake\, sending its blessings out into the world. \nThroughout the week\, visitors are welcome to come and watch the monks at work\, learn about the sand and tools they use\, and witness a tradition that has been practiced for centuries. \nSaturday\, June 20: \n9:30–11:30 AM — Opening Ceremony: The preparation and creation of the Medicine Buddha Sand Mandala begins (Lily Dale Fire Hall) — $55 \n5:30–6:30 PM — Community Picnic Benefit: Share a spiritual meal with the Monks in the Picnic Pavilion next to the Fire Hall. Hosted by the City of Light Spiritualist Church. $10 Love Donation — all proceeds benefit the Monks. \n8:00–10:00 PM — Performance of the Medicine Buddha Puja with Blessings (Lily Dale Auditorium): A sacred evening for healing\, well-being\, and peace — featuring Tibetan long horns\, trumpets\, percussion\, and meditative chants practiced during auspicious times to call in the higher powers of good. — $30
URL:https://mychq.org/event/opening-ceremony-monks-of-drepung-loseling-monastery/
LOCATION:Lily Dale Assembly\, Inc.\, 5 Melrose Park\, Lily Dale\, 14752\, United States
CATEGORIES:Church & Religion
ATTACH;FMTTYPE=image/jpeg:https://mychq.org/wp-content/uploads/2026/02/636403294_1362588269231960_9013102430010612569_n.jpg
ORGANIZER;CN="Lily Dale Assembly%2C Inc.":MAILTO:socialmedia@lilydaleassembly.org
END:VEVENT
BEGIN:VEVENT
DTSTART;TZID=America/New_York:20260620T173000
DTEND;TZID=America/New_York:20260620T183000
DTSTAMP:20260422T204342
CREATED:20260226T140946Z
LAST-MODIFIED:20260226T140946Z
UID:10026652-1781976600-1781980200@mychq.org
SUMMARY:Community Picnic Benefit | Tibetan Monks
DESCRIPTION:Time & LocationJun 20\, 2026\, 5:30 PM – 6:30 PM \nLily Dale Volunteer Fire Station\, 17 East St\, Lily Dale\, NY 14752\, USA \nAbout the EventCommunity Picnic Benefit: Share a spiritual meal with the Monks in the Picnic Pavilion next to the Fire Hall. Hosted by the City of Light Spiritualist Church. $10 Love Donation — all proceeds benefit the Monks.
URL:https://mychq.org/event/community-picnic-benefit-tibetan-monks/
LOCATION:Lily Dale Assembly\, Inc.\, 5 Melrose Park\, Lily Dale\, 14752\, United States
CATEGORIES:Fundraising
ATTACH;FMTTYPE=image/jpeg:https://mychq.org/wp-content/uploads/2026/02/635489500_1362592629231524_3159020364789398818_n.jpg
ORGANIZER;CN="Lily Dale Assembly%2C Inc.":MAILTO:socialmedia@lilydaleassembly.org
END:VEVENT
BEGIN:VEVENT
DTSTART;TZID=America/New_York:20260620T200000
DTEND;TZID=America/New_York:20260620T220000
DTSTAMP:20260422T204342
CREATED:20260226T141045Z
LAST-MODIFIED:20260226T141045Z
UID:10026653-1781985600-1781992800@mychq.org
SUMMARY:Performance of the Medicine Buddha Puja with Blessings | Tibetan Monks
DESCRIPTION:Performance of the Medicine Buddha Puja with Blessings | Tibetan MonksSat\, Jun 20 | Lily Dale AuditoriumInfo & Purchase TktsPerformance of the Medicine Buddha Puja with Blessings | Tibetan MonksTime & LocationJun 20\, 2026\, 8:00 PM – 10:00 PM \nLily Dale Auditorium\, Melrose Dr\, Lily Dale\, NY 14752\, USA \nAbout the EventA sacred evening for healing\, well-being\, and peace — featuring Tibetan long horns\, trumpets\, percussion\, and meditative chants practiced during auspicious times to call in the higher powers of good. — $30
URL:https://mychq.org/event/performance-of-the-medicine-buddha-puja-with-blessings-tibetan-monks/
LOCATION:Lily Dale Assembly\, Inc.\, 5 Melrose Park\, Lily Dale\, 14752\, United States
CATEGORIES:Church & Religion
ATTACH;FMTTYPE=image/jpeg:https://mychq.org/wp-content/uploads/2026/02/638029948_1362595525897901_8179594600119591234_n.jpg
ORGANIZER;CN="Lily Dale Assembly%2C Inc.":MAILTO:socialmedia@lilydaleassembly.org
END:VEVENT
BEGIN:VEVENT
DTSTART;TZID=America/New_York:20260621T090000
DTEND;TZID=America/New_York:20260621T210000
DTSTAMP:20260422T204342
CREATED:20260218T001143Z
LAST-MODIFIED:20260218T001143Z
UID:10024930-1782032400-1782075600@mychq.org
SUMMARY:Continuing the Creation of the Medicine Buddha Sand Mandala
DESCRIPTION:Jun 21\, 2026\, 9:00 AM – Jun 22\, 2026\, 7:00 PM \nLily Dale Auditorium\, Melrose Dr\, Lily Dale\, NY 14752\, USA \nAbout the EventThe monks continue the creation of the Medicine Buddha Sand Mandala at the Fire Hall. Visitors are welcome to come watch\, learn\, and experience the sacred process up close. — FREE
URL:https://mychq.org/event/continuing-the-creation-of-the-medicine-buddha-sand-mandala/2026-06-21/
LOCATION:Lily Dale Assembly\, Inc.\, 5 Melrose Park\, Lily Dale\, 14752\, United States
CATEGORIES:Church & Religion
ATTACH;FMTTYPE=image/jpeg:https://mychq.org/wp-content/uploads/2026/02/638011121_1362598225897631_9212504213539917450_n.jpg
ORGANIZER;CN="Lily Dale Assembly%2C Inc.":MAILTO:socialmedia@lilydaleassembly.org
END:VEVENT
BEGIN:VEVENT
DTSTART;TZID=America/New_York:20260621T093000
DTEND;TZID=America/New_York:20260621T123000
DTSTAMP:20260422T204342
CREATED:20260226T141224Z
LAST-MODIFIED:20260226T141224Z
UID:10026654-1782034200-1782045000@mychq.org
SUMMARY:Mediumship 101: Introduction to Mediumship for Beginners
DESCRIPTION:Jul 21\, 2026\, 9:30 AM – 12:30 PM \nLocation: Lily Dale Assembly Hall\, 11 Cleveland Ave\, Lily Dale\, NY 14752 \n\nEvent Description: \nMediumship 101 is a beginner-friendly workshop designed for anyone curious about mediumship and ready to take their very first steps toward connecting with Spirit. In this three-hour\, hands-on experience\, you will explore your intuitive gifts in a safe\, supportive\, and encouraging space — guided every step of the way. \nNo prior experience is needed. All you need is an open heart and a willingness to explore. Over the course of the morning\, you will learn: \nWhat mediumship is — and how it differs from psychic work \nGrounding and protection techniques to keep your energy safe \nHow to recognize and begin developing your clairs: clairvoyance\, clairaudience\, clairsentience\, and claircognizance \nSimple\, practical ways to raise your vibration and begin connecting with Spirit \nGuided exercises and breakout sessions to practice alongside fellow participants \nYou will leave with real\, practical tools\, a deeper sense of confidence\, and a connection to something you may have sensed all along. Please bring a notebook or journal. \nPresenter Bio \nWilla White is an internationally known spiritual medium with over 30 years of experience and a Registered Medium at Lily Dale since 2003. She teaches fun\, hands‑on mediumship classes and hosts the long‑running podcast Wednesdays with Willa on Spiritualism and mediumship.
URL:https://mychq.org/event/mediumship-101-introduction-to-mediumship-for-beginners/
LOCATION:Lily Dale Assembly\, Inc.\, 5 Melrose Park\, Lily Dale\, 14752\, United States
CATEGORIES:Church & Religion
ATTACH;FMTTYPE=image/jpeg:https://mychq.org/wp-content/uploads/2026/02/638324604_1365287175628736_4779654871358768346_n.jpg
ORGANIZER;CN="Lily Dale Assembly%2C Inc.":MAILTO:socialmedia@lilydaleassembly.org
END:VEVENT
BEGIN:VEVENT
DTSTART;TZID=America/New_York:20260623T093000
DTEND;TZID=America/New_York:20260623T120000
DTSTAMP:20260422T204342
CREATED:20260226T141417Z
LAST-MODIFIED:20260226T141417Z
UID:10026655-1782207000-1782216000@mychq.org
SUMMARY:Closing Ceremony | Tibetan Monks
DESCRIPTION:Jun 23\, 2026\, 9:30 AM – 12:00 PM \nLily Dale Volunteer Fire Station\, 17 East St\, Lily Dale\, NY 14752\, USA \nAbout the Event9:30 AM–12:00 PM — Closing Ceremony: The mandala is dismantled in a sacred ritual. Participants will receive a packet of the sand and are invited to join in a procession from the Fire Hall to the Lily Dale beach for the dispersion of the sand into the lake — bringing peace to all. — $55
URL:https://mychq.org/event/closing-ceremony-tibetan-monks/
LOCATION:Lily Dale Assembly\, Inc.\, 5 Melrose Park\, Lily Dale\, 14752\, United States
CATEGORIES:Church & Religion
ATTACH;FMTTYPE=image/jpeg:https://mychq.org/wp-content/uploads/2026/02/638048795_1362603779230409_6471802800715138903_n.jpg
ORGANIZER;CN="Lily Dale Assembly%2C Inc.":MAILTO:socialmedia@lilydaleassembly.org
END:VEVENT
BEGIN:VEVENT
DTSTART;TZID=America/New_York:20260624T100000
DTEND;TZID=America/New_York:20260624T120000
DTSTAMP:20260422T204342
CREATED:20260226T141524Z
LAST-MODIFIED:20260226T141524Z
UID:10026656-1782295200-1782302400@mychq.org
SUMMARY:Blessing of the Children & Pets | Tibetan Monks
DESCRIPTION:Time & LocationJun 24\, 2026\, 10:00 AM – 12:00 PM \nLily Dale Lyceum\, Lily Dale\, NY 14752\, USA \nAbout the Event10:00 AM — Blessing of the Children & Pets in front of the Lyceum on East Street. A Love Donation is suggested.
URL:https://mychq.org/event/blessing-of-the-children-pets-tibetan-monks/
LOCATION:Lily Dale Assembly\, Inc.\, 5 Melrose Park\, Lily Dale\, 14752\, United States
CATEGORIES:Church & Religion
ATTACH;FMTTYPE=image/jpeg:https://mychq.org/wp-content/uploads/2026/02/636702429_1362607872563333_8155260683676743407_n.jpg
ORGANIZER;CN="Lily Dale Assembly%2C Inc.":MAILTO:socialmedia@lilydaleassembly.org
END:VEVENT
BEGIN:VEVENT
DTSTART;TZID=America/New_York:20260627T170000
DTEND;TZID=America/New_York:20260627T180000
DTSTAMP:20260422T204342
CREATED:20260226T141652Z
LAST-MODIFIED:20260226T141652Z
UID:10026657-1782579600-1782583200@mychq.org
SUMMARY:Private VIP Event with Author Wendy Corsi Staub | Season Highlight
DESCRIPTION:Private VIP Event with Author Wendy Corsi Staub | Season HighlightSat\, Jun 27 | Lily DaleAn exclusive\, intimate evening with New York Times and USA Today best-selling author Wendy Corsi Staub. Limited to just 30 guests\, this private event at the Azur Room of the Maplewood Hotel features light bites and libations — a rare opportunity to connect personally with the author behind 13 booksInfo & Purchase TktsPrivate VIP Event with Author Wendy Corsi Staub | Season HighlightTime & LocationJun 27\, 2026\, 5:00 PM – 6:00 PM \nLily Dale\, 11 Cleveland Ave\, Lily Dale\, NY 14752\, USA \nAbout the EventEvent Description \nAn exclusive\, intimate evening with New York Times and USA Today best-selling author Wendy Corsi Staub. Limited to just 30 guests\, this private event at the Azur Room of the Maplewood Hotel features light bites and libations — a rare opportunity to connect personally with the author behind 13 books set right here in Lily Dale. Her novels bring the community to vivid life through beloved characters like widowed Bella at the Valley View Inn\, her son Sam and his friend Jiffy\, veterinarian Dr. Ben\, and the colorful cast of quirky Lily Dale locals. \nYour VIP ticket also includes front-row seating for the evening’s Season Highlight event\, Conversations with Creators\, at 7 pm in the Auditorium. \nPresenter Bio \nWendy Corsi Staub is a New York Times and USA Today best-selling author who grew up in nearby Dunkirk\, New York. Over the course of her career she has written 13 books set in Lily Dale\, including the beloved Lily Dale Mystery series published by Minotaur Books (St. Martin’s Press / Macmillan). Her novels bring the quirky\, Victorian-era town to vivid life through compelling characters and layered mysteries\, and have introduced readers around the world to the real history and spirit of this remarkable community. Her newest Lily Dale Mystery is set to release in July 2026.
URL:https://mychq.org/event/private-vip-event-with-author-wendy-corsi-staub-season-highlight/
LOCATION:Lily Dale Assembly\, Inc.\, 5 Melrose Park\, Lily Dale\, 14752\, United States
CATEGORIES:Books & Reading
ATTACH;FMTTYPE=image/jpeg:https://mychq.org/wp-content/uploads/2026/02/638002815_1363473289143458_4174815897143215199_n.jpg
ORGANIZER;CN="Lily Dale Assembly%2C Inc.":MAILTO:socialmedia@lilydaleassembly.org
END:VEVENT
BEGIN:VEVENT
DTSTART;TZID=America/New_York:20260627T190000
DTEND;TZID=America/New_York:20260627T210000
DTSTAMP:20260422T204342
CREATED:20260226T141822Z
LAST-MODIFIED:20260226T141822Z
UID:10026658-1782586800-1782594000@mychq.org
SUMMARY:Conversations with Creators | Wendy Corsi Staub with Dr. Lauren Thibodeau
DESCRIPTION:Time & LocationJun 27\, 2026\, 7:00 PM – 9:00 PM \nLily Dale Auditorium\, Melrose Dr\, Lily Dale\, NY 14752\, USA \nAbout the EventEvent Description \nJoin New York Times and USA Today best-selling author Wendy Corsi Staub\, who grew up in nearby Dunkirk\, for an evening celebrating her beloved mystery series set in Lily Dale. Wendy will be in conversation with Dr. Lauren Thibodeau\, a registered Medium living right here in Lily Dale — someone Wendy interviewed extensively while researching and writing her books. Together they will explore how this very real community inspired the setting\, characters\, and mysteries on the page. \nBring your questions! You will also have the opportunity to have books purchased at the event signed by the author. \nPresenter Bio \nWendy Corsi Staub is a New York Times and USA Today best-selling author who grew up in nearby Dunkirk\, New York. Over the course of her career she has written 13 books set in Lily Dale\, including the beloved Lily Dale Mystery series published by Minotaur Books (St. Martin’s Press / Macmillan). Her novels bring the quirky\, Victorian-era town to vivid life through compelling characters and layered mysteries\, and have introduced readers around the world to the real history and spirit of this remarkable community. Her newest Lily Dale Mystery is set to release in July 2026.
URL:https://mychq.org/event/conversations-with-creators-wendy-corsi-staub-with-dr-lauren-thibodeau/
LOCATION:Lily Dale Assembly\, Inc.\, 5 Melrose Park\, Lily Dale\, 14752\, United States
CATEGORIES:Speaker & Conventions
ATTACH;FMTTYPE=image/jpeg:https://mychq.org/wp-content/uploads/2026/02/638166041_1363483642475756_1129699371094734246_n.jpg
ORGANIZER;CN="Lily Dale Assembly%2C Inc.":MAILTO:socialmedia@lilydaleassembly.org
END:VEVENT
BEGIN:VEVENT
DTSTART;TZID=America/New_York:20260727T140000
DTEND;TZID=America/New_York:20260727T170000
DTSTAMP:20260422T204342
CREATED:20260318T204130Z
LAST-MODIFIED:20260318T204130Z
UID:10027324-1785160800-1785171600@mychq.org
SUMMARY:Power of Plants with Tim Brainard
DESCRIPTION:Jul 27\, 2026\, 2:00 PM – 5:00 PM \nLily Dale Lyceum\, Lily Dale\, NY 14752\, USA \nAbout the EventLearn about nature’s hidden communication within your spirit. Plants and nature are infused with the life force of spirit\, and you can connect to its healing properties. Tim will give messages through the flowers. This lost art was once called a flower message service. \n\nPresenter Bio \nTim Brainard is a spiritual guidance counselor\, gifted intuitive\, licensed and ordained minister with over 40 years of experience. Tim has hosted the radio program titled Psychic Thursdays for over 14 years and has served as a visiting medium in Lily Dale NY for 58 years.
URL:https://mychq.org/event/power-of-plants-with-tim-brainard/
LOCATION:Lily Dale Assembly\, Inc.\, 5 Melrose Park\, Lily Dale\, 14752\, United States
CATEGORIES:Speaker & Conventions
ATTACH;FMTTYPE=image/jpeg:https://mychq.org/wp-content/uploads/2026/03/653787491_1387672970056823_598719605662075276_n.jpg
ORGANIZER;CN="Lily Dale Assembly%2C Inc.":MAILTO:socialmedia@lilydaleassembly.org
END:VEVENT
END:VCALENDAR