BEGIN:VCALENDAR
VERSION:2.0
PRODID:-//Chautauqua County Events, Local Businesses &amp; Resources | My CHQ - ECPv6.15.20//NONSGML v1.0//EN
CALSCALE:GREGORIAN
METHOD:PUBLISH
X-WR-CALNAME:Chautauqua County Events, Local Businesses &amp; Resources | My CHQ
X-ORIGINAL-URL:https://mychq.org
X-WR-CALDESC:Events for Chautauqua County Events, Local Businesses &amp; Resources | My CHQ
REFRESH-INTERVAL;VALUE=DURATION:PT1H
X-Robots-Tag:noindex
X-PUBLISHED-TTL:PT1H
BEGIN:VTIMEZONE
TZID:America/New_York
BEGIN:DAYLIGHT
TZOFFSETFROM:-0500
TZOFFSETTO:-0400
TZNAME:EDT
DTSTART:20250309T070000
END:DAYLIGHT
BEGIN:STANDARD
TZOFFSETFROM:-0400
TZOFFSETTO:-0500
TZNAME:EST
DTSTART:20251102T060000
END:STANDARD
BEGIN:DAYLIGHT
TZOFFSETFROM:-0500
TZOFFSETTO:-0400
TZNAME:EDT
DTSTART:20260308T070000
END:DAYLIGHT
BEGIN:STANDARD
TZOFFSETFROM:-0400
TZOFFSETTO:-0500
TZNAME:EST
DTSTART:20261101T060000
END:STANDARD
BEGIN:DAYLIGHT
TZOFFSETFROM:-0500
TZOFFSETTO:-0400
TZNAME:EDT
DTSTART:20270314T070000
END:DAYLIGHT
BEGIN:STANDARD
TZOFFSETFROM:-0400
TZOFFSETTO:-0500
TZNAME:EST
DTSTART:20271107T060000
END:STANDARD
END:VTIMEZONE
BEGIN:VEVENT
DTSTART;TZID=America/New_York:20260629T080000
DTEND;TZID=America/New_York:20260629T170000
DTSTAMP:20260425T130326
CREATED:20260313T204549Z
LAST-MODIFIED:20260313T204549Z
UID:10027278-1782720000-1782752400@mychq.org
SUMMARY:Summer Camp @ The YMCA
DESCRIPTION: Great Summers Start at the Y! The 2026 YMCA Day Camp is open for registration and we are so excited for another amazing summer with your kids! Each week campers (ages 5–11) will enjoy themed adventures\, games\, swimming\, field trips\, and making new friends all in a safe and supportive environment with our trained YMCA staff. From trips to the Erie Zoo\, Allegany State Park\, Splash Lagoon\, and more\, there is something fun planned every week!  Two Camp Locations:• Camp Chautau – Jamestown Area YMCA• Camp Adventure – Lakewood Family YMCA Camp Hours: 7:30 AM – 5:30 PM Breakfast & Lunch Included Cost Per Week:• Members: $260• Potential Members: $290• 20% sibling discount for each additional child No paper registration forms needed!You can register:• By scanning the QR code on the flyer• Online through our system• By appointment (phone or in person) To register by appointment\, contact Gina Bloomquist at 716-664-2802 ext. 222 or visit us Monday–Friday between 8:30 AM – 5:00 PM. A $10 deposit per week holds your child’s spot.Families receiving DSS subsidies who register online will have their deposit refunded if it exceeds their copay.Spots fill up quickly every year\, so don’t wait! We can’t wait to make this summer one your kids will never forget. 
URL:https://mychq.org/event/summer-camp-the-ymca/
LOCATION:Lakewood YMCA\, 183 E Fairmount Ave\, Lakewood\, 14750\, United States
CATEGORIES:Camps
ATTACH;FMTTYPE=image/jpeg:https://mychq.org/wp-content/uploads/2026/03/651322749_1366355782190181_8375279242211855727_n.jpg
END:VEVENT
END:VCALENDAR