BEGIN:VCALENDAR
VERSION:2.0
PRODID:-//Chautauqua County Events, Local Businesses &amp; Resources | My CHQ - ECPv6.15.20//NONSGML v1.0//EN
CALSCALE:GREGORIAN
METHOD:PUBLISH
X-ORIGINAL-URL:https://mychq.org
X-WR-CALDESC:Events for Chautauqua County Events, Local Businesses &amp; Resources | My CHQ
REFRESH-INTERVAL;VALUE=DURATION:PT1H
X-Robots-Tag:noindex
X-PUBLISHED-TTL:PT1H
BEGIN:VTIMEZONE
TZID:America/New_York
BEGIN:DAYLIGHT
TZOFFSETFROM:-0500
TZOFFSETTO:-0400
TZNAME:EDT
DTSTART:20250309T070000
END:DAYLIGHT
BEGIN:STANDARD
TZOFFSETFROM:-0400
TZOFFSETTO:-0500
TZNAME:EST
DTSTART:20251102T060000
END:STANDARD
BEGIN:DAYLIGHT
TZOFFSETFROM:-0500
TZOFFSETTO:-0400
TZNAME:EDT
DTSTART:20260308T070000
END:DAYLIGHT
BEGIN:STANDARD
TZOFFSETFROM:-0400
TZOFFSETTO:-0500
TZNAME:EST
DTSTART:20261101T060000
END:STANDARD
BEGIN:DAYLIGHT
TZOFFSETFROM:-0500
TZOFFSETTO:-0400
TZNAME:EDT
DTSTART:20270314T070000
END:DAYLIGHT
BEGIN:STANDARD
TZOFFSETFROM:-0400
TZOFFSETTO:-0500
TZNAME:EST
DTSTART:20271107T060000
END:STANDARD
END:VTIMEZONE
BEGIN:VEVENT
DTSTART;TZID=America/New_York:20260430T080000
DTEND;TZID=America/New_York:20260430T170000
DTSTAMP:20260425T095053
CREATED:20260413T191209Z
LAST-MODIFIED:20260413T191209Z
UID:10028048-1777536000-1777568400@mychq.org
SUMMARY:Dine out for Life!
DESCRIPTION:New date\, same important cause; Dining Out For Life WNY is now in April. \nOn Thursday\, April 30\, join us at Labyrinth Press Co. & Brazil for a meal that gives back. A portion of everything we sell that day will go to Evergreen Health\, supporting medical care and essential services for people living with HIV in our community.This event has always meant a lot to us. It’s a simple way to show up for people just by sharing a meal\, spending time together\, and being part of something bigger than ourselves.Dine in\, grab takeout\, come by solo or with friends. However you show up\, it matters.Thank you for being part of a community that cares.
URL:https://mychq.org/event/dine-out-for-life/
LOCATION:Labyrinth Press Company\, 12 E 4th St\, Jamestown\, 14701\, United States
CATEGORIES:Food & Drink
ATTACH;FMTTYPE=image/jpeg:https://mychq.org/wp-content/uploads/2026/04/668358039_1496373282487742_5154193573779581484_n.jpg
END:VEVENT
BEGIN:VEVENT
DTSTART;TZID=America/New_York:20260430T190000
DTEND;TZID=America/New_York:20260430T220000
DTSTAMP:20260425T095053
CREATED:20251229T160035Z
LAST-MODIFIED:20251229T160035Z
UID:10023813-1777575600-1777586400@mychq.org
SUMMARY:Craft & Sip Thursdays @ The Lab
DESCRIPTION:Craft & Sip Thursdays Formerly our Drink & Draw nights\, but we’re opening it up to all crafts!So bring your knitting\, sketchbook\, wire wrapping\, embroidery\, or whatever creative project you’re into\, and sip while you create\, surrounded by other artists! A great way to mingle\, ask questions about a niche you’ve been wanting to get into\, and explore your creative side Every Thursday at 7 PM Downstairs at Labyrinth & upstairs at Brazil A cozy space for creativity\, community\, and fun Join our Craft & Sip Facebook group for exclusive weekly coupons and behind-the-scenes content you won’t find anywhere else!
URL:https://mychq.org/event/craft-sip-thursdays-the-lab/2026-04-30/
LOCATION:Labyrinth Press Company\, 12 E 4th St\, Jamestown\, 14701\, United States
CATEGORIES:Arts & Antiques
ATTACH;FMTTYPE=image/jpeg:https://mychq.org/wp-content/uploads/2025/12/605541038_1405963014862103_3640855705083155646_n.jpg
END:VEVENT
BEGIN:VEVENT
DTSTART;TZID=America/New_York:20260507T163000
DTEND;TZID=America/New_York:20260507T213000
DTSTAMP:20260425T095053
CREATED:20260420T150946Z
LAST-MODIFIED:20260420T150946Z
UID:10028245-1778171400-1778189400@mychq.org
SUMMARY:Mother's Day Paint Your Own Pottery Night
DESCRIPTION:You all showed *so* much love for our last Paint Your Own Nights that were bringing it back- Mother’s Day style! Whether you’re having a girls night out\, bringing mom out for dinner and painting\, or dad takes the kids while mom gets a well-earned night to relax\, it’s the perfect pre-summer unwind   \nTo RSVP\, call us at Labyrinth (716) 708-2471 or send us a DM! (Pearl City can’t hold your spot.) \nThis time\, you’ll get to choose your piece: butterfly trinket dish $15 tulip trinket dish $15 mushroom stash box $28 \nWe’re offering two relaxed 2-hour sessions\, each capped at 25 people: 4:30–6:30 PM 7:30–9:30 PM \nWe’ll have everything ready at your table\, just let your server know you’re here for the event and our host Emma will get you started! \nSpots are limited\, so be sure to RSVP early before they fill up again!
URL:https://mychq.org/event/mothers-day-paint-your-own-pottery-night/
LOCATION:Labyrinth Press Company\, 12 E 4th St\, Jamestown\, 14701\, United States
CATEGORIES:Arts & Antiques
ATTACH;FMTTYPE=image/jpeg:https://mychq.org/wp-content/uploads/2026/04/mothers-day-paint.jpg
ORGANIZER;CN="Pearl City Clay House":MAILTO:info@pearlcityclayhouse.org
END:VEVENT
BEGIN:VEVENT
DTSTART;TZID=America/New_York:20260513T173000
DTEND;TZID=America/New_York:20260513T183000
DTSTAMP:20260425T095053
CREATED:20260420T152729Z
LAST-MODIFIED:20260420T152729Z
UID:10028259-1778693400-1778697000@mychq.org
SUMMARY:May Books and Brews
DESCRIPTION:On May 13th from 5:30-6:30\, join us at LABYRINTH for our monthly adult book club. The book for this month is: “Tomorrow and Tomorrow and Tomorrow” by Gabrielle Zevin \nLabyrinth Press Co. is located at:12 E 4th st\, Jamestown NY
URL:https://mychq.org/event/may-books-and-brews/
LOCATION:Labyrinth Press Company\, 12 E 4th St\, Jamestown\, 14701\, United States
CATEGORIES:Library
ATTACH;FMTTYPE=image/jpeg:https://mychq.org/wp-content/uploads/2026/04/Books-and-Brews.jpg
ORGANIZER;CN="James Prendergast Library":MAILTO:info@prendergastlibrary.org
END:VEVENT
BEGIN:VEVENT
DTSTART;TZID=America/New_York:20260519T190000
DTEND;TZID=America/New_York:20260519T210000
DTSTAMP:20260425T095053
CREATED:20260420T151041Z
LAST-MODIFIED:20260420T151055Z
UID:10028246-1779217200-1779224400@mychq.org
SUMMARY:Plant Bingo!
DESCRIPTION:All those bingo nights with grandma are coming full circle\, plant lovers  \nJoin us at Brazil Lounge for our very first Plant Bingo Night! For $20\, you’ll get a 5×5 bingo board filled with a variety of plant names. Each board is unique\, with space for up to 40 players\, so make sure you get here early to secure your spot! Bingo goes from 7:00-9:00. \nOur host Emma will call out the plants as they’re drawn – just mark your board and race to bingo! Get five in a row and you’ll win a medium plant of your choice from our selection. Score a full blackout and you can pick from the large plants. After five winners\, we’ll reset the boards and keep the fun going.Grab a bite off our new seasonal menu\, and try one of our new refreshing drinks-we can’t wait to see you there!
URL:https://mychq.org/event/mothers-day-paint-your-own-pottery-night-2/
LOCATION:Labyrinth Press Company\, 12 E 4th St\, Jamestown\, 14701\, United States
CATEGORIES:Other
ATTACH;FMTTYPE=image/jpeg:https://mychq.org/wp-content/uploads/2026/04/paint-bingo.jpg
END:VEVENT
BEGIN:VEVENT
DTSTART;TZID=America/New_York:20260520T173000
DTEND;TZID=America/New_York:20260520T183000
DTSTAMP:20260425T095053
CREATED:20251229T170436Z
LAST-MODIFIED:20251229T170436Z
UID:10023887-1779298200-1779301800@mychq.org
SUMMARY:Young Adult Book Club
DESCRIPTION:Looking for a place to socialize\, meet new people\, and fall back in love with reading?Labyrinth’s Young Adult Book Club is your new favorite hangout.We’re all about good vibes\, delicious coffee\, and easygoing conversations with fellow book lovers. \nEach month\, we rotate who chooses the book – so everyone gets a chance to share what they’re excited about.Our reads focus on fiction that transports you-From fantasy\, to dystopias\, utopias\, and graphic novels. As long as it’s the type to pull you into another reality No matter if you’re a seasoned reader\, or just trying to get back into it. This is a low-pressure space to connect\, chat\, and escape into a good story together.Come for the books. Stay for the coffee\, the conversation\, and the cozy early-2000s coffee shop energy Every third Wednesday from 5:30-6:30pm starting January 21st
URL:https://mychq.org/event/young-adult-book-club/2026-05-20/
LOCATION:Labyrinth Press Company\, 12 E 4th St\, Jamestown\, 14701\, United States
CATEGORIES:Books & Reading
ATTACH;FMTTYPE=image/jpeg:https://mychq.org/wp-content/uploads/2025/12/603850512_1405961438195594_3641319853911059228_n.jpg
END:VEVENT
END:VCALENDAR