BEGIN:VCALENDAR
VERSION:2.0
PRODID:-//Chautauqua County Events, Local Businesses &amp; Resources | My CHQ - ECPv6.15.20//NONSGML v1.0//EN
CALSCALE:GREGORIAN
METHOD:PUBLISH
X-WR-CALNAME:Chautauqua County Events, Local Businesses &amp; Resources | My CHQ
X-ORIGINAL-URL:https://mychq.org
X-WR-CALDESC:Events for Chautauqua County Events, Local Businesses &amp; Resources | My CHQ
REFRESH-INTERVAL;VALUE=DURATION:PT1H
X-Robots-Tag:noindex
X-PUBLISHED-TTL:PT1H
BEGIN:VTIMEZONE
TZID:America/New_York
BEGIN:DAYLIGHT
TZOFFSETFROM:-0500
TZOFFSETTO:-0400
TZNAME:EDT
DTSTART:20240310T070000
END:DAYLIGHT
BEGIN:STANDARD
TZOFFSETFROM:-0400
TZOFFSETTO:-0500
TZNAME:EST
DTSTART:20241103T060000
END:STANDARD
BEGIN:DAYLIGHT
TZOFFSETFROM:-0500
TZOFFSETTO:-0400
TZNAME:EDT
DTSTART:20250309T070000
END:DAYLIGHT
BEGIN:STANDARD
TZOFFSETFROM:-0400
TZOFFSETTO:-0500
TZNAME:EST
DTSTART:20251102T060000
END:STANDARD
BEGIN:DAYLIGHT
TZOFFSETFROM:-0500
TZOFFSETTO:-0400
TZNAME:EDT
DTSTART:20260308T070000
END:DAYLIGHT
BEGIN:STANDARD
TZOFFSETFROM:-0400
TZOFFSETTO:-0500
TZNAME:EST
DTSTART:20261101T060000
END:STANDARD
BEGIN:DAYLIGHT
TZOFFSETFROM:-0500
TZOFFSETTO:-0400
TZNAME:EDT
DTSTART:20270314T070000
END:DAYLIGHT
BEGIN:STANDARD
TZOFFSETFROM:-0400
TZOFFSETTO:-0500
TZNAME:EST
DTSTART:20271107T060000
END:STANDARD
END:VTIMEZONE
BEGIN:VEVENT
DTSTART;TZID=America/New_York:20260423T190000
DTEND;TZID=America/New_York:20260423T220000
DTSTAMP:20260425T203124
CREATED:20251229T160035Z
LAST-MODIFIED:20251229T160035Z
UID:10023812-1776970800-1776981600@mychq.org
SUMMARY:Craft & Sip Thursdays @ The Lab
DESCRIPTION:Craft & Sip Thursdays Formerly our Drink & Draw nights\, but we’re opening it up to all crafts!So bring your knitting\, sketchbook\, wire wrapping\, embroidery\, or whatever creative project you’re into\, and sip while you create\, surrounded by other artists! A great way to mingle\, ask questions about a niche you’ve been wanting to get into\, and explore your creative side Every Thursday at 7 PM Downstairs at Labyrinth & upstairs at Brazil A cozy space for creativity\, community\, and fun Join our Craft & Sip Facebook group for exclusive weekly coupons and behind-the-scenes content you won’t find anywhere else!
URL:https://mychq.org/event/craft-sip-thursdays-the-lab/2026-04-23/
LOCATION:Labyrinth Press Company\, 12 E 4th St\, Jamestown\, 14701\, United States
CATEGORIES:Arts & Antiques
ATTACH;FMTTYPE=image/jpeg:https://mychq.org/wp-content/uploads/2025/12/605541038_1405963014862103_3640855705083155646_n.jpg
END:VEVENT
BEGIN:VEVENT
DTSTART;TZID=America/New_York:20260418T150000
DTEND;TZID=America/New_York:20260418T190000
DTSTAMP:20260425T203124
CREATED:20260131T192522Z
LAST-MODIFIED:20260131T192522Z
UID:10024571-1776524400-1776538800@mychq.org
SUMMARY:Record Swap Happy Hour
DESCRIPTION: Record Swap Happy Hour National Record Store Day | April 18th \nWe’re celebrating National Record Store Day the best way we know how: good drinks\, good people\, and great music. Join us for a laid-back Record Swap Happy Hour from 3:00–7:00pm! \nFlow through our bar area with a drink or a bite to eat while you:• Swap records with fellow music lovers• Dig through bins of donated vinyl looking for a new home• Meet new people\, share recommendations\, and soak up the community vibes Free to attend. No signup required.All you need is something to swap\, bring as many records as you’d like! \nPlease note that we’re not responsible for any lost\, damaged\, or stolen items.Come hang\, crate-dig\, and celebrate the magic of vinyl with us
URL:https://mychq.org/event/record-swap-happy-hour/
LOCATION:Labyrinth Press Company\, 12 E 4th St\, Jamestown\, 14701\, United States
CATEGORIES:Markets & Yard Sales
ATTACH;FMTTYPE=image/jpeg:https://mychq.org/wp-content/uploads/2026/01/624575277_1434948105296927_4969350852338059899_n.jpg
END:VEVENT
BEGIN:VEVENT
DTSTART;TZID=America/New_York:20260415T173000
DTEND;TZID=America/New_York:20260415T183000
DTSTAMP:20260425T203124
CREATED:20251229T170436Z
LAST-MODIFIED:20251229T170436Z
UID:10023886-1776274200-1776277800@mychq.org
SUMMARY:Young Adult Book Club
DESCRIPTION:Looking for a place to socialize\, meet new people\, and fall back in love with reading?Labyrinth’s Young Adult Book Club is your new favorite hangout.We’re all about good vibes\, delicious coffee\, and easygoing conversations with fellow book lovers. \nEach month\, we rotate who chooses the book – so everyone gets a chance to share what they’re excited about.Our reads focus on fiction that transports you-From fantasy\, to dystopias\, utopias\, and graphic novels. As long as it’s the type to pull you into another reality No matter if you’re a seasoned reader\, or just trying to get back into it. This is a low-pressure space to connect\, chat\, and escape into a good story together.Come for the books. Stay for the coffee\, the conversation\, and the cozy early-2000s coffee shop energy Every third Wednesday from 5:30-6:30pm starting January 21st
URL:https://mychq.org/event/young-adult-book-club/2026-04-15/
LOCATION:Labyrinth Press Company\, 12 E 4th St\, Jamestown\, 14701\, United States
CATEGORIES:Books & Reading
ATTACH;FMTTYPE=image/jpeg:https://mychq.org/wp-content/uploads/2025/12/603850512_1405961438195594_3641319853911059228_n.jpg
END:VEVENT
BEGIN:VEVENT
DTSTART;TZID=America/New_York:20260408T173000
DTEND;TZID=America/New_York:20260408T183000
DTSTAMP:20260425T203124
CREATED:20260325T150738Z
LAST-MODIFIED:20260325T150738Z
UID:10027487-1775669400-1775673000@mychq.org
SUMMARY:April Books & Brews
DESCRIPTION:On April 8th from 5:30-6:30\, join us at LABYRINTH for our monthly adult book club! \nThe book for the month is: “The Other Emily” by Dean Koontz. \nLabyrinth Press Co. is located at:12 E 4th st\, Jamestown NY
URL:https://mychq.org/event/april-books-brews/
LOCATION:Labyrinth Press Company\, 12 E 4th St\, Jamestown\, 14701\, United States
CATEGORIES:Library
ATTACH;FMTTYPE=image/jpeg:https://mychq.org/wp-content/uploads/2026/03/657723202_1397172469118054_968464883835928776_n.jpg
ORGANIZER;CN="James Prendergast Library":MAILTO:info@prendergastlibrary.org
END:VEVENT
BEGIN:VEVENT
DTSTART;TZID=America/New_York:20260326T163000
DTEND;TZID=America/New_York:20260326T213000
DTSTAMP:20260425T203124
CREATED:20260312T193248Z
LAST-MODIFIED:20260312T193248Z
UID:10027203-1774542600-1774560600@mychq.org
SUMMARY:Paint Your Own Pottery - PCCH x Labyrinth Collab!
DESCRIPTION:You all loved our last few Paint Your Own Nights so much that we sold out the last one! So we’ve sharpened up our process and are bringing it back to give everyone the relaxing creative night they need before summer  to RSVP just call us at Labyrinth (716)708-2471 or send us a DM!(Pearl city cannot hold your RSVP for you) \nThis time we’ll have three different pieces to choose from: Turtle Figurine — $15 Sun & Moon Lantern — $25 Large Mug — $20 \nTo make sure everyone gets plenty of time and help\, we’ll be offering two 2-hour RSVP time slots\, each capped at 25 people:4:30–6:30 PM7:30–9:30 PMWe’ll have all the supplies ready and brought right to your table. Just let your server know you have an RSVP and our host Emma will come help you get started!The only cost is the piece you choose\, but we have a feeling once you sit down you might end up grabbing some drinks and dinner while you paint Spots are limited\, so be sure to RSVP early before they fill up again!
URL:https://mychq.org/event/paint-your-own-pottery-pcch-x-labyrinth-collab/
LOCATION:Labyrinth Press Company\, 12 E 4th St\, Jamestown\, 14701\, United States
CATEGORIES:Arts & Antiques
ATTACH;FMTTYPE=image/jpeg:https://mychq.org/wp-content/uploads/2026/03/649446925_1469461071845630_144103032382606430_n.jpg
ORGANIZER;CN="Pearl City Clay House":MAILTO:info@pearlcityclayhouse.org
END:VEVENT
BEGIN:VEVENT
DTSTART;TZID=America/New_York:20260311T173000
DTEND;TZID=America/New_York:20260311T183000
DTSTAMP:20260425T203124
CREATED:20260227T194809Z
LAST-MODIFIED:20260227T194809Z
UID:10026804-1773250200-1773253800@mychq.org
SUMMARY:March Books & Brews
DESCRIPTION:On March 11th from 5:30-6:30\, join us at LABYRINTH for our monthly adult book club. The book for the month is: “The Lost Story” by Meg Shaffer. \nLabyrinth Press Co. is located at:12 E 4th st\, Jamestown NY
URL:https://mychq.org/event/march-books-brews/
LOCATION:Labyrinth Press Company\, 12 E 4th St\, Jamestown\, 14701\, United States
CATEGORIES:Library
ATTACH;FMTTYPE=image/jpeg:https://mychq.org/wp-content/uploads/2026/02/643347925_1375407264627908_8747791110336664991_n.jpg
ORGANIZER;CN="James Prendergast Library":MAILTO:info@prendergastlibrary.org
END:VEVENT
BEGIN:VEVENT
DTSTART;TZID=America/New_York:20260303T190000
DTEND;TZID=America/New_York:20260303T210000
DTSTAMP:20260425T203124
CREATED:20251229T155920Z
LAST-MODIFIED:20251229T155920Z
UID:10023796-1772564400-1772571600@mychq.org
SUMMARY:Winter Trivia League at Labyrinth
DESCRIPTION:Winter Trivia League at Labyrinth January 27 – March 3 | Every Tuesday | 7PM \nAre you smarter than a Len Barry? Join us for our Winter Trivia League\, hosted by the brilliant (and hilarious) Len Barry. It’s free to play\, but fair warning\, you’ll be tempted by delicious drinks and food all night. \nThe Rules:•3 rounds of 10 questions each week•Teams of 1-6 people•No themes\, just whatever Len Barry’s genius comedian brain conjures•Top 3 winners each night score gift cards•Last place? Two delightfully weird old beersAnd the overall league champion takes home the prize of a lifetime It’s also Taco Tuesday\, so enjoy tacos and discount margaritas all night Bring your team\, your brain\, and your sense of humor… trivia chaos awaits!
URL:https://mychq.org/event/winter-trivia-league-at-labyrinth/2026-03-03/
LOCATION:Labyrinth Press Company\, 12 E 4th St\, Jamestown\, 14701\, United States
CATEGORIES:Trivia
ATTACH;FMTTYPE=image/jpeg:https://mychq.org/wp-content/uploads/2025/12/602990917_1405949541530117_3378589246062787667_n.jpg
END:VEVENT
BEGIN:VEVENT
DTSTART;TZID=America/New_York:20260211T173000
DTEND;TZID=America/New_York:20260211T183000
DTSTAMP:20260425T203124
CREATED:20260119T020203Z
LAST-MODIFIED:20260119T020203Z
UID:10024367-1770831000-1770834600@mychq.org
SUMMARY:Books & Brews: The Light Between Oceans
DESCRIPTION:It’s time for Books & Brews! \nOn February 11th from 5:30-6:30\,join us at LABYRINTH for our monthly adult book club.“The Light Between Oceans” by M.L. Stedman is this month’s pick! \nLabyrinth is located at12 E 4th st\, Jamestown NY \nSee you there!
URL:https://mychq.org/event/books-brews-the-light-between-oceans/
LOCATION:Labyrinth Press Company\, 12 E 4th St\, Jamestown\, 14701\, United States
CATEGORIES:Library
ATTACH;FMTTYPE=image/jpeg:https://mychq.org/wp-content/uploads/2026/01/616820336_1340454804789821_7593118975277814226_n.jpg
ORGANIZER;CN="James Prendergast Library":MAILTO:info@prendergastlibrary.org
END:VEVENT
BEGIN:VEVENT
DTSTART;TZID=America/New_York:20260205T190000
DTEND;TZID=America/New_York:20260205T220000
DTSTAMP:20260425T203124
CREATED:20260116T182708Z
LAST-MODIFIED:20260116T182708Z
UID:10024329-1770318000-1770328800@mychq.org
SUMMARY:Craft & Sip: Paint Your Own Pottery Night
DESCRIPTION: Craft & Sip: Paint Your Own Pottery Night  A laid-back Valentine’s Date Night  \nJoin us on February 5th from 7:00–10:00 PM for a cozy\, creative Paint Your Own Pottery night in collaboration with Pearl City Clay House.This is a no-rules\, no-pressure kind of evening!Perfect for date night\, friends night\, or a solo creative escape. \nChoose from an array of pottery pieces and an assortment of colors\, then create whatever magic speaks to you. No themes\, no expectations\, just paint what you love! Details:• Date: February 5th• Time: 7:00–10:00 PM• Cost: Only the price of your chosen pottery pieceBring as many guests as you’d like\, All painting supplies provided (make sure to RSVP!)Cash preferred\, card accepted but will be taxed. \n RSVP encouraged to secure your pottery piece. Walk-ins are welcome\, but pieces will be first come\, first served. \nCome early\, enjoy a full dinner or grab some shareables\, order a drink (or two!)\, and take your time painting. This night is meant to be relaxed\, social\, and fun. \nWhether you’re celebrating Valentine’s early or just looking for a creative night out\, we can’t wait to paint with you
URL:https://mychq.org/event/craft-sip-paint-your-own-pottery-night/
LOCATION:Labyrinth Press Company\, 12 E 4th St\, Jamestown\, 14701\, United States
CATEGORIES:Arts & Antiques
ATTACH;FMTTYPE=image/jpeg:https://mychq.org/wp-content/uploads/2026/01/616211953_1422155283242876_8505907125765935598_n.jpg
END:VEVENT
BEGIN:VEVENT
DTSTART;TZID=America/New_York:20260130T100000
DTEND;TZID=America/New_York:20260130T110000
DTSTAMP:20260425T203124
CREATED:20260129T160228Z
LAST-MODIFIED:20260129T160228Z
UID:10024551-1769767200-1769770800@mychq.org
SUMMARY:January "Final Friday"
DESCRIPTION:Join us tomorrow for January’s Final Friday \n\n\nPlease note the slight change of venue\, we will be downstairs at the Lab. See you tomorrow
URL:https://mychq.org/event/january-final-friday/
LOCATION:Labyrinth Press Company\, 12 E 4th St\, Jamestown\, 14701\, United States
CATEGORIES:Government & History
ATTACH;FMTTYPE=image/jpeg:https://mychq.org/wp-content/uploads/2026/01/624535747_1316934760474639_1480287319838801858_n.jpg
ORGANIZER;CN="City of Jamestown":MAILTO:mayor@jamestownny.gov
END:VEVENT
BEGIN:VEVENT
DTSTART;TZID=America/New_York:20260124T090000
DTEND;TZID=America/New_York:20260124T220000
DTSTAMP:20260425T203124
CREATED:20260116T182553Z
LAST-MODIFIED:20260116T182553Z
UID:10024326-1769245200-1769292000@mychq.org
SUMMARY:Cake & Wine Weekend!
DESCRIPTION:Cake & Wine Weekend It’s back! January 23rd-24th all day and night \nWe’re encouraging a moment to slow down and enjoy your time by doing dessert first… or second… or whenever you feel like it\, and pairing it with a glass of happiness \nFor $22\, you get:One slice of cake (good luck choosing)Two glasses of wine from our favorite bottles \nCake choices:•Mr. McGregor’s Forbidden Carrot Cake•Chocolate Orange Mousse Cake•D’Artagnan’s Delight (chocolate\, caramel & pecan) \nWines we’re pouring:•Tinto Amorio Monje — skin contact orange•Masserie Dugento Salento Rosso — Primitivo•Anne Pichon Sauvage Gris — French rosé \nCome by after dinner for dessert and a drink… or two.Make it a girls’ night\, a low-key date\, or come solo with a book and disappear for a while. Sit\, sip\, eat cake\, stay as long as you like.No schedule\, no pressure. Just cake\, wine\, and a very good reason to slow down.
URL:https://mychq.org/event/cake-wine-weekend/2026-01-24/
LOCATION:Labyrinth Press Company\, 12 E 4th St\, Jamestown\, 14701\, United States
CATEGORIES:Food & Drink
ATTACH;FMTTYPE=image/jpeg:https://mychq.org/wp-content/uploads/2026/01/616816941_1421433443315060_2196868909386776267_n.jpg
END:VEVENT
BEGIN:VEVENT
DTSTART;TZID=America/New_York:20260114T173000
DTEND;TZID=America/New_York:20260114T183000
DTSTAMP:20260425T203124
CREATED:20251227T210506Z
LAST-MODIFIED:20251227T210506Z
UID:10023779-1768411800-1768415400@mychq.org
SUMMARY:Books & Brews: The Midnight Library
DESCRIPTION:On January 14th\, join the Library at LABYRINTH for our monthly adult book club! \nThe book of the month is “The Midnight Library” by Matt Haig. \nLabyrinth Press Company:12E 4th ST\, Jamestown NY 14701 \nWe can’t wait to see you there!
URL:https://mychq.org/event/books-brews-the-midnight-library/
LOCATION:Labyrinth Press Company\, 12 E 4th St\, Jamestown\, 14701\, United States
CATEGORIES:Library
ATTACH;FMTTYPE=image/jpeg:https://mychq.org/wp-content/uploads/2025/12/605224770_1324173773084591_9001689457567077327_n.jpg
ORGANIZER;CN="James Prendergast Library":MAILTO:info@prendergastlibrary.org
END:VEVENT
BEGIN:VEVENT
DTSTART;TZID=America/New_York:20260101T190000
DTEND;TZID=America/New_York:20260101T210000
DTSTAMP:20260425T203124
CREATED:20250929T133700Z
LAST-MODIFIED:20250929T133700Z
UID:10022088-1767294000-1767301200@mychq.org
SUMMARY:Craft & Sip Thursdays
DESCRIPTION: Introducing Craft & Sip Thursdays Formerly our Drink & Draw nights\, we’re opening it up to all crafts\, so bring your knitting\, sketchbook\, wire wrapping\, embroidery\, or whatever creative project you’re into\, and sip while you create! Every Thursday at 7 PM Downstairs at Labyrinth & upstairs at Brazil A cozy space for creativity\, community\, and fun Join our Craft & Sip Facebook group for exclusive weekly coupons and behind-the-scenes content you won’t find anywhere else!Come for the crafts\, stay for the vibes.
URL:https://mychq.org/event/craft-sip-thursdays/2026-01-01/
LOCATION:Labyrinth Press Company\, 12 E 4th St\, Jamestown\, 14701\, United States
CATEGORIES:Arts & Antiques
ATTACH;FMTTYPE=image/jpeg:https://mychq.org/wp-content/uploads/2025/09/552837364_1324977839627288_4703793918599281108_n-e1759152969877.jpg
END:VEVENT
BEGIN:VEVENT
DTSTART;TZID=America/New_York:20251227T180000
DTEND;TZID=America/New_York:20251227T220000
DTSTAMP:20260425T203124
CREATED:20251114T233839Z
LAST-MODIFIED:20251117T194438Z
UID:10023025-1766858400-1766872800@mychq.org
SUMMARY:Let's Get Frosty - Winter Jams
DESCRIPTION:Winter Weekend Music Pop-Up  \nOur beloved Summer Music Series has slipped into its coziest winter coat and is popping up inside for the holiday season!Join us for a special night with Gavin Paterniti\, bringing live music\, good vibes\, and plenty of room to mingle. December 27th Live Music from 6:00–10:00 PM Break from 7:30–8:30 PM Great food & drinks available all evening \nYou are highly encouraged to come early\, grab a drink\, order some delicious bites\, and snag a comfy seat before the music kicks off.Admission is free\, and a $10 food/drink purchase reserves your table for the night.Let the warmth of good music and great company kick off this holiday weekend!
URL:https://mychq.org/event/lets-get-frosty-winter-james/
LOCATION:Labyrinth Press Company\, 12 E 4th St\, Jamestown\, 14701\, United States
CATEGORIES:Music & Entertainment
ATTACH;FMTTYPE=image/jpeg:https://mychq.org/wp-content/uploads/2025/11/582622397_1372243778234027_2706112400909064002_n.jpg
END:VEVENT
BEGIN:VEVENT
DTSTART;TZID=America/New_York:20251211T190000
DTEND;TZID=America/New_York:20251211T220000
DTSTAMP:20260425T203124
CREATED:20251209T155556Z
LAST-MODIFIED:20251209T155556Z
UID:10023475-1765479600-1765490400@mychq.org
SUMMARY:Paint & Sip Night: Christmas Edition
DESCRIPTION: Paint & Sip Night: Christmas Edition! Thursday\, December 11th at Labyrinth & BrazilHosted in collaboration with Pearl City Clay HouseWe’re bringing back our Paint Your Own Pottery Night – holiday style! Join us for a festive evening of creativity\, cozy vibes\, and delicious food and drinks as you design your very own “Cookies for Santa” plate.Whether you’re painting solo\, planning a date night\, or gathering your friends and family for a holiday hangout\, this night is meant to be fun\, relaxed\, and full of cheer.Plate Options:• Small plate – $15• Large plate – $20All glaze colors will be pre-measured and ready to go\, making it easy for painters of all skill levels – just be sure to RSVP by Tuesday\, December 9th so we ensure your spot. \nHow to RSVP:Give us a call or send us a message on any of our social channels. All we need is:• Your name• The size plate you’d like (small or large) \nCome get creative\, sip something tasty\, and leave with a handmade holiday keepsake you’ll use for years to come. We can’t wait to paint with you!
URL:https://mychq.org/event/paint-sip-night-christmas-edition/
LOCATION:Labyrinth Press Company\, 12 E 4th St\, Jamestown\, 14701\, United States
CATEGORIES:Arts & Antiques
ATTACH;FMTTYPE=image/jpeg:https://mychq.org/wp-content/uploads/2025/12/593926554_1389152066543198_3257276775976133576_n.jpg
END:VEVENT
BEGIN:VEVENT
DTSTART;TZID=America/New_York:20251210T173000
DTEND;TZID=America/New_York:20251210T183000
DTSTAMP:20260425T203124
CREATED:20251202T194138Z
LAST-MODIFIED:20251202T194138Z
UID:10023371-1765387800-1765391400@mychq.org
SUMMARY:December Books & Brews
DESCRIPTION:On Wednesday\, December 10th from 5:30-6:30\, meet us at Labyrinth for our monthly Adults Only book club! \nLabyrinth: 12 E. 4th St\, Jamestown. \nThis month\, our book is; “The Berry Pickers” by Amanda Peters.
URL:https://mychq.org/event/december-books-brews/
LOCATION:Labyrinth Press Company\, 12 E 4th St\, Jamestown\, 14701\, United States
CATEGORIES:Library
ATTACH;FMTTYPE=image/jpeg:https://mychq.org/wp-content/uploads/2025/12/592349323_1303937855108183_50893163395843912_n.jpg
ORGANIZER;CN="James Prendergast Library":MAILTO:info@prendergastlibrary.org
END:VEVENT
BEGIN:VEVENT
DTSTART;TZID=America/New_York:20251121T160000
DTEND;TZID=America/New_York:20251121T190000
DTSTAMP:20260425T203124
CREATED:20251114T233757Z
LAST-MODIFIED:20251114T233757Z
UID:10023024-1763740800-1763751600@mychq.org
SUMMARY:Cake & Wine Night
DESCRIPTION: Cake & Wine Night is here and it’s the sweetest way to spend your Friday evening! \nJoin us Friday\, November 21st from 4pm untilClose for a perfectly paired night of decadent cake and curated wines.For $22\, you can enjoy your choice of one slice of cake and two glasses from our featured wine list: Orange Monje – a bright and aromatic white Gabrielle Ashley Cabernet Sauvignon – a bold\, classic red Gioventù Chianti – a smooth\, Italian red with character \nCake Options:Espresso Truffle cakeChocolate Pumpkin RollMr. McGregor’s Forbidden Carrot Cake \nWhether you’re here for the dessert\, the drinks\, or a little of both\, this night is all about slowing down and savoring the good stuff.
URL:https://mychq.org/event/cake-wine-night/
LOCATION:Labyrinth Press Company\, 12 E 4th St\, Jamestown\, 14701\, United States
CATEGORIES:Food & Drink
ATTACH;FMTTYPE=image/jpeg:https://mychq.org/wp-content/uploads/2025/11/580973479_1370625468395858_7925749070916227153_n.jpg
END:VEVENT
BEGIN:VEVENT
DTSTART;TZID=America/New_York:20251112T173000
DTEND;TZID=America/New_York:20251112T183000
DTSTAMP:20260425T203124
CREATED:20251103T165741Z
LAST-MODIFIED:20251103T165741Z
UID:10022867-1762968600-1762972200@mychq.org
SUMMARY:November Books and Brews
DESCRIPTION:The Books & Brews adult book club meets once a month at Labyrinth Press Co! \nNovember’s Book: The Ministry of Time by Kaliane Bradley. \nMeets at Labyrinth Press Co.(12 E. 4th St\, Jamestown)
URL:https://mychq.org/event/november-books-and-brews/
LOCATION:Labyrinth Press Company\, 12 E 4th St\, Jamestown\, 14701\, United States
CATEGORIES:Library
ATTACH;FMTTYPE=image/jpeg:https://mychq.org/wp-content/uploads/2025/11/574606020_1277921681043134_1903405209963504258_n.jpg
ORGANIZER;CN="James Prendergast Library":MAILTO:info@prendergastlibrary.org
END:VEVENT
BEGIN:VEVENT
DTSTART;TZID=America/New_York:20251030T200000
DTEND;TZID=America/New_York:20251030T220000
DTSTAMP:20260425T203124
CREATED:20251030T175231Z
LAST-MODIFIED:20251030T175231Z
UID:10022832-1761854400-1761861600@mychq.org
SUMMARY:A Drag Show Seance
DESCRIPTION:Tomorrow night from 8:00-10:00pm\, our drag queens are calling on the spirit of Beyoncé herself for our first annual Seyoncé Drag Show! Join us for a night of fierce performances\, creative energy\, and hauntingly good vibes.Use our queens as your muse for your drawings or art!Costumes and crafts highly encouraged! Free to attend\, fabulous to experience.
URL:https://mychq.org/event/a-drag-show-seance/
LOCATION:Labyrinth Press Company\, 12 E 4th St\, Jamestown\, 14701\, United States
CATEGORIES:Adults Only & Parties
ATTACH;FMTTYPE=image/jpeg:https://mychq.org/wp-content/uploads/2025/10/574902764_1357395223052216_46867526000474744_n.jpg
END:VEVENT
BEGIN:VEVENT
DTSTART;TZID=America/New_York:20251016T170000
DTEND;TZID=America/New_York:20251016T190000
DTSTAMP:20260425T203124
CREATED:20250919T171453Z
LAST-MODIFIED:20250919T171453Z
UID:10021688-1760634000-1760641200@mychq.org
SUMMARY:Brews & Q's
DESCRIPTION:Ready to mix\, mingle\, and maybe show off your random trivia skills?Join Jamestown Young Professionals for a laid-back Happy Hour Mixer at The Lab! Grab a drink\, meet some awesome people\, and get ready for a few rounds of totally random (and totally fun) questions. No pressure—just good vibes\, laughs\, and maybe a little friendly competition! \nThursday\, October 16th5pm – 7pm \nLabyrinth Press Company12 East 4th StJamestown\, NY 14701716-708-2471 \n𝗝𝗬𝗣 𝗪𝗘𝗟𝗖𝗢𝗠𝗘𝗦 𝗔𝗟𝗟 𝗔𝗚𝗘𝗦!The Jamestown Young Professionals welcomes everyone of all ages interested in both networking as well as leveraging personal and professional connections for the betterment of the community in which we live and work.𝐀𝐓𝐓𝐍: 𝐄𝐬𝐭𝐚𝐛𝐥𝐢𝐬𝐡𝐞𝐝 𝐏𝐫𝐨𝐟𝐞𝐬𝐬𝐢𝐨𝐧𝐚𝐥𝐬: You can help JYP’s younger membership by coming to meetings and connecting members with your personal network!𝗗𝗼𝗻’𝘁 𝗰𝗼𝗻𝘀𝗶𝗱𝗲𝗿 𝘆𝗼𝘂𝗿𝘀𝗲𝗹𝗳 𝗮 “𝗣𝗿𝗼𝗳𝗲𝘀𝘀𝗶𝗼𝗻𝗮𝗹”? 𝗧𝗛𝗜𝗡𝗞 𝗔𝗚𝗔𝗜𝗡!JYP is a networking group for a new generation. We hear it all the time from young business owners in our community who fear they aren’t “professional” enough to attend our networking events — so help us dispel the old school suit-and-tie mentality and myths.JYP is for everyone. Our motto is: 𝐂𝐨𝐧𝐧𝐞𝐜𝐭. 𝐁𝐮𝐢𝐥𝐝. 𝐓𝐫𝐚𝐧𝐬𝐟𝐨𝐫𝐦. More than anything\, we’re interested in meeting with the existing stakeholders in this region and fostering the next generation of stewards for this community.Questions? Suggestions? Email us at: JamestownYoungProfessionals@GMail.com
URL:https://mychq.org/event/brews-qs/
LOCATION:Labyrinth Press Company\, 12 E 4th St\, Jamestown\, 14701\, United States
CATEGORIES:Networking & Business
ATTACH;FMTTYPE=image/jpeg:https://mychq.org/wp-content/uploads/2025/09/549415592_1198474182306868_5624769773885120420_n.jpg
ORGANIZER;CN="Jamestown Young Professionals":MAILTO:JamestownYoungProfessionals@GMail.com
END:VEVENT
BEGIN:VEVENT
DTSTART;TZID=America/New_York:20251008T173000
DTEND;TZID=America/New_York:20251008T190000
DTSTAMP:20260425T203124
CREATED:20250919T172249Z
LAST-MODIFIED:20250919T172249Z
UID:10021694-1759944600-1759950000@mychq.org
SUMMARY:October Books and Brews
DESCRIPTION:Brew-tiful news\, bookworms!  Our October Books & Brews pick is Dark Matter by Blake Crouch! Join us on Wednesday\, October 8\, at 5:30pm at Labyrinth Press Company for a drink or dinner and some lively book chat with our staff. Check out our website https://www.prendergastlibrary.org/books-brews/ for past reads\, book recs\, and plans for the future!
URL:https://mychq.org/event/october-books-and-brews/
LOCATION:Labyrinth Press Company\, 12 E 4th St\, Jamestown\, 14701\, United States
CATEGORIES:Library
ATTACH;FMTTYPE=image/jpeg:https://mychq.org/wp-content/uploads/2025/09/547214563_1236208931881076_7305396733141572735_n.jpg
ORGANIZER;CN="James Prendergast Library":MAILTO:info@prendergastlibrary.org
END:VEVENT
BEGIN:VEVENT
DTSTART;TZID=America/New_York:20250910T173000
DTEND;TZID=America/New_York:20250910T190000
DTSTAMP:20260425T203124
CREATED:20250905T204703Z
LAST-MODIFIED:20250905T204703Z
UID:10021107-1757525400-1757530800@mychq.org
SUMMARY:September Books & Brews
DESCRIPTION:The library may be closed\, but that’s not stopping us! Join us next Wednesday\, September 10\, at 5:30pm at Labyrinth Press Company as we come together to discuss One Perfect Couple by Ruth Ware. Treat yourself to a drink\, or even dinner while our staff members keep the conversation going.Visit our website at https://www.prendergastlibrary.org/books-brews/ to explore our past reads\, suggest a book for our next meetup\, and stay updated on what’s to come!
URL:https://mychq.org/event/september-books-brews/
LOCATION:Labyrinth Press Company\, 12 E 4th St\, Jamestown\, 14701\, United States
CATEGORIES:Library
ATTACH;FMTTYPE=image/jpeg:https://mychq.org/wp-content/uploads/2025/09/541897636_1225157629652873_1423094879397391827_n.jpg
ORGANIZER;CN="James Prendergast Library":MAILTO:info@prendergastlibrary.org
END:VEVENT
END:VCALENDAR