BEGIN:VCALENDAR
VERSION:2.0
PRODID:-//Chautauqua County Events, Local Businesses &amp; Resources | My CHQ - ECPv6.15.20//NONSGML v1.0//EN
CALSCALE:GREGORIAN
METHOD:PUBLISH
X-WR-CALNAME:Chautauqua County Events, Local Businesses &amp; Resources | My CHQ
X-ORIGINAL-URL:https://mychq.org
X-WR-CALDESC:Events for Chautauqua County Events, Local Businesses &amp; Resources | My CHQ
REFRESH-INTERVAL;VALUE=DURATION:PT1H
X-Robots-Tag:noindex
X-PUBLISHED-TTL:PT1H
BEGIN:VTIMEZONE
TZID:America/New_York
BEGIN:DAYLIGHT
TZOFFSETFROM:-0500
TZOFFSETTO:-0400
TZNAME:EDT
DTSTART:20250309T070000
END:DAYLIGHT
BEGIN:STANDARD
TZOFFSETFROM:-0400
TZOFFSETTO:-0500
TZNAME:EST
DTSTART:20251102T060000
END:STANDARD
BEGIN:DAYLIGHT
TZOFFSETFROM:-0500
TZOFFSETTO:-0400
TZNAME:EDT
DTSTART:20260308T070000
END:DAYLIGHT
BEGIN:STANDARD
TZOFFSETFROM:-0400
TZOFFSETTO:-0500
TZNAME:EST
DTSTART:20261101T060000
END:STANDARD
BEGIN:DAYLIGHT
TZOFFSETFROM:-0500
TZOFFSETTO:-0400
TZNAME:EDT
DTSTART:20270314T070000
END:DAYLIGHT
BEGIN:STANDARD
TZOFFSETFROM:-0400
TZOFFSETTO:-0500
TZNAME:EST
DTSTART:20271107T060000
END:STANDARD
END:VTIMEZONE
BEGIN:VEVENT
DTSTART;TZID=America/New_York:20260712T140000
DTEND;TZID=America/New_York:20260712T170000
DTSTAMP:20260423T175056
CREATED:20260202T190022Z
LAST-MODIFIED:20260310T172455Z
UID:10024647-1783864800-1783875600@mychq.org
SUMMARY:Rock the Lake - Summer 2026
DESCRIPTION:Rock the Lake – Summer 2026  \n\nThe Official 2026 Band Lineup is HERE! \n July 12: AbbaMania Canada – Tribute\n July 26th: Brass Transit – Chicago Tribute\n August 9th: Fleetwood Macked:The Ultimate Fleetwood Mac Tribute\n August 23rd: Hollywood Nights – Bob Seger Tribute\n\n Sundays at 2 PM\n FREE to attend\n Enjoy lakeside or by boat\n BYO chairs or blankets\n VIP tent seating available\n Food trucks will be on site\, serving up local flavors\n More details to come. Follow us for the latest updates!\n\nRock the Lake is a FREE summer concert series at Hartley Park in Lakewood\, NY. Enjoy casual\, family-friendly afternoons on the shore or water to relax\, dance\, and have endless summer fun on the lake. \n\n Visit lcdcny.org to learn more about our community initiatives.
URL:https://mychq.org/event/rock-the-lake-summer-2026/2026-07-12/
LOCATION:Hartley Park\, 2 W Lake St\, Lakewood\, 14750\, United States
ATTACH;FMTTYPE=image/jpeg:https://mychq.org/wp-content/uploads/2026/02/650601202_1403635278473142_5035305775545713361_n.jpg
ORGANIZER;CN="Lakewood Community Development Corp.":MAILTO:hello@lcdcny.org
END:VEVENT
END:VCALENDAR