BEGIN:VCALENDAR
VERSION:2.0
PRODID:-//Chautauqua County Events, Local Businesses &amp; Resources | My CHQ - ECPv6.15.20//NONSGML v1.0//EN
CALSCALE:GREGORIAN
METHOD:PUBLISH
X-WR-CALNAME:Chautauqua County Events, Local Businesses &amp; Resources | My CHQ
X-ORIGINAL-URL:https://mychq.org
X-WR-CALDESC:Events for Chautauqua County Events, Local Businesses &amp; Resources | My CHQ
REFRESH-INTERVAL;VALUE=DURATION:PT1H
X-Robots-Tag:noindex
X-PUBLISHED-TTL:PT1H
BEGIN:VTIMEZONE
TZID:America/New_York
BEGIN:DAYLIGHT
TZOFFSETFROM:-0500
TZOFFSETTO:-0400
TZNAME:EDT
DTSTART:20250309T070000
END:DAYLIGHT
BEGIN:STANDARD
TZOFFSETFROM:-0400
TZOFFSETTO:-0500
TZNAME:EST
DTSTART:20251102T060000
END:STANDARD
BEGIN:DAYLIGHT
TZOFFSETFROM:-0500
TZOFFSETTO:-0400
TZNAME:EDT
DTSTART:20260308T070000
END:DAYLIGHT
BEGIN:STANDARD
TZOFFSETFROM:-0400
TZOFFSETTO:-0500
TZNAME:EST
DTSTART:20261101T060000
END:STANDARD
BEGIN:DAYLIGHT
TZOFFSETFROM:-0500
TZOFFSETTO:-0400
TZNAME:EDT
DTSTART:20270314T070000
END:DAYLIGHT
BEGIN:STANDARD
TZOFFSETFROM:-0400
TZOFFSETTO:-0500
TZNAME:EST
DTSTART:20271107T060000
END:STANDARD
END:VTIMEZONE
BEGIN:VEVENT
DTSTART;TZID=America/New_York:20260509T080000
DTEND;TZID=America/New_York:20260509T150000
DTSTAMP:20260425T204004
CREATED:20260313T201934Z
LAST-MODIFIED:20260313T201934Z
UID:10027266-1778313600-1778338800@mychq.org
SUMMARY:Off-Road Open House at Falconer Power Sports
DESCRIPTION:Our Off‑Road Open House is rolling in with a full day of machines\, trail‑ready energy\, and Can‑Am adrenaline. Whether you ride em\, work with em\, or just want to see what these beasts can do\, this is an event you don’t wanna skip. \nTake advantage of special event rebates on select new off-road machines. We will have the showroom decked out and filled with model lineups\, displays\, and demonstration areas. \nThere will be food & drinks\, as well as some giveaways! \nIf you haven’t experienced what Can-Am Off-Road has to offer yet\, we invite you to check out this event. We have a few tricks up our sleeves too\, but we aren’t giving out all of our secrets just yet! Stay tuned…
URL:https://mychq.org/event/off-road-open-house-at-falconer-power-sports/
LOCATION:Falconer Power Sports\, 1951 E Main St\, Falconer\, 14733\, United States
CATEGORIES:Other
ATTACH;FMTTYPE=image/jpeg:https://mychq.org/wp-content/uploads/2026/03/650375253_1391797262964494_8755605485043551920_n.jpg
ORGANIZER;CN="Falconer Power Sports":MAILTO:matt@falconerpowersports.com
END:VEVENT
BEGIN:VEVENT
DTSTART;TZID=America/New_York:20260516T090000
DTEND;TZID=America/New_York:20260516T140000
DTSTAMP:20260425T204004
CREATED:20260313T202034Z
LAST-MODIFIED:20260313T202034Z
UID:10027267-1778922000-1778940000@mychq.org
SUMMARY:Free Inspection Clinic & Bike Blessing
DESCRIPTION:Bike Blessing from Christian Motorcycle Association from 11-2. \nBring your Harley® motorcycle or Can-Am® 3 wheel vehicle from 9am-2pm for a free 20-point inspection*performed by one of our Service Technicians. Our certified technicians will assess the condition of the motorcycle and identify any repairs or maintenance that should be scheduled IN THE PRESENCE OF THE OWNER. \n**Note\, there will be NO MAINTENANCE PERFORMED AT THIS EVENT\, NOR ANY NYS INSPECTIONS PERFORMED.** \nYou will have a chance to schedule any needed work.HDJ will not knowingly let a motorcyclist leave on an unsafe bike.The goal of this event is to further educate the customer on the maintenance needs of their Harley-Davidson Motorcycle so they can ride safely and protect their investment. \nFirst come\, first serve.NO APPOINTMENTS! \nMore details and additions to the event coming soon!
URL:https://mychq.org/event/free-inspection-clinic-bike-blessing/
LOCATION:Falconer Power Sports\, 1951 E Main St\, Falconer\, 14733\, United States
CATEGORIES:Biking
ATTACH;FMTTYPE=image/jpeg:https://mychq.org/wp-content/uploads/2026/03/651233835_1390918706385683_6395287658422013880_n.jpg
ORGANIZER;CN="Falconer Power Sports":MAILTO:matt@falconerpowersports.com
END:VEVENT
BEGIN:VEVENT
DTSTART;TZID=America/New_York:20260606T090000
DTEND;TZID=America/New_York:20260606T170000
DTSTAMP:20260425T204004
CREATED:20260221T224148Z
LAST-MODIFIED:20260221T224148Z
UID:10024990-1780736400-1780765200@mychq.org
SUMMARY:Drake's Journey 6th Annual Motorcycle Ride
DESCRIPTION:Ride starts & ends at Falconer Power Sports\, kickstands up at 10:30 AM! Proceeds go to helping local pediatric cancer families!
URL:https://mychq.org/event/drakes-journey-6th-annual-motorcycle-ride/
LOCATION:Falconer Power Sports\, 1951 E Main St\, Falconer\, 14733\, United States
CATEGORIES:Fundraising
ATTACH;FMTTYPE=image/jpeg:https://mychq.org/wp-content/uploads/2026/02/638375153_26725753593693019_2025818448576131985_n.jpg
ORGANIZER;CN="Drake's Journey":MAILTO:Mckane36@gmail.com
END:VEVENT
BEGIN:VEVENT
DTSTART;TZID=America/New_York:20260611T100000
DTEND;TZID=America/New_York:20260611T180000
DTSTAMP:20260425T204004
CREATED:20260204T170916Z
LAST-MODIFIED:20260204T170916Z
UID:10024702-1781172000-1781200800@mychq.org
SUMMARY:Riding 22 States in 22 Days - Veteran Suicide Awareness Benefit Ride - State 21
DESCRIPTION: 21st STATE STOP! Join us at Harley-Davidson of Jamestown as we continue on the Riding 22 States in 22 Days VSA journey!Riders can register online or in person at the event. Suggested donation: $20 per rider / $10 per passengerRide with us for one gas stop\, one state\, several states — or go ALL IN for ALL 22 STATES!  All forms of transportation are welcome!Each day\, as we travel from state to state\, we’ll stop at local roadside attractions and military memorials\, making the ride meaningful\, comfortable\, and enjoyable for everyone. All states\, event stops\, and discounted hotel options (with booking links) are available at: www.riding22in22vsa.comWe are a 100% volunteer nonprofit\, and funds raised help provide transportation\, lodging\, meals\, and road/wind therapy for veterans and their caregivers facing mental health challenges.Come ride with purpose. Come ride for those who served.
URL:https://mychq.org/event/riding-22-states-in-22-days-veteran-suicide-awareness-benefit-ride-state-21/
LOCATION:Falconer Power Sports\, 1951 E Main St\, Falconer\, 14733\, United States
CATEGORIES:Veterans
ATTACH;FMTTYPE=image/jpeg:https://mychq.org/wp-content/uploads/2026/02/616593199_122113553715098227_7110628707976167892_n.jpg
ORGANIZER;CN="Falconer Power Sports":MAILTO:matt@falconerpowersports.com
END:VEVENT
BEGIN:VEVENT
DTSTART;TZID=America/New_York:20260613T080000
DTEND;TZID=America/New_York:20260613T160000
DTSTAMP:20260425T204004
CREATED:20260313T202244Z
LAST-MODIFIED:20260313T202244Z
UID:10027269-1781337600-1781366400@mychq.org
SUMMARY:FPS 3WV Demo Day
DESCRIPTION:Get ready to roll into spring with the Can‑Am 3‑Wheel Demo Day at Falconer Powersports — your chance to experience the thrill\, comfort\, and confidence of the newest Can‑Am Ryker\, Canyon\, and Spyder models. \nWhether you’re a seasoned rider\, a curious first‑timer\, or somewhere in between\, this event is built for all experience levels. Our team will be on hand to guide you\, answer questions\, and help you discover which 3‑wheel machine fits your style. \nWhat to Expect– Free Test Rides on the latest Can‑Am 3‑wheel lineup– New Models on Display — see what’s fresh for the season– Giveaways & Swag throughout the day– On‑site experts to walk you through features\, accessories\, and customization options \nIf you’ve ever wondered what it feels like to ride with the stability of three wheels and the thrilling freedom of a motorcycle\, this is your moment. Bring your friends\, bring your questions\, and bring your excitement — we’ll supply the rest. \nFalconer Powersports – Where your next adventure begins!
URL:https://mychq.org/event/fps-3wv-demo-day/
LOCATION:Falconer Power Sports\, 1951 E Main St\, Falconer\, 14733\, United States
CATEGORIES:Biking
ATTACH;FMTTYPE=image/jpeg:https://mychq.org/wp-content/uploads/2026/03/638803917_1374165391394348_6225514015033043150_n.jpg
ORGANIZER;CN="Falconer Power Sports":MAILTO:matt@falconerpowersports.com
END:VEVENT
BEGIN:VEVENT
DTSTART;TZID=America/New_York:20260620T090000
DTEND;TZID=America/New_York:20260620T140000
DTSTAMP:20260425T204004
CREATED:20260313T202334Z
LAST-MODIFIED:20260313T202502Z
UID:10027270-1781946000-1781964000@mychq.org
SUMMARY:Highway Heathens Stunt Show at FPS
DESCRIPTION:Join us for an adrenaline-filled day thanks to the crew at Highway Heathens Stunt Team! They specialize in jaw-dropping performances on motorcycles\, with a growing fan base and a strong online presence performing at over 20 events annually\, including Powersports Dealerships\, Promotional Events\, and Industry Trade Shows. \nWhat can you expect? Screeching tires\, smoke-filled donuts\, flames\, jumps\, and full-throttle shenanigans! It’s a FREE event\, so bring your friends\, bring your family\, bring some ear plugs if you need em! But whatever you do\, DON’T MISS IT! \n-FOOD TRUCKS-VENDORS WELCOME-COLD DRINKS-MORE DETAILS COMING SOON!
URL:https://mychq.org/event/highway-heathens-stunt-show-at-fps/
LOCATION:Falconer Power Sports\, 1951 E Main St\, Falconer\, 14733\, United States
CATEGORIES:Biking
ATTACH;FMTTYPE=image/jpeg:https://mychq.org/wp-content/uploads/2026/03/650330829_1390802303063990_6512514163480392221_n.jpg
ORGANIZER;CN="Falconer Power Sports":MAILTO:matt@falconerpowersports.com
END:VEVENT
BEGIN:VEVENT
DTSTART;TZID=America/New_York:20260725T090000
DTEND;TZID=America/New_York:20260725T143000
DTSTAMP:20260425T204004
CREATED:20260313T202547Z
LAST-MODIFIED:20260313T202547Z
UID:10027271-1784970000-1784989800@mychq.org
SUMMARY:Hot Rods & Cool Bikes Show
DESCRIPTION:Mark your calendars! Our highly anticipated Hot Rods & Cool Bikes Show is happening on July 25\, 2026! \n Vehicle Registration: 9 AM – 11 AM $10\, proceeds go to Community Helping Hands Show Time: 9 AM – 2:30 PM \nFREE to the public… \n All Vehicles Welcome! Bring your hot rods\, classic cars\, custom bikes\, and anything with wheels! \nCustom-Made Trophies for the category winners. \n Live Music by ION SKY 50/50 Raffle\, proceeds go to Empire Animal Rescue Food Truck & More! \nDon’t miss out on a day full of horsepower\, music\, and fun! Tag your friends and spread the word! 
URL:https://mychq.org/event/hot-rods-cool-bikes-show/
LOCATION:Falconer Power Sports\, 1951 E Main St\, Falconer\, 14733\, United States
CATEGORIES:Car Show
ATTACH;FMTTYPE=image/jpeg:https://mychq.org/wp-content/uploads/2026/03/650209174_1390857463058474_7154986869745153414_n.jpg
ORGANIZER;CN="Falconer Power Sports":MAILTO:matt@falconerpowersports.com
END:VEVENT
BEGIN:VEVENT
DTSTART;TZID=America/New_York:20260725T110000
DTEND;TZID=America/New_York:20260725T140000
DTSTAMP:20260425T204004
CREATED:20260306T220503Z
LAST-MODIFIED:20260306T220503Z
UID:10027007-1784977200-1784988000@mychq.org
SUMMARY:Ion Sky @ Falconer Power Sports Hot Rods & Cool Bikes Show
DESCRIPTION:Hot Rods & Cool Bikes Show 2025Mark your calendars! Our highly anticipated Hot Rods & Cool Bikes Show is happening on July 25\, 2026!Date: Saturday\, July 25\, 20251951 East Main St. Falconer\, NY 14733
URL:https://mychq.org/event/ion-sky-falconer-power-sports-hot-rods-cool-bikes-show/
LOCATION:Falconer Power Sports\, 1951 E Main St\, Falconer\, 14733\, United States
CATEGORIES:Music & Entertainment
ATTACH;FMTTYPE=image/jpeg:https://mychq.org/wp-content/uploads/2026/03/606056645_1476549087180501_8953300706619472337_n.jpg
ORGANIZER;CN="Ion Sky":MAILTO:grav7785@hotmail.com
END:VEVENT
END:VCALENDAR