BEGIN:VCALENDAR
VERSION:2.0
PRODID:-//Chautauqua County Events, Local Businesses &amp; Resources | My CHQ - ECPv6.15.20//NONSGML v1.0//EN
CALSCALE:GREGORIAN
METHOD:PUBLISH
X-WR-CALNAME:Chautauqua County Events, Local Businesses &amp; Resources | My CHQ
X-ORIGINAL-URL:https://mychq.org
X-WR-CALDESC:Events for Chautauqua County Events, Local Businesses &amp; Resources | My CHQ
REFRESH-INTERVAL;VALUE=DURATION:PT1H
X-Robots-Tag:noindex
X-PUBLISHED-TTL:PT1H
BEGIN:VTIMEZONE
TZID:America/New_York
BEGIN:DAYLIGHT
TZOFFSETFROM:-0500
TZOFFSETTO:-0400
TZNAME:EDT
DTSTART:20240310T070000
END:DAYLIGHT
BEGIN:STANDARD
TZOFFSETFROM:-0400
TZOFFSETTO:-0500
TZNAME:EST
DTSTART:20241103T060000
END:STANDARD
BEGIN:DAYLIGHT
TZOFFSETFROM:-0500
TZOFFSETTO:-0400
TZNAME:EDT
DTSTART:20250309T070000
END:DAYLIGHT
BEGIN:STANDARD
TZOFFSETFROM:-0400
TZOFFSETTO:-0500
TZNAME:EST
DTSTART:20251102T060000
END:STANDARD
BEGIN:DAYLIGHT
TZOFFSETFROM:-0500
TZOFFSETTO:-0400
TZNAME:EDT
DTSTART:20260308T070000
END:DAYLIGHT
BEGIN:STANDARD
TZOFFSETFROM:-0400
TZOFFSETTO:-0500
TZNAME:EST
DTSTART:20261101T060000
END:STANDARD
BEGIN:DAYLIGHT
TZOFFSETFROM:-0500
TZOFFSETTO:-0400
TZNAME:EDT
DTSTART:20270314T070000
END:DAYLIGHT
BEGIN:STANDARD
TZOFFSETFROM:-0400
TZOFFSETTO:-0500
TZNAME:EST
DTSTART:20271107T060000
END:STANDARD
END:VTIMEZONE
BEGIN:VEVENT
DTSTART;TZID=America/New_York:20260411T080000
DTEND;TZID=America/New_York:20260411T170000
DTSTAMP:20260425T222850
CREATED:20260313T201842Z
LAST-MODIFIED:20260313T201842Z
UID:10027265-1775894400-1775926800@mychq.org
SUMMARY:FPS Make Waves Sales Event
DESCRIPTION:Join us for a Sea-Doo showroom experience that is sure to get you in the mood to get out on the water! We will have new Switch Pontoons on display for you to board and walk through\, as well as new PWCs showcasing the best tech and performance around! \n-Free food & drinks-Kids’ coloring zone-Ask a Technician Station-Games & Prizes \n*2026 Switch Models – 5 YEARS WARRANTY COVERAGE! \n*2025 Switch Models – UP TO $2\,250 OFF! \n*2026 PWC Models – $500 ON ACCESSORIES/APPAREL & 3 YEARS WARRANTY COVERAGE! \n*2025 PWC Models – UP TO $1\,500 OFF! \n*2024 PWC Rec/Rec-Lite Models – UP TO $1\,250 OFF! \n\nGrab your floaties and bring your friends along\, it’s going to be a fun day! \n(*restrictions/limitations may apply; see sales associate for full details; deposit must be made between April 11th and 21st to take advantage of Open House Incentives)
URL:https://mychq.org/event/fps-make-waves-sales-event/
LOCATION:Falconer Power Sports\, 1951 E Main St\, Falconer\, 14733\, United States
CATEGORIES:Open House & Grand Opening
ATTACH;FMTTYPE=image/jpeg:https://mychq.org/wp-content/uploads/2026/03/650645915_1390695109741376_5942626889087334911_n.jpg
ORGANIZER;CN="Falconer Power Sports":MAILTO:matt@falconerpowersports.com
END:VEVENT
BEGIN:VEVENT
DTSTART;TZID=America/New_York:20260221T080000
DTEND;TZID=America/New_York:20260221T150000
DTSTAMP:20260425T222850
CREATED:20260204T170755Z
LAST-MODIFIED:20260204T170755Z
UID:10024701-1771660800-1771686000@mychq.org
SUMMARY:Kickstart The Season @ Falconer Power Sports
DESCRIPTION:Join us here for this nationwide event where we spotlight the new 2026 products. We will have several new models on display with sales staff eager to go over new features and answer any questions you may have. \nThose that RSVP through our landing page at https://www.jamestownharley.com/Kickstart-the-Season will also receive a special pin as a thank you (limited to first 50 RSVPs). We will also have catalogs and posters to give out. \nWhile here\, there will be in-store giveaways and you can even enter for a chance to win great prizes including a 2026 RG3 in Blood Orange\, a 2026 Street Glide Limited in Olive Steel Metallic\, $500 in-store shopping spree (12 available)! \nHope to see you there and let’s Kickstart the Season!
URL:https://mychq.org/event/kickstart-the-season-falconer-power-sports/
LOCATION:Falconer Power Sports\, 1951 E Main St\, Falconer\, 14733\, United States
CATEGORIES:Markets & Yard Sales
ATTACH;FMTTYPE=image/jpeg:https://mychq.org/wp-content/uploads/2026/02/625082246_1355844799893074_1648823069507134997_n.jpg
ORGANIZER;CN="Falconer Power Sports":MAILTO:matt@falconerpowersports.com
END:VEVENT
BEGIN:VEVENT
DTSTART;TZID=America/New_York:20260207T110000
DTEND;TZID=America/New_York:20260207T160000
DTSTAMP:20260425T222850
CREATED:20260204T170700Z
LAST-MODIFIED:20260204T170700Z
UID:10024700-1770462000-1770480000@mychq.org
SUMMARY:FPS Souper Bowl Party
DESCRIPTION:Stop in and try some of our employees’ best soup recipes and get hyped up for the big game! Free event\, just cast your vote for your favorite! Be sure to rep your team too…
URL:https://mychq.org/event/fps-souper-bowl-party/
LOCATION:Falconer Power Sports\, 1951 E Main St\, Falconer\, 14733\, United States
CATEGORIES:Food & Drink
ATTACH;FMTTYPE=image/jpeg:https://mychq.org/wp-content/uploads/2026/02/613857485_1339525454858342_7067521277388654670_n.jpg
ORGANIZER;CN="Falconer Power Sports":MAILTO:matt@falconerpowersports.com
END:VEVENT
BEGIN:VEVENT
DTSTART;TZID=America/New_York:20251219T170000
DTEND;TZID=America/New_York:20251219T190000
DTSTAMP:20260425T222850
CREATED:20251022T171755Z
LAST-MODIFIED:20251022T171755Z
UID:10022594-1766163600-1766170800@mychq.org
SUMMARY:Mens' Night at Falconer Power Sports
DESCRIPTION:Stay tuned for details – lots of cool things in the works!
URL:https://mychq.org/event/mens-night-at-falconer-power-sports/
LOCATION:Falconer Power Sports\, 1951 E Main St\, Falconer\, 14733\, United States
CATEGORIES:Adults Only & Parties
ATTACH;FMTTYPE=image/jpeg:https://mychq.org/wp-content/uploads/2025/10/560928623_1263477732463115_5323881274323030292_n.jpg
ORGANIZER;CN="Falconer Power Sports":MAILTO:matt@falconerpowersports.com
END:VEVENT
BEGIN:VEVENT
DTSTART;TZID=America/New_York:20251213T110000
DTEND;TZID=America/New_York:20251213T143000
DTSTAMP:20260425T222850
CREATED:20251103T201810Z
LAST-MODIFIED:20251103T201810Z
UID:10022873-1765623600-1765636200@mychq.org
SUMMARY:Free Picture with Santa!
DESCRIPTION:Free picture with Santa Claus! \nCoffee\, donuts\, and hot cocoa available. \n150 Rider Rewards Points for wearing Christmas sweater – redeem with Motorclothes® \nMore details coming soon!
URL:https://mychq.org/event/free-picture-with-santa-2/
LOCATION:Falconer Power Sports\, 1951 E Main St\, Falconer\, 14733\, United States
CATEGORIES:Kids & Family
ATTACH;FMTTYPE=image/jpeg:https://mychq.org/wp-content/uploads/2025/11/573544822_1282214827256072_4009917803081183300_n.jpg
ORGANIZER;CN="Falconer Power Sports":MAILTO:matt@falconerpowersports.com
END:VEVENT
BEGIN:VEVENT
DTSTART;TZID=America/New_York:20251212T170000
DTEND;TZID=America/New_York:20251212T190000
DTSTAMP:20260425T222850
CREATED:20251022T171724Z
LAST-MODIFIED:20251022T171724Z
UID:10022593-1765558800-1765566000@mychq.org
SUMMARY:Ladies' Night at Falconer Power Sports
DESCRIPTION:Stay tuned for details – lots of cool things in the works!
URL:https://mychq.org/event/ladies-night-at-falconer-power-sports/
LOCATION:Falconer Power Sports\, 1951 E Main St\, Falconer\, 14733\, United States
CATEGORIES:Adults Only & Parties
ATTACH;FMTTYPE=image/jpeg:https://mychq.org/wp-content/uploads/2025/10/559716250_1263479052462983_3261488069283491517_n.jpg
ORGANIZER;CN="Falconer Power Sports":MAILTO:matt@falconerpowersports.com
END:VEVENT
BEGIN:VEVENT
DTSTART;TZID=America/New_York:20251108T110000
DTEND;TZID=America/New_York:20251108T140000
DTSTAMP:20260425T222850
CREATED:20251022T171638Z
LAST-MODIFIED:20251022T171638Z
UID:10022592-1762599600-1762610400@mychq.org
SUMMARY:Customer Appreciation Chili Cookoff Event
DESCRIPTION:Employees will prepare their famous chili recipes and you get to decide the winner! Free beer will also be provided\, limit 2 per adult – insert Homer Simpson “Mmmmm” here… Kallie Williams will be playing live music to complete the experience. We will also be showing off the 2026 Can Am Offroad models. Hope to see you there\, it’s gonna be a fun day!
URL:https://mychq.org/event/customer-appreciation-chili-cookoff-event/
LOCATION:Falconer Power Sports\, 1951 E Main St\, Falconer\, 14733\, United States
CATEGORIES:Food & Drink
ATTACH;FMTTYPE=image/jpeg:https://mychq.org/wp-content/uploads/2025/10/543421271_1234924818651740_400897863388007153_n.jpg
ORGANIZER;CN="Falconer Power Sports":MAILTO:matt@falconerpowersports.com
END:VEVENT
BEGIN:VEVENT
DTSTART;TZID=America/New_York:20251101T083000
DTEND;TZID=America/New_York:20251101T170000
DTSTAMP:20260425T222850
CREATED:20251022T171552Z
LAST-MODIFIED:20251022T171552Z
UID:10022591-1761985800-1762016400@mychq.org
SUMMARY:American Red Cross Blood Drive
DESCRIPTION:Please donate blood if you are able to! The American Red Cross will be set up in the HOG Room upstairs. Additional details as the event nears. Thank you!
URL:https://mychq.org/event/american-red-cross-blood-drive-2/
LOCATION:Falconer Power Sports\, 1951 E Main St\, Falconer\, 14733\, United States
CATEGORIES:Blood Drive
ATTACH;FMTTYPE=image/jpeg:https://mychq.org/wp-content/uploads/2025/10/554335964_1250008853810003_6856041810813853378_n.jpg
ORGANIZER;CN="Falconer Power Sports":MAILTO:matt@falconerpowersports.com
END:VEVENT
BEGIN:VEVENT
DTSTART;TZID=America/New_York:20251025T100000
DTEND;TZID=America/New_York:20251025T160000
DTSTAMP:20260425T222850
CREATED:20251021T153254Z
LAST-MODIFIED:20251021T153254Z
UID:10022575-1761386400-1761408000@mychq.org
SUMMARY:Halloween Event @ Falconer Power Sports
DESCRIPTION:FPS Fright Fest 2025 \nGet ready for a frightfully fun time at Falconer Powersports! We’re throwing a Halloween event that’s equal parts spooky and spectacular—and you’re invited. \nCostume Contest\nStrut your stuff in our costume showdown! Categories for adults\, kids\, and even pets—so bring your best look and your furry sidekick. \nTrick-or-Treat Stations\nGrab some candy and sweeten your ride through the dealership. \nSpooky Selfie Station\nSnap eerie pics with your crew at our haunted photo booth—perfect for your next post. \nSnacks & Specialty Sips\nEnjoy themed treats and non-alcoholic drinks brewed just for the occasion. \nFresh Fall Merchandise\nCheck out our latest gear—just dropped and ready to haunt your wishlist. \nLive Music from 11-2\nRuss Delong from 11-1\nRandy Zahm from 1-2 \nCostumes encouraged. Fun guaranteed.
URL:https://mychq.org/event/halloween-event-falconer-power-sports/
LOCATION:Falconer Power Sports\, 1951 E Main St\, Falconer\, 14733\, United States
CATEGORIES:Festivals & Fairs
ATTACH;FMTTYPE=image/jpeg:https://mychq.org/wp-content/uploads/2025/10/Fright-Fest-Falconer-Power-Sports.jpg
END:VEVENT
BEGIN:VEVENT
DTSTART;TZID=America/New_York:20250809T090000
DTEND;TZID=America/New_York:20250809T143000
DTSTAMP:20260425T222850
CREATED:20250317T152943Z
LAST-MODIFIED:20250317T152943Z
UID:10014983-1754730000-1754749800@mychq.org
SUMMARY:DYNO Shootout Returns to Harley-Davidson of Jamestown!
DESCRIPTION:DYNO Shootout Returns to Harley-Davidson of Jamestown! \nRev your engines and bring the heat—our DYNO Shootout is back! Join us on Friday\, August 9th\, from 9 AM to 2:30 PM at Harley-Davidson of Jamestown for an adrenaline-pumping horsepower showdown. \nThis first-come\, first-serve event gives each rider one run on the dynamometer per motorcycle\, but feel free to enter more than one Harley! No worries if your bike’s aftermarket upgrades or service work weren’t done at our dealership—all Harleys are welcome to compete. \nPrizes up for grabs: \n100+ Horsepower Club120+ Horsepower Club150+ Horsepower Club(Torque values will determine all tie-breakers!)Think your ride has what it takes? Bring it in\, our master techs will twist the throttle\, and let’s see who’s got the ultimate horsepower bragging rights! \nPLUS—Food Truck & Live Music!Enjoy delicious eats from a local food truck and jam out to live music while you watch the competition heat up. Or take one of our 2025 Harley-Davidson Motorcycles out for a test ride. \nOur Jumpstart Experience—Ride a Harley even if you don’t have a motorcycle license! \nSee you at the DYNO!For more details\, contact Kayla at Harley-Davidson of Jamestown. \nkayla@falconerpowersports.com \n(716)484-0113
URL:https://mychq.org/event/dyno-shootout-returns-to-harley-davidson-of-jamestown/
LOCATION:Falconer Power Sports\, 1951 E Main St\, Falconer\, 14733\, United States
CATEGORIES:Festivals & Fairs
ATTACH;FMTTYPE=image/jpeg:https://mychq.org/wp-content/uploads/2025/03/484221856_1093627962781427_2150908562069965720_n.jpg
ORGANIZER;CN="Harley-Davidson of Jamestown":MAILTO:matt@falconerpowersports.com
END:VEVENT
BEGIN:VEVENT
DTSTART;TZID=America/New_York:20250809T083000
DTEND;TZID=America/New_York:20250809T163000
DTSTAMP:20260425T222850
CREATED:20250610T145620Z
LAST-MODIFIED:20250610T145620Z
UID:10018221-1754728200-1754757000@mychq.org
SUMMARY:Wall of Death | A Vintage Motorcycle Thrill Show!
DESCRIPTION:As part of our 50th Anniversary Year\, come join us forWild Wheels Thrill Arena: The Wall of Death!  August 7th\, 8th & 9th Harley-Davidson of Jamestown1951 E. Main St.\, Falconer\, NY 14733 Info: (716) 484-0113 \nJoin us for an adrenaline-pumping vintage motorcycle thrill show like no other! Experience the legendary Wall of Death — gravity-defying stunts and roaring engines in a heart-pounding 20-minute performance! \n 6 Shows Daily — Short\, intense\, and unforgettable!Exact Times of shows are unknown stay tuned.. \nhttps://wildwheelswallofdeath.com/ \nBONUS EVENT:Dyno Shootout – Saturday\, August 9th!Test your ride and show what your machine is made of! \nBring your friends\, your family\, and your love for motorcycles and nostalgia. This is an experience you won’t forget! \n Perfect for photo ops Music\, bikes\, and high-octane energyFree to attend – just show up and enjoy!
URL:https://mychq.org/event/wall-of-death-a-vintage-motorcycle-thrill-show/2025-08-09/
LOCATION:Falconer Power Sports\, 1951 E Main St\, Falconer\, 14733\, United States
CATEGORIES:Car Show
ATTACH;FMTTYPE=image/jpeg:https://mychq.org/wp-content/uploads/2025/06/499934334_1153077820169774_5777754351217086537_n.jpg
ORGANIZER;CN="Harley-Davidson of Jamestown":MAILTO:matt@falconerpowersports.com
END:VEVENT
BEGIN:VEVENT
DTSTART;TZID=America/New_York:20250726T090000
DTEND;TZID=America/New_York:20250726T150000
DTSTAMP:20260425T222850
CREATED:20250225T164457Z
LAST-MODIFIED:20250225T164457Z
UID:10014495-1753520400-1753542000@mychq.org
SUMMARY:2025 Hot Rods and Cool Bikes Show
DESCRIPTION: Hot Rods & Cool Bikes Show 2025  \nMark your calendars! Our highly anticipated Hot Rods & Cool Bikes Show is happening on July 26\, 2025! \n Date: Saturday\, July 26\, 2025 \n 1951 East Main St. Falconer\, NY 14733 \n Vehicle Registration: 9 AM – 11 AM $10\, proceeds go to Meals on wheels \n Show Time: 9 AM – 3 PM****FREE to the public \n All Vehicles Welcome! Bring your hot rods\, classic cars\, custom bikes\, and anything with wheels!Hand welded Trophies for the category winners. \n Live Music by ION SKY 50/50 Raffle Food Truck & More!Custom Hot Rods & Cool Bikes 2025 T-shirts to purchase. \nDon’t miss out on a day full of horsepower\, music\, and fun! Tag your friends and spread the word!
URL:https://mychq.org/event/2025-hot-rods-and-cool-bikes-show/
LOCATION:Falconer Power Sports\, 1951 E Main St\, Falconer\, 14733\, United States
CATEGORIES:Car Show
ORGANIZER;CN="Harley-Davidson of Jamestown":MAILTO:matt@falconerpowersports.com
END:VEVENT
BEGIN:VEVENT
DTSTART;TZID=America/New_York:20250719T090000
DTEND;TZID=America/New_York:20250719T170000
DTSTAMP:20260425T222850
CREATED:20250502T155726Z
LAST-MODIFIED:20250616T201443Z
UID:10016770-1752915600-1752944400@mychq.org
SUMMARY:Drake's Journey 5th Annual Motorcycle Ride
DESCRIPTION:Proceeds of the event go to helping pediatric cancer families at Oishei Children’s Hospital.
URL:https://mychq.org/event/drakes-journey-5th-annual-motorcycle-ride/
LOCATION:Falconer Power Sports\, 1951 E Main St\, Falconer\, 14733\, United States
CATEGORIES:Fundraising
ATTACH;FMTTYPE=image/jpeg:https://mychq.org/wp-content/uploads/2025/05/507679552_24519361114332289_4798101224140124994_n.jpg
ORGANIZER;CN="Drake's Journey":MAILTO:Mckane36@gmail.com
END:VEVENT
END:VCALENDAR