BEGIN:VCALENDAR
VERSION:2.0
PRODID:-//My CHQ - ECPv6.15.20//NONSGML v1.0//EN
CALSCALE:GREGORIAN
METHOD:PUBLISH
X-ORIGINAL-URL:https://mychq.org
X-WR-CALDESC:Events for My CHQ
REFRESH-INTERVAL;VALUE=DURATION:PT1H
X-Robots-Tag:noindex
X-PUBLISHED-TTL:PT1H
BEGIN:VTIMEZONE
TZID:America/New_York
BEGIN:DAYLIGHT
TZOFFSETFROM:-0500
TZOFFSETTO:-0400
TZNAME:EDT
DTSTART:20250309T070000
END:DAYLIGHT
BEGIN:STANDARD
TZOFFSETFROM:-0400
TZOFFSETTO:-0500
TZNAME:EST
DTSTART:20251102T060000
END:STANDARD
BEGIN:DAYLIGHT
TZOFFSETFROM:-0500
TZOFFSETTO:-0400
TZNAME:EDT
DTSTART:20260308T070000
END:DAYLIGHT
BEGIN:STANDARD
TZOFFSETFROM:-0400
TZOFFSETTO:-0500
TZNAME:EST
DTSTART:20261101T060000
END:STANDARD
BEGIN:DAYLIGHT
TZOFFSETFROM:-0500
TZOFFSETTO:-0400
TZNAME:EDT
DTSTART:20270314T070000
END:DAYLIGHT
BEGIN:STANDARD
TZOFFSETFROM:-0400
TZOFFSETTO:-0500
TZNAME:EST
DTSTART:20271107T060000
END:STANDARD
END:VTIMEZONE
BEGIN:VEVENT
DTSTART;TZID=America/New_York:20260509T130000
DTEND;TZID=America/New_York:20260509T170000
DTSTAMP:20260422T035328
CREATED:20260226T213201Z
LAST-MODIFIED:20260226T213201Z
UID:10026789-1778331600-1778346000@mychq.org
SUMMARY:Findley Lake Wine Walk
DESCRIPTION:Raise a glass and stroll the streets of Findley Lake!  \nThe 2026 Findley Lake Wine Walk is back—bringing together incredible local wineries\, live music\, and the charm of our lakeside town for an unforgettable day of sipping\, shopping\, and celebrating. \n Featured Wineries (More to Come!) \nWe’re proud to welcome: \nJohnson Estate Winery \n21 Brix Winery \nMazza Vineyards \nCellar 54 \nSample exceptional regional wines\, discover new favorites\, and meet the passionate makers behind every pour. And we’re not done yet—more wineries will be announced soon! \n Live Music \nEnjoy the sounds of Jeremy Jaeger as you sip and stroll. His live performance will set the perfect vibe for a day of wine\, friends\, and fun. \n Sip • Stroll • Shop \nExplore local boutiques\, lakeside views\, and the welcoming spirit of Findley Lake while tasting some of the region’s finest wines. \nGather your friends\, grab your tickets\, and join us for a day that pairs perfectly with good company. \n2026 Findley Lake Wine Walk — where every step is worth savoring.
URL:https://mychq.org/event/findley-lake-wine-walk/
LOCATION:Findley Lake\, 10361 Main St\, Findley Lake\, 14736\, United States
CATEGORIES:Food & Drink
ATTACH;FMTTYPE=image/jpeg:https://mychq.org/wp-content/uploads/2026/02/640374293_122291142878200287_4999610897449649311_n.jpg
ORGANIZER;CN="Visit Findley Lake":MAILTO:visitfindleylake@gmail.com
END:VEVENT
BEGIN:VEVENT
DTSTART;TZID=America/New_York:20260620T130000
DTEND;TZID=America/New_York:20260620T170000
DTSTAMP:20260422T035328
CREATED:20260226T213050Z
LAST-MODIFIED:20260226T213050Z
UID:10026788-1781960400-1781974800@mychq.org
SUMMARY:Findley Lake Beer Crawl 2026
DESCRIPTION:Join us for the 2026 Findley Lake Beer Crawl and kick off your weekend in style!Experience the of Findley Lake\, NY\, while enjoying top-notch craft beers and ciders from local favorites like 1911 Established\, Southern Tier\, and more. With live music from Slim & Red and The Riffriders\, delicious food\, and a beautiful lakeside setting\, this is an event you won’t want to miss. Tickets include admission\, unlimited samples and a commemorative glass.June 20th\, 2026 1PM-5PM
URL:https://mychq.org/event/findley-lake-beer-crawl-2026/
LOCATION:Findley Lake\, 10361 Main St\, Findley Lake\, 14736\, United States
CATEGORIES:Food & Drink
ATTACH;FMTTYPE=image/jpeg:https://mychq.org/wp-content/uploads/2026/02/643469485_1327960862711605_5988894788129105258_n.jpg
ORGANIZER;CN="Visit Findley Lake":MAILTO:visitfindleylake@gmail.com
END:VEVENT
BEGIN:VEVENT
DTSTART;TZID=America/New_York:20260705T080000
DTEND;TZID=America/New_York:20260705T120000
DTSTAMP:20260422T035328
CREATED:20260312T202708Z
LAST-MODIFIED:20260312T202708Z
UID:10027217-1783238400-1783252800@mychq.org
SUMMARY:Race Around The Lake
DESCRIPTION:If you participates last year you know how FUN it was. Don’t let the Summer roll by without your run or walk around Findley Lake. Save the date for the 21st Annual. Not too late to sign up. Hope to see you there.
URL:https://mychq.org/event/race-around-the-lake/
LOCATION:Findley Lake\, 10361 Main St\, Findley Lake\, 14736\, United States
CATEGORIES:Sports
ATTACH;FMTTYPE=image/jpeg:https://mychq.org/wp-content/uploads/2026/03/650066558_122290602536229274_2868633466398712943_n.jpg
ORGANIZER;CN="Visit Findley Lake":MAILTO:visitfindleylake@gmail.com
END:VEVENT
BEGIN:VEVENT
DTSTART;TZID=America/New_York:20260904T150000
DTEND;TZID=America/New_York:20260906T190000
DTSTAMP:20260422T035328
CREATED:20260204T194102Z
LAST-MODIFIED:20260204T194102Z
UID:10024732-1788534000-1788721200@mychq.org
SUMMARY:28th Annual Findley Lake Harvest Festival
DESCRIPTION:Live Music\, Crafters\, Beer Garden\, Wine Tastings\, Great food\, etc.
URL:https://mychq.org/event/28th-annual-findley-lake-harvest-festival/
LOCATION:Findley Lake\, 10361 Main St\, Findley Lake\, 14736\, United States
CATEGORIES:Festivals & Fairs
ATTACH;FMTTYPE=image/jpeg:https://mychq.org/wp-content/uploads/2026/02/608552627_1300163282146472_2985194258208026261_n.jpg
END:VEVENT
END:VCALENDAR