BEGIN:VCALENDAR
VERSION:2.0
PRODID:-//Chautauqua County Events, Local Businesses &amp; Resources | My CHQ - ECPv6.15.20//NONSGML v1.0//EN
CALSCALE:GREGORIAN
METHOD:PUBLISH
X-WR-CALNAME:Chautauqua County Events, Local Businesses &amp; Resources | My CHQ
X-ORIGINAL-URL:https://mychq.org
X-WR-CALDESC:Events for Chautauqua County Events, Local Businesses &amp; Resources | My CHQ
REFRESH-INTERVAL;VALUE=DURATION:PT1H
X-Robots-Tag:noindex
X-PUBLISHED-TTL:PT1H
BEGIN:VTIMEZONE
TZID:America/New_York
BEGIN:DAYLIGHT
TZOFFSETFROM:-0500
TZOFFSETTO:-0400
TZNAME:EDT
DTSTART:20240310T070000
END:DAYLIGHT
BEGIN:STANDARD
TZOFFSETFROM:-0400
TZOFFSETTO:-0500
TZNAME:EST
DTSTART:20241103T060000
END:STANDARD
BEGIN:DAYLIGHT
TZOFFSETFROM:-0500
TZOFFSETTO:-0400
TZNAME:EDT
DTSTART:20250309T070000
END:DAYLIGHT
BEGIN:STANDARD
TZOFFSETFROM:-0400
TZOFFSETTO:-0500
TZNAME:EST
DTSTART:20251102T060000
END:STANDARD
BEGIN:DAYLIGHT
TZOFFSETFROM:-0500
TZOFFSETTO:-0400
TZNAME:EDT
DTSTART:20260308T070000
END:DAYLIGHT
BEGIN:STANDARD
TZOFFSETFROM:-0400
TZOFFSETTO:-0500
TZNAME:EST
DTSTART:20261101T060000
END:STANDARD
BEGIN:DAYLIGHT
TZOFFSETFROM:-0500
TZOFFSETTO:-0400
TZNAME:EDT
DTSTART:20270314T070000
END:DAYLIGHT
BEGIN:STANDARD
TZOFFSETFROM:-0400
TZOFFSETTO:-0500
TZNAME:EST
DTSTART:20271107T060000
END:STANDARD
END:VTIMEZONE
BEGIN:VEVENT
DTSTART;TZID=America/New_York:20260419T100000
DTEND;TZID=America/New_York:20260419T140000
DTSTAMP:20260423T181453
CREATED:20260413T203856Z
LAST-MODIFIED:20260413T203856Z
UID:10028077-1776592800-1776607200@mychq.org
SUMMARY:Falconer Fire & EMS Recruitment Open House
DESCRIPTION:Join for an open house where you can see the facilities\, see demonstrations\, and ask questions about volunteering and career paths!
URL:https://mychq.org/event/falconer-fire-ems-recruitment-open-house/
LOCATION:Falconer Fire Department\, 115 Davis St\, Falconer\, 14733\, United States
CATEGORIES:Open House & Grand Opening
ATTACH;FMTTYPE=image/jpeg:https://mychq.org/wp-content/uploads/2026/04/431929075_748770160692056_6580960434835231860_n.jpg
END:VEVENT
BEGIN:VEVENT
DTSTART;TZID=America/New_York:20251031T170000
DTEND;TZID=America/New_York:20251031T190000
DTSTAMP:20260423T181453
CREATED:20251025T001145Z
LAST-MODIFIED:20251025T001145Z
UID:10022733-1761930000-1761937200@mychq.org
SUMMARY:Halloween @ Falconer Fire Station
DESCRIPTION:Come for candy and fire trucks!
URL:https://mychq.org/event/halloween-falconer-fire-station/
LOCATION:Falconer Fire Department\, 115 Davis St\, Falconer\, 14733\, United States
CATEGORIES:Kids & Family
ATTACH;FMTTYPE=image/jpeg:https://mychq.org/wp-content/uploads/2025/10/567705998_10238798930249729_2848057132970607415_n.jpg
END:VEVENT
BEGIN:VEVENT
DTSTART;TZID=America/New_York:20250910T183000
DTEND;TZID=America/New_York:20250910T203000
DTSTAMP:20260423T181453
CREATED:20250828T174955Z
LAST-MODIFIED:20250828T174955Z
UID:10020945-1757529000-1757536200@mychq.org
SUMMARY:Shire of Heronter Newcomer Night
DESCRIPTION:Please join us at the Falconer Fire Hall on September 10 from 6:30 to 8:30 to learn more about the Society for Creative Anachronism and the Shire of Heronter. \nIf you are an experienced member\, please bring your art projects or armor\, or pictures\, and wear garb so we can share what we do. Please also consider bringing some food to share! \nIf you are new\, please come and bring your questions and thoughts about what you might enjoy as a member of the shire! \nWe look forward to seeing many of you there!
URL:https://mychq.org/event/shire-of-heronter-newcomer-night/
LOCATION:Falconer Fire Department\, 115 Davis St\, Falconer\, 14733\, United States
CATEGORIES:Groups & Clubs
ATTACH;FMTTYPE=image/jpeg:https://mychq.org/wp-content/uploads/2025/08/535348199_1176425624519951_8568365161587505214_n.jpg
ORGANIZER;CN="The Shire of Heronter":MAILTO:chronicler@heronter.info
END:VEVENT
END:VCALENDAR