BEGIN:VCALENDAR
VERSION:2.0
PRODID:-//Chautauqua County Events, Local Businesses &amp; Resources | My CHQ - ECPv6.15.20//NONSGML v1.0//EN
CALSCALE:GREGORIAN
METHOD:PUBLISH
X-ORIGINAL-URL:https://mychq.org
X-WR-CALDESC:Events for Chautauqua County Events, Local Businesses &amp; Resources | My CHQ
REFRESH-INTERVAL;VALUE=DURATION:PT1H
X-Robots-Tag:noindex
X-PUBLISHED-TTL:PT1H
BEGIN:VTIMEZONE
TZID:America/New_York
BEGIN:DAYLIGHT
TZOFFSETFROM:-0500
TZOFFSETTO:-0400
TZNAME:EDT
DTSTART:20240310T070000
END:DAYLIGHT
BEGIN:STANDARD
TZOFFSETFROM:-0400
TZOFFSETTO:-0500
TZNAME:EST
DTSTART:20241103T060000
END:STANDARD
BEGIN:DAYLIGHT
TZOFFSETFROM:-0500
TZOFFSETTO:-0400
TZNAME:EDT
DTSTART:20250309T070000
END:DAYLIGHT
BEGIN:STANDARD
TZOFFSETFROM:-0400
TZOFFSETTO:-0500
TZNAME:EST
DTSTART:20251102T060000
END:STANDARD
BEGIN:DAYLIGHT
TZOFFSETFROM:-0500
TZOFFSETTO:-0400
TZNAME:EDT
DTSTART:20260308T070000
END:DAYLIGHT
BEGIN:STANDARD
TZOFFSETFROM:-0400
TZOFFSETTO:-0500
TZNAME:EST
DTSTART:20261101T060000
END:STANDARD
END:VTIMEZONE
BEGIN:VEVENT
DTSTART;TZID=America/New_York:20251004T193000
DTEND;TZID=America/New_York:20251004T220000
DTSTAMP:20260425T175201
CREATED:20250728T174326Z
LAST-MODIFIED:20250728T174326Z
UID:10020303-1759606200-1759615200@mychq.org
SUMMARY:Sunset Paddle on Chautauqua Lake
DESCRIPTION:This weekly Moonlight Paddle is a favorite event! We launch from 16 Water St. (Our new location) in time to enjoy a beautiful sunset over Chautauqua Lake\, and hope to see a lovely moon rise before we return to shore for a social gathering. We encourage everyone to bring snacks and drinks (non-alcoholic) to share as we enjoy the rest of the evening with fellow paddlers. Please register on our website or call 716-763-2266. It’s important we know how many participants to expect\, even if you have your own gear. If you need to rent gear from us\, the cost is $25 plus tax and fees for a single kayak or $35 plus tax and fees for a tandem or canoe. The paddle is $5 plus tax and fees if you have your own gear!
URL:https://mychq.org/event/sunset-paddle-on-chautauqua-lake/2025-10-04/
LOCATION:Evergreen Outfitters\, 61 Water St\, Mayville\, 14757\, United States
CATEGORIES:Outdoors & Nature
ATTACH;FMTTYPE=image/jpeg:https://mychq.org/wp-content/uploads/2025/07/518350281_1287924330001501_2014698960660084001_n.jpg
END:VEVENT
BEGIN:VEVENT
DTSTART;TZID=America/New_York:20250803T100000
DTEND;TZID=America/New_York:20250803T160000
DTSTAMP:20260425T175201
CREATED:20250725T141015Z
LAST-MODIFIED:20250725T141015Z
UID:10020218-1754215200-1754236800@mychq.org
SUMMARY:Rescues Course
DESCRIPTION:This rescues course introduces essential flatwater safety practices and rescue techniques that can be performed with a minimum of equipment\, in the first few minutes of an emergency. We will work on solo and assisted rescues\, including but not limited to: paddle float rescue\, the scramble (aka cowboy/cowgirl)\, T-rescue\, bow/stern rescues\, paddle shaft rescue \nThe class runs from 10am until 4pm. Be sure to pack a lunch\, plenty of water\, and wear gear appropriate for being in the water. \nFor questions or more information you can call us at 716-763-2266 or visit our website: evergreen-outfitters.com/events. \nRegistration required via our website or by calling us at 716-763-2266Fee: $85
URL:https://mychq.org/event/rescues-course/
LOCATION:Evergreen Outfitters\, 61 Water St\, Mayville\, 14757\, United States
CATEGORIES:Training & Education
ATTACH;FMTTYPE=image/jpeg:https://mychq.org/wp-content/uploads/2025/07/522596997_1297199462407321_3747285033496678370_n.jpg
END:VEVENT
BEGIN:VEVENT
DTSTART;TZID=America/New_York:20250726T193000
DTEND;TZID=America/New_York:20250726T213000
DTSTAMP:20260425T175201
CREATED:20250714T160514Z
LAST-MODIFIED:20250714T160514Z
UID:10019713-1753558200-1753565400@mychq.org
SUMMARY:Celestial Saturdays
DESCRIPTION:The only thing as beautiful as the sun setting on the lake is the moon rising out of it. For a chance to experience Chautauqua Lake at its best\, join us for our weekly evening paddles. If you own headlamps or deck lamps\, please bring them; a limited number of deck lamps are available. \nCost: $25.00 w/ rental ($35 for tandem kayak or canoe); $5 with your own gearDate: Saturdays​Meet Time: 7:30 pmLocation: Public launch from Evergreen OutfittersRegistration: Ticket link on FB event or registration link on our website.RESERVATIONS REQUIRED
URL:https://mychq.org/event/celestial-saturdays/2025-07-26/
LOCATION:Evergreen Outfitters\, 61 Water St\, Mayville\, 14757\, United States
CATEGORIES:Outdoors & Nature
ATTACH;FMTTYPE=image/jpeg:https://mychq.org/wp-content/uploads/2025/07/518350281_1287924330001501_2014698960660084001_n.jpg
END:VEVENT
BEGIN:VEVENT
DTSTART;TZID=America/New_York:20250722T183000
DTEND;TZID=America/New_York:20250722T203000
DTSTAMP:20260425T175201
CREATED:20250714T160118Z
LAST-MODIFIED:20250714T160118Z
UID:10019707-1753209000-1753216200@mychq.org
SUMMARY:Tuesday Sunset Paddle
DESCRIPTION:Experience what open water feels like while refining your strokes\, building skills\, and learning to maintain a solid pace. All skill levels are welcome. If conditions permit\, we may even explore surfing!Our exact route and plans will depend on wind and wave conditions\, as well as your ability and interests. The cliffs are beautiful and the sunsets are spectacular!RESERVATIONS REQUIRED\, WHETHER OR NOT you’re renting. Visit www.evergreen-outfitters.com \, stop by\, or call Evergreen Outfitters at 716-763-2266 for details and rentals or to register.Meet time: 6:30 pm every Tuesday throughout the summer.Location: Barcelona Kayak Launch .Price: $25 to rent\, or $5 if you have your own kayak & gear.(For open-water safety\, kayaks should be 12′ or longer with bow & stern bulkheads.)
URL:https://mychq.org/event/tuesday-sunset-paddle/2025-07-22/
LOCATION:Evergreen Outfitters\, 61 Water St\, Mayville\, 14757\, United States
CATEGORIES:Outdoors & Nature
ATTACH;FMTTYPE=image/jpeg:https://mychq.org/wp-content/uploads/2025/07/516716674_1287923490001585_6389643489121861897_n.jpg
END:VEVENT
END:VCALENDAR