BEGIN:VCALENDAR
VERSION:2.0
PRODID:-//Chautauqua County Events, Local Businesses &amp; Resources | My CHQ - ECPv6.15.20//NONSGML v1.0//EN
CALSCALE:GREGORIAN
METHOD:PUBLISH
X-ORIGINAL-URL:https://mychq.org
X-WR-CALDESC:Events for Chautauqua County Events, Local Businesses &amp; Resources | My CHQ
REFRESH-INTERVAL;VALUE=DURATION:PT1H
X-Robots-Tag:noindex
X-PUBLISHED-TTL:PT1H
BEGIN:VTIMEZONE
TZID:America/New_York
BEGIN:DAYLIGHT
TZOFFSETFROM:-0500
TZOFFSETTO:-0400
TZNAME:EDT
DTSTART:20250309T070000
END:DAYLIGHT
BEGIN:STANDARD
TZOFFSETFROM:-0400
TZOFFSETTO:-0500
TZNAME:EST
DTSTART:20251102T060000
END:STANDARD
BEGIN:DAYLIGHT
TZOFFSETFROM:-0500
TZOFFSETTO:-0400
TZNAME:EDT
DTSTART:20260308T070000
END:DAYLIGHT
BEGIN:STANDARD
TZOFFSETFROM:-0400
TZOFFSETTO:-0500
TZNAME:EST
DTSTART:20261101T060000
END:STANDARD
BEGIN:DAYLIGHT
TZOFFSETFROM:-0500
TZOFFSETTO:-0400
TZNAME:EDT
DTSTART:20270314T070000
END:DAYLIGHT
BEGIN:STANDARD
TZOFFSETFROM:-0400
TZOFFSETTO:-0500
TZNAME:EST
DTSTART:20271107T060000
END:STANDARD
END:VTIMEZONE
BEGIN:VEVENT
DTSTART;TZID=America/New_York:20260424T160000
DTEND;TZID=America/New_York:20260424T210000
DTSTAMP:20260424T004104
CREATED:20260413T203004Z
LAST-MODIFIED:20260413T203004Z
UID:10028068-1777046400-1777064400@mychq.org
SUMMARY:Ellicottville Brewing on Chautauqua Opening Weekend!
DESCRIPTION:Get excited – Opening Day 2026 is Friday\, April 24th!! \n\nStop in to celebrate the start of the season on Chautauqua Lake!\nOpening Weekend Hours:\nFriday 4/24: 4:00 PM – 9:00 PM\nSaturday 4/25: 12:00 PM – 9:00 PM\nSunday 4/26: 12:00 PM – 4:00 PM\nPLUS:\n– Live music with Jade Giambrone from 6-9PM on Friday\n– Bar-exclusive Happy Hour from 4-6PM ($5 Draft Beer & Wine)\n– EBC Seltzer Samples on Saturday between 2-4PM & 6-8PM!\n\nWe can’t wait to see you!
URL:https://mychq.org/event/ellicottville-brewing-on-chautauqua-opening-weekend/2026-04-24/
LOCATION:Ellicottville Brewing on Chautauqua\, 1 Main St\, Bemus Point\, 14712\, United States
CATEGORIES:Open House & Grand Opening
ATTACH;FMTTYPE=image/jpeg:https://mychq.org/wp-content/uploads/2026/04/671029484_1831987684785281_7876319193478443557_n.jpg
ORGANIZER;CN="Ellicottville Brewing on Chautauqua":MAILTO:info@ellicottvillebrewing.com
END:VEVENT
BEGIN:VEVENT
DTSTART;TZID=America/New_York:20260424T180000
DTEND;TZID=America/New_York:20260424T210000
DTSTAMP:20260424T004104
CREATED:20260424T003424Z
LAST-MODIFIED:20260424T003424Z
UID:10028359-1777053600-1777064400@mychq.org
SUMMARY:Jade Giambrone LIVE @ EBC
DESCRIPTION:Kick off the season at Chautauqua Lake with live music featuring Jade Giambrone on Friday\, April 24th from 6-9pm! \nPlus\, stop by early and enjoy $5 draft beer and wine during our bar-exclusive happy hour! \nCheers to the start of another season at Bemus Point!
URL:https://mychq.org/event/jade-giambrone-live-ebc/
LOCATION:Ellicottville Brewing on Chautauqua\, 1 Main St\, Bemus Point\, 14712\, United States
CATEGORIES:Music & Entertainment
ATTACH;FMTTYPE=image/jpeg:https://mychq.org/wp-content/uploads/2026/04/671646553_1836239371026779_7828095215214033064_n.jpg
ORGANIZER;CN="Ellicottville Brewing on Chautauqua":MAILTO:info@ellicottvillebrewing.com
END:VEVENT
BEGIN:VEVENT
DTSTART;TZID=America/New_York:20260501T190000
DTEND;TZID=America/New_York:20260501T220000
DTSTAMP:20260424T004104
CREATED:20260424T003331Z
LAST-MODIFIED:20260424T003331Z
UID:10028358-1777662000-1777672800@mychq.org
SUMMARY:Trever Stribing of PA LINE @ EBC
DESCRIPTION: Original Live Music – Friday Night  \nFriday\, May 1st | 7–10 PMEllicottville Brewing on Chautauqua \nBringing a full night of original Americana folk to the lake—songs built from the road\, real stories\, and everything in between. \nIf you’ve been meaning to catch a set\, this is a good one. Great spot\, great atmosphere\, and all original music all night. \n 57 Lakeside Dr\, Bemus Point\, NY 7–10 PM Friday\, May 1st \nCome out\, grab a drink\, and lock into something real.
URL:https://mychq.org/event/trever-stribing-of-pa-line-ebc/
LOCATION:Ellicottville Brewing on Chautauqua\, 1 Main St\, Bemus Point\, 14712\, United States
CATEGORIES:Music & Entertainment
ATTACH;FMTTYPE=image/jpeg:https://mychq.org/wp-content/uploads/2026/04/673539481_885878074470110_5884541547334295037_n.jpg
ORGANIZER;CN="Ellicottville Brewing on Chautauqua":MAILTO:info@ellicottvillebrewing.com
END:VEVENT
BEGIN:VEVENT
DTSTART;TZID=America/New_York:20260529T180000
DTEND;TZID=America/New_York:20260529T210000
DTSTAMP:20260424T004104
CREATED:20260306T214605Z
LAST-MODIFIED:20260306T214605Z
UID:10026992-1780077600-1780088400@mychq.org
SUMMARY:Ion Sky Trio Unplugged @ EBC Chautauqua
DESCRIPTION:Join Jack\, Bradly and Tara for all your acoustic favorites.
URL:https://mychq.org/event/ion-sky-trio-unplugged-ebc-chautauqua/
LOCATION:Ellicottville Brewing on Chautauqua\, 1 Main St\, Bemus Point\, 14712\, United States
CATEGORIES:Music & Entertainment
ATTACH;FMTTYPE=image/jpeg:https://mychq.org/wp-content/uploads/2024/12/468847904_1159126702256076_5729064279192507446_n.jpg
ORGANIZER;CN="Ion Sky":MAILTO:grav7785@hotmail.com
END:VEVENT
END:VCALENDAR