BEGIN:VCALENDAR
VERSION:2.0
PRODID:-//Chautauqua County Events, Local Businesses &amp; Resources | My CHQ - ECPv6.15.20//NONSGML v1.0//EN
CALSCALE:GREGORIAN
METHOD:PUBLISH
X-WR-CALNAME:Chautauqua County Events, Local Businesses &amp; Resources | My CHQ
X-ORIGINAL-URL:https://mychq.org
X-WR-CALDESC:Events for Chautauqua County Events, Local Businesses &amp; Resources | My CHQ
REFRESH-INTERVAL;VALUE=DURATION:PT1H
X-Robots-Tag:noindex
X-PUBLISHED-TTL:PT1H
BEGIN:VTIMEZONE
TZID:America/New_York
BEGIN:DAYLIGHT
TZOFFSETFROM:-0500
TZOFFSETTO:-0400
TZNAME:EDT
DTSTART:20250309T070000
END:DAYLIGHT
BEGIN:STANDARD
TZOFFSETFROM:-0400
TZOFFSETTO:-0500
TZNAME:EST
DTSTART:20251102T060000
END:STANDARD
BEGIN:DAYLIGHT
TZOFFSETFROM:-0500
TZOFFSETTO:-0400
TZNAME:EDT
DTSTART:20260308T070000
END:DAYLIGHT
BEGIN:STANDARD
TZOFFSETFROM:-0400
TZOFFSETTO:-0500
TZNAME:EST
DTSTART:20261101T060000
END:STANDARD
BEGIN:DAYLIGHT
TZOFFSETFROM:-0500
TZOFFSETTO:-0400
TZNAME:EDT
DTSTART:20270314T070000
END:DAYLIGHT
BEGIN:STANDARD
TZOFFSETFROM:-0400
TZOFFSETTO:-0500
TZNAME:EST
DTSTART:20271107T060000
END:STANDARD
END:VTIMEZONE
BEGIN:VEVENT
DTSTART;TZID=America/New_York:20260505T180000
DTEND;TZID=America/New_York:20260505T200000
DTSTAMP:20260425T175543
CREATED:20260414T165201Z
LAST-MODIFIED:20260414T165201Z
UID:10028152-1778004000-1778011200@mychq.org
SUMMARY:Westfield Affordability Town Hall
DESCRIPTION:The Westfield affordability town hall brings neighbors together to talk about the rising cost of living and the challenges families face across NY‑23. Aaron is joining this conversation to listen\, learn\, and hear directly from the people who call Westfield home. This event gives residents the chance to share what matters most to them. It also gives them space to talk openly about the issues shaping daily life in their community. \nDuring the event\, Aaron will hear about the pressures created by higher prices\, limited housing options\, and the strain on local services. These conversations help him understand how federal policy affects rural towns. They also help him see what solutions could make life more affordable for everyone. \nThe event also creates space for neighbors to talk with one another. People can share their experiences\, compare challenges\, and discuss ideas that support the future of Westfield. Aaron believes that strong communities grow from honest conversations\, and this gathering reflects that belief. He values the chance to learn from residents and to understand the concerns that shape their daily lives. \nPlease RSVP via the Mobilize link: https://mobilize.us/s/KgtQNM
URL:https://mychq.org/event/westfield-affordability-town-hall/
LOCATION:Eason Hall\, 23 Elm St\, Westfield\, 14787\, United States
CATEGORIES:Government & History
ATTACH;FMTTYPE=image/jpeg:https://mychq.org/wp-content/uploads/2026/04/671290530_122176244816844029_5082527337229349748_n.jpg
ORGANIZER;CN="Aaron Gies":MAILTO:info@aaronforny23.com
END:VEVENT
END:VCALENDAR