BEGIN:VCALENDAR
VERSION:2.0
PRODID:-//Chautauqua County Events, Local Businesses &amp; Resources | My CHQ - ECPv6.15.20//NONSGML v1.0//EN
CALSCALE:GREGORIAN
METHOD:PUBLISH
X-ORIGINAL-URL:https://mychq.org
X-WR-CALDESC:Events for Chautauqua County Events, Local Businesses &amp; Resources | My CHQ
REFRESH-INTERVAL;VALUE=DURATION:PT1H
X-Robots-Tag:noindex
X-PUBLISHED-TTL:PT1H
BEGIN:VTIMEZONE
TZID:America/New_York
BEGIN:DAYLIGHT
TZOFFSETFROM:-0500
TZOFFSETTO:-0400
TZNAME:EDT
DTSTART:20240310T070000
END:DAYLIGHT
BEGIN:STANDARD
TZOFFSETFROM:-0400
TZOFFSETTO:-0500
TZNAME:EST
DTSTART:20241103T060000
END:STANDARD
BEGIN:DAYLIGHT
TZOFFSETFROM:-0500
TZOFFSETTO:-0400
TZNAME:EDT
DTSTART:20250309T070000
END:DAYLIGHT
BEGIN:STANDARD
TZOFFSETFROM:-0400
TZOFFSETTO:-0500
TZNAME:EST
DTSTART:20251102T060000
END:STANDARD
BEGIN:DAYLIGHT
TZOFFSETFROM:-0500
TZOFFSETTO:-0400
TZNAME:EDT
DTSTART:20260308T070000
END:DAYLIGHT
BEGIN:STANDARD
TZOFFSETFROM:-0400
TZOFFSETTO:-0500
TZNAME:EST
DTSTART:20261101T060000
END:STANDARD
END:VTIMEZONE
BEGIN:VEVENT
DTSTART;TZID=America/New_York:20250913T100000
DTEND;TZID=America/New_York:20250913T170000
DTSTAMP:20260425T215410
CREATED:20241031T174551Z
LAST-MODIFIED:20241031T174551Z
UID:10010857-1757757600-1757782800@mychq.org
SUMMARY:Fall Tractor Pull!
DESCRIPTION:scales open at 9 amgarden tractors begin at 10 amfarm tractors start at 12 pm
URL:https://mychq.org/event/fall-tractor-pull/
LOCATION:Chautauqua County Antique Equipment Association\, 4578 Cemetery Rd\, Stockton\, 14784\, United States
CATEGORIES:Other
ORGANIZER;CN="Chautauqua County Antique Equipment Association":MAILTO:secretary@CCAEA.net
END:VEVENT
BEGIN:VEVENT
DTSTART;TZID=America/New_York:20250815T080000
DTEND;TZID=America/New_York:20250817T160000
DTSTAMP:20260425T215410
CREATED:20241017T132153Z
LAST-MODIFIED:20241017T132153Z
UID:10010477-1755244800-1755446400@mychq.org
SUMMARY:50th Annual Show
DESCRIPTION:featuring: equipment present at early shows
URL:https://mychq.org/event/50th-annual-show/
LOCATION:Chautauqua County Antique Equipment Association\, 4578 Cemetery Rd\, Stockton\, 14784\, United States
CATEGORIES:Arts & Antiques
ORGANIZER;CN="Chautauqua County Antique Equipment Association":MAILTO:secretary@CCAEA.net
END:VEVENT
BEGIN:VEVENT
DTSTART;TZID=America/New_York:20250726T160000
DTEND;TZID=America/New_York:20250726T200000
DTSTAMP:20260425T215410
CREATED:20250611T154425Z
LAST-MODIFIED:20250611T154425Z
UID:10018326-1753545600-1753560000@mychq.org
SUMMARY:10th Annual Skinner-Ville Summer Pig-Out
DESCRIPTION:Add us to your summer plans for Saturday\, July 26\, 2025! Kid Zone\, games\, raffles\, and more!!!! Back again this year is the Pig Pickin’ provided by Chris’s Bar-Ber Q! OsbornNash will be on stage this year!
URL:https://mychq.org/event/10th-annual-skinner-ville-summer-pig-out/
LOCATION:Chautauqua County Antique Equipment Association\, 4578 Cemetery Rd\, Stockton\, 14784\, United States
CATEGORIES:Food & Drink
ATTACH;FMTTYPE=image/jpeg:https://mychq.org/wp-content/uploads/2025/06/481077385_944808304516262_7497705675796940979_n-e1749654295214.jpg
ORGANIZER;CN="Skinner-Ville Charities":MAILTO:admin@skinnervillecharities.org
END:VEVENT
END:VCALENDAR