BEGIN:VCALENDAR
VERSION:2.0
PRODID:-//My CHQ - ECPv6.15.20//NONSGML v1.0//EN
CALSCALE:GREGORIAN
METHOD:PUBLISH
X-ORIGINAL-URL:https://mychq.org
X-WR-CALDESC:Events for My CHQ
REFRESH-INTERVAL;VALUE=DURATION:PT1H
X-Robots-Tag:noindex
X-PUBLISHED-TTL:PT1H
BEGIN:VTIMEZONE
TZID:America/New_York
BEGIN:DAYLIGHT
TZOFFSETFROM:-0500
TZOFFSETTO:-0400
TZNAME:EDT
DTSTART:20250309T070000
END:DAYLIGHT
BEGIN:STANDARD
TZOFFSETFROM:-0400
TZOFFSETTO:-0500
TZNAME:EST
DTSTART:20251102T060000
END:STANDARD
BEGIN:DAYLIGHT
TZOFFSETFROM:-0500
TZOFFSETTO:-0400
TZNAME:EDT
DTSTART:20260308T070000
END:DAYLIGHT
BEGIN:STANDARD
TZOFFSETFROM:-0400
TZOFFSETTO:-0500
TZNAME:EST
DTSTART:20261101T060000
END:STANDARD
BEGIN:DAYLIGHT
TZOFFSETFROM:-0500
TZOFFSETTO:-0400
TZNAME:EDT
DTSTART:20270314T070000
END:DAYLIGHT
BEGIN:STANDARD
TZOFFSETFROM:-0400
TZOFFSETTO:-0500
TZNAME:EST
DTSTART:20271107T060000
END:STANDARD
END:VTIMEZONE
BEGIN:VEVENT
DTSTART;TZID=America/New_York:20260423T183000
DTEND;TZID=America/New_York:20260423T203000
DTSTAMP:20260422T234459
CREATED:20260331T164555Z
LAST-MODIFIED:20260331T164555Z
UID:10027641-1776969000-1776976200@mychq.org
SUMMARY:Jessie James Weston LIVE @ BTH
DESCRIPTION:Thursday night is the start to the weekend right? We’re kicking it off with a fun night hanging with Jesse James Weston.
URL:https://mychq.org/event/jessie-james-weston-live-bth/
LOCATION:Busti Tap House\, 792 Busti-Sugar Grove Rd.\, Jamestown\, NY\, 14701\, United States
CATEGORIES:Music & Entertainment
ATTACH;FMTTYPE=image/jpeg:https://mychq.org/wp-content/uploads/2025/06/509292089_1045869684309301_3804374335024284923_n.jpg
ORGANIZER;CN="Busti Tap House":MAILTO:Bustitaphouse@gmail.com
END:VEVENT
BEGIN:VEVENT
DTSTART;TZID=America/New_York:20260426T150000
DTEND;TZID=America/New_York:20260426T180000
DTSTAMP:20260422T234459
CREATED:20260401T133918Z
LAST-MODIFIED:20260401T133918Z
UID:10027672-1777215600-1777226400@mychq.org
SUMMARY:Nathan Fiscus LIVE @ BTH
DESCRIPTION:We’re excited to welcome Nathan Fiscus back to Busti Tap House and you won’t want to miss it!  \n Sunday\, April 26th\, 2026 3-6 PM Busti Tap House \nBe part of the night as Nathan makes his Tap House debut\, bringing fresh acoustic energy\, great vocals\, and crowd-favorite tunes to our cozy lounge. Grab dinner\, sip on your favorite drink by the fireplace\, and discover your next favorite live musician. \n\n Live acoustic set Full menu & drinks available Cozy lounge vibes \nCome early\, bring your friends\, and help us give Nathan a warm Tap House welcome!  \n Hit “Going\,” invite your crew\, and join us for a special night of live music!
URL:https://mychq.org/event/nathan-fiscus-live-bth/
LOCATION:Busti Tap House\, 792 Busti-Sugar Grove Rd.\, Jamestown\, NY\, 14701\, United States
CATEGORIES:Music & Entertainment
ATTACH;FMTTYPE=image/jpeg:https://mychq.org/wp-content/uploads/2026/04/658365200_1268176382078629_1504310005754634482_n.jpg
ORGANIZER;CN="Busti Tap House":MAILTO:Bustitaphouse@gmail.com
END:VEVENT
BEGIN:VEVENT
DTSTART;TZID=America/New_York:20260503T150000
DTEND;TZID=America/New_York:20260503T180000
DTSTAMP:20260422T234459
CREATED:20260211T174540Z
LAST-MODIFIED:20260211T174540Z
UID:10024879-1777820400-1777831200@mychq.org
SUMMARY:Ion Sky Trio LIVE @ Busti Tap House
DESCRIPTION:Join\, Jack\, Bradley and Tara for all your acoustic favorites.
URL:https://mychq.org/event/ion-sky-trio-live-busti-tap-house/
LOCATION:Busti Tap House\, 792 Busti-Sugar Grove Rd.\, Jamestown\, NY\, 14701\, United States
CATEGORIES:Music & Entertainment
ATTACH;FMTTYPE=image/jpeg:https://mychq.org/wp-content/uploads/2024/12/469051756_1159122642256482_1409042906988357216_n.jpg
ORGANIZER;CN="Busti Tap House":MAILTO:Bustitaphouse@gmail.com
END:VEVENT
BEGIN:VEVENT
DTSTART;TZID=America/New_York:20260506T183000
DTEND;TZID=America/New_York:20260506T200000
DTSTAMP:20260422T234459
CREATED:20260331T164912Z
LAST-MODIFIED:20260331T164912Z
UID:10027645-1778092200-1778097600@mychq.org
SUMMARY:Sip & Paint at Busti Tap House
DESCRIPTION:May Sip & Paint at Busti Tap House!  \n Get ready to unleash your inner artist while sipping on your favorite drink! Join us for a fun and creative evening. \n Date: May 6th\, 2026 Time: 6:30-8PM Location: Busti Tap House $30 Cash to instructor \n Date: June 3rd\, 2026 Time: 6:30-8PM Location: Busti Tap House $30 Cash to instructor \nCome for the art\, stay for the fun\, and enjoy some food and drinks Whether you’re a painting pro or a first-timer\, our friendly instructors will guide you through every brushstroke. \nSpots are limited\, so grab yours now and let’s make this a night to remember! \nTag your friends who need a little art and wine in their life!  \n#SipAndPaint #BustiTapHouse #CraftBeerAndCanvas #wineandpaint #PaintAndSip \nJoin us for a cozy evening at Busti Tap House\, where creativity flows as easily as the wine! \n To book: Text your name\, number of people in your party\, and phone number to Tina @ 716-499-4226. \n Enjoy your favorite drinks and let our talented instructor\, Tina Clark. \nLimited spots available\, so grab your spot now and let’s sip & paint.
URL:https://mychq.org/event/sip-paint-at-busti-tap-house/2026-05-06/
LOCATION:Busti Tap House\, 792 Busti-Sugar Grove Rd.\, Jamestown\, NY\, 14701\, United States
CATEGORIES:Arts & Antiques
ATTACH;FMTTYPE=image/jpeg:https://mychq.org/wp-content/uploads/2026/01/618855565_1210179147878353_505999368186363161_n.jpg
ORGANIZER;CN="Busti Tap House":MAILTO:Bustitaphouse@gmail.com
END:VEVENT
BEGIN:VEVENT
DTSTART;TZID=America/New_York:20260507T183000
DTEND;TZID=America/New_York:20260507T203000
DTSTAMP:20260422T234459
CREATED:20260331T164801Z
LAST-MODIFIED:20260331T164801Z
UID:10027644-1778178600-1778185800@mychq.org
SUMMARY:Campfire Junkie LIVE @ BTH
DESCRIPTION: Campfire Junkie Live  \nJoin us for an unforgettable evening as Campfire Junkie takes the stage 6:30 PM to 8:30 PM!  \nExpect a cozy\, acoustic vibe with heartwarming tunes and a laid-back atmosphere perfect for enjoying great music with friends. Whether you’re unwinding after a busy week or looking to discover new sounds\, this event is the perfect escape.  \nDon’t miss out on this amazing performance by one of the best local acts in town! Bring your friends\, grab a drink\, and enjoy an evening around the music that feels like home.  \n When: Thursday\, April 2nd\, 2026- 6:30 PM – 8:30 PM \n When: Thursday\, May 7th\, 2026- 6:30 PM – 8:30 PM \n\nSee you by the fire!
URL:https://mychq.org/event/campfire-junkie-live-bth/2026-05-07/
LOCATION:Busti Tap House\, 792 Busti-Sugar Grove Rd.\, Jamestown\, NY\, 14701\, United States
CATEGORIES:Music & Entertainment
ATTACH;FMTTYPE=image/jpeg:https://mychq.org/wp-content/uploads/2025/08/528480276_1079707327592203_7173097373278549401_n.jpg
ORGANIZER;CN="Busti Tap House":MAILTO:Bustitaphouse@gmail.com
END:VEVENT
BEGIN:VEVENT
DTSTART;TZID=America/New_York:20260510T130000
DTEND;TZID=America/New_York:20260510T153000
DTSTAMP:20260422T234459
CREATED:20260415T181158Z
LAST-MODIFIED:20260415T181158Z
UID:10028173-1778418000-1778427000@mychq.org
SUMMARY:Mother’s Day Boozy Bingo @ Busti Tap House
DESCRIPTION:Mother’s Day Boozy Bingo  \nSunday May 101–3:30 PMDoors open at 1 | Balls drop at 1:30 \n Drinks & prizes $20 entry includes bingo cards \nCome family friendly or make it a Mom’s Day Out and have the family meet you after for dinner. \n Busti Tap House \nTag your bingo crew
URL:https://mychq.org/event/mothers-day-boozy-bingo-busti-tap-house/
LOCATION:Busti Tap House\, 792 Busti-Sugar Grove Rd.\, Jamestown\, NY\, 14701\, United States
CATEGORIES:Adults Only & Parties
ATTACH;FMTTYPE=image/jpeg:https://mychq.org/wp-content/uploads/2026/04/671243999_1277717844457816_1180541522922947231_n.jpg
ORGANIZER;CN="Busti Tap House":MAILTO:Bustitaphouse@gmail.com
END:VEVENT
BEGIN:VEVENT
DTSTART;TZID=America/New_York:20260517T140000
DTEND;TZID=America/New_York:20260517T170000
DTSTAMP:20260422T234459
CREATED:20260401T133815Z
LAST-MODIFIED:20260401T133815Z
UID:10027671-1779026400-1779037200@mychq.org
SUMMARY:Erika & Jesse LIVE @ BTH
DESCRIPTION: Live Music at Busti Tap House!  \nJoin us Sunday for an afternoon of live music with Erika & Jesse! \nThis talented duo brings a great mix of acoustic favorites\, smooth harmonies\, and laid-back energy that pairs perfectly with a relaxing Sunday. Grab a drink\, enjoy great food\, and settle in for an afternoon of music in the cozy atmosphere of the Tap House. \n Great music Delicious food & drink specials Cozy lounge vibes \nBring your friends\, grab a table\, and spend your Sunday afternoon with us! \n Busti Tap House Sunday\, April 19 | 2–5 PM \n Busti Tap House Sunday\, May 17 | 2–5 PM
URL:https://mychq.org/event/erika-jesse-live-bth/2026-05-17/
LOCATION:Busti Tap House\, 792 Busti-Sugar Grove Rd.\, Jamestown\, NY\, 14701\, United States
CATEGORIES:Music & Entertainment
ATTACH;FMTTYPE=image/jpeg:https://mychq.org/wp-content/uploads/2026/04/659216840_1267659778796956_5184267539863629092_n.jpg
ORGANIZER;CN="Busti Tap House":MAILTO:Bustitaphouse@gmail.com
END:VEVENT
BEGIN:VEVENT
DTSTART;TZID=America/New_York:20260607T150000
DTEND;TZID=America/New_York:20260607T180000
DTSTAMP:20260422T234459
CREATED:20260420T151656Z
LAST-MODIFIED:20260420T151656Z
UID:10028250-1780844400-1780855200@mychq.org
SUMMARY:Funday Sunday with Anna & Aaron Acoustic
DESCRIPTION:Join us at Busti Tap House for a beautiful afternoon of live acoustic music with Anna & Aaron!  \n Sunday\, June 7\, 2026 3:00 PM – 6:00 PM Busti Tap House \nSoak up the Sunday vibes on the deck\, sip on your favorite drinks\, and enjoy a laid-back afternoon filled with harmonies\, acoustic favorites\, and feel-good energy. Whether you’re stopping in for lunch\, drinks\, or just the music\, Anna & Aaron bring the perfect soundtrack to your weekend.  \n Live acoustic duo Full menu available Drinks + summer vibes Yard games on the deck \nGrab your crew\, hit “Going\,” and join us for a Sunday you won’t want to miss!
URL:https://mychq.org/event/funday-sunday-with-anna-aaron-acoustic/
LOCATION:Busti Tap House\, 792 Busti-Sugar Grove Rd.\, Jamestown\, NY\, 14701\, United States
CATEGORIES:Music & Entertainment
ATTACH;FMTTYPE=image/jpeg:https://mychq.org/wp-content/uploads/2026/04/675980861_1282411717321762_7996430536662459710_n.jpg
ORGANIZER;CN="Busti Tap House":MAILTO:Bustitaphouse@gmail.com
END:VEVENT
BEGIN:VEVENT
DTSTART;TZID=America/New_York:20260621T150000
DTEND;TZID=America/New_York:20260621T180000
DTSTAMP:20260422T234459
CREATED:20260331T164644Z
LAST-MODIFIED:20260331T164644Z
UID:10027642-1782054000-1782064800@mychq.org
SUMMARY:Tyler McClain LIVE @ BTH
DESCRIPTION:We can’t wait to spend FUNDAY SUNDAY with Tyler and listen to him jam.  \nCome hang with Tyler McClain and the BTH crew for an epic Funday Sunday!tytler \n 
URL:https://mychq.org/event/tyler-mcclain-live-bth-3/
LOCATION:Busti Tap House\, 792 Busti-Sugar Grove Rd.\, Jamestown\, NY\, 14701\, United States
CATEGORIES:Music & Entertainment
ATTACH;FMTTYPE=image/jpeg:https://mychq.org/wp-content/uploads/2025/11/573887578_1152086120354323_2080295397762555106_n.jpg
ORGANIZER;CN="Busti Tap House":MAILTO:Bustitaphouse@gmail.com
END:VEVENT
END:VCALENDAR