BEGIN:VCALENDAR
VERSION:2.0
PRODID:-//My CHQ - ECPv6.15.20//NONSGML v1.0//EN
CALSCALE:GREGORIAN
METHOD:PUBLISH
X-ORIGINAL-URL:https://mychq.org
X-WR-CALDESC:Events for My CHQ
REFRESH-INTERVAL;VALUE=DURATION:PT1H
X-Robots-Tag:noindex
X-PUBLISHED-TTL:PT1H
BEGIN:VTIMEZONE
TZID:America/New_York
BEGIN:DAYLIGHT
TZOFFSETFROM:-0500
TZOFFSETTO:-0400
TZNAME:EDT
DTSTART:20250309T070000
END:DAYLIGHT
BEGIN:STANDARD
TZOFFSETFROM:-0400
TZOFFSETTO:-0500
TZNAME:EST
DTSTART:20251102T060000
END:STANDARD
BEGIN:DAYLIGHT
TZOFFSETFROM:-0500
TZOFFSETTO:-0400
TZNAME:EDT
DTSTART:20260308T070000
END:DAYLIGHT
BEGIN:STANDARD
TZOFFSETFROM:-0400
TZOFFSETTO:-0500
TZNAME:EST
DTSTART:20261101T060000
END:STANDARD
BEGIN:DAYLIGHT
TZOFFSETFROM:-0500
TZOFFSETTO:-0400
TZNAME:EDT
DTSTART:20270314T070000
END:DAYLIGHT
BEGIN:STANDARD
TZOFFSETFROM:-0400
TZOFFSETTO:-0500
TZNAME:EST
DTSTART:20271107T060000
END:STANDARD
END:VTIMEZONE
BEGIN:VEVENT
DTSTART;TZID=America/New_York:20260517T090000
DTEND;TZID=America/New_York:20260517T170000
DTSTAMP:20260423T031226
CREATED:20260212T171915Z
LAST-MODIFIED:20260212T171915Z
UID:10024894-1779008400-1779037200@mychq.org
SUMMARY:3rd Annual on Par of Pip-Skey's Golf Tournament
DESCRIPTION:Mark your calendars for a fun day of golf\, games\, raffles\, and prizes! \nTee off is at 9amTeams of 4Nonmember $90/personMember $70/person \nSponsor a holeFun games on the golf course50/50Raffle basketsCash prizes for winning (and losing) teams \nIncludes:Hot dogs at the passChicken BBQ dinner18 holes and golf cart
URL:https://mychq.org/event/3rd-annual-on-par-of-pip-skeys-golf-tournament/
LOCATION:Blueberry Hill Golf Course\, 6528 Cable Hollow Rd\, Russell\, PA\, 16345\, United States
CATEGORIES:Sports
ATTACH;FMTTYPE=image/jpeg:https://mychq.org/wp-content/uploads/2026/02/629275265_122325070256026700_7539806088190623763_n.jpg
ORGANIZER;CN="Pip-Skey's Foundation for Homeless Animals%2C Inc.":MAILTO:pipskeysfoundation@gmail.com
END:VEVENT
BEGIN:VEVENT
DTSTART;TZID=America/New_York:20260724T090000
DTEND;TZID=America/New_York:20260724T160000
DTSTAMP:20260423T031226
CREATED:20260331T163604Z
LAST-MODIFIED:20260331T163604Z
UID:10027637-1784883600-1784908800@mychq.org
SUMMARY:2026 Heritage Golf Classic
DESCRIPTION:Join us Friday\, July 24\, 2026\, at 9am for a shotgun start at Blueberry Hill Golf Club in Russell\, PA! Registration and sponsorship information is available here: https://heritage1886.org/golf. Inquiries may be directed to Natalie Bellardo at nbellardo@heritage1886.org. \nWant a FREE MULLIGAN?!?! Attend our FriYay Southern Tier fundraising event June 5 (http://heritage1886.org/events). Join us for both events!
URL:https://mychq.org/event/2026-heritage-golf-classic/
LOCATION:Blueberry Hill Golf Course\, 6528 Cable Hollow Rd\, Russell\, PA\, 16345\, United States
CATEGORIES:Sports
ATTACH;FMTTYPE=image/jpeg:https://mychq.org/wp-content/uploads/2026/03/612729217_1428622275935257_8956999561918952286_n.jpg
ORGANIZER;CN="Heritage Ministries":MAILTO:heritage@heritage1886.org
END:VEVENT
END:VCALENDAR