BEGIN:VCALENDAR
VERSION:2.0
PRODID:-//Chautauqua County Events, Local Businesses &amp; Resources | My CHQ - ECPv6.15.20//NONSGML v1.0//EN
CALSCALE:GREGORIAN
METHOD:PUBLISH
X-ORIGINAL-URL:https://mychq.org
X-WR-CALDESC:Events for Chautauqua County Events, Local Businesses &amp; Resources | My CHQ
REFRESH-INTERVAL;VALUE=DURATION:PT1H
X-Robots-Tag:noindex
X-PUBLISHED-TTL:PT1H
BEGIN:VTIMEZONE
TZID:America/New_York
BEGIN:DAYLIGHT
TZOFFSETFROM:-0500
TZOFFSETTO:-0400
TZNAME:EDT
DTSTART:20250309T070000
END:DAYLIGHT
BEGIN:STANDARD
TZOFFSETFROM:-0400
TZOFFSETTO:-0500
TZNAME:EST
DTSTART:20251102T060000
END:STANDARD
BEGIN:DAYLIGHT
TZOFFSETFROM:-0500
TZOFFSETTO:-0400
TZNAME:EDT
DTSTART:20260308T070000
END:DAYLIGHT
BEGIN:STANDARD
TZOFFSETFROM:-0400
TZOFFSETTO:-0500
TZNAME:EST
DTSTART:20261101T060000
END:STANDARD
BEGIN:DAYLIGHT
TZOFFSETFROM:-0500
TZOFFSETTO:-0400
TZNAME:EDT
DTSTART:20270314T070000
END:DAYLIGHT
BEGIN:STANDARD
TZOFFSETFROM:-0400
TZOFFSETTO:-0500
TZNAME:EST
DTSTART:20271107T060000
END:STANDARD
END:VTIMEZONE
BEGIN:VEVENT
DTSTART;TZID=America/New_York:20260427T180000
DTEND;TZID=America/New_York:20260427T210000
DTSTAMP:20260424T120051
CREATED:20251106T184106Z
LAST-MODIFIED:20251106T184106Z
UID:10022937-1777312800-1777323600@mychq.org
SUMMARY:PJ Story Time @ Ashville Library
DESCRIPTION:Storytime Sylvia presents gentle stories\, songs\, snacks and a simple craft to bring a sweet and cozy close to your little ones’ day. Come in pajamas for the ultimate in library comfort! Appropriate for little ones from baby through early elementary.
URL:https://mychq.org/event/pj-story-time-ashville-library/2026-04-27/
LOCATION:Ashville Library\, 2200 N Maple Ave\, Ashville\, 14710\, United States
CATEGORIES:Library
ATTACH;FMTTYPE=image/jpeg:https://mychq.org/wp-content/uploads/2025/11/572540506_1283095237180839_7852619864707536348_n.jpg
ORGANIZER;CN="Ashville Library":MAILTO:director@ashvillelibrary.com
END:VEVENT
BEGIN:VEVENT
DTSTART;TZID=America/New_York:20260429T093000
DTEND;TZID=America/New_York:20260429T113000
DTSTAMP:20260424T120051
CREATED:20260325T162021Z
LAST-MODIFIED:20260325T162021Z
UID:10027516-1777455000-1777462200@mychq.org
SUMMARY:WISE Program @ Ashville Library
DESCRIPTION:CHQ Aging and Prevention Works have teamed up to offer WISE (Wellness Initiative for Senior Education)\, an Aging Services NY program for seniors. This is a series of talks on a variety of compelling subjects related to health and wellness as we age. Contact Aging Service NY Connects at 716-753-4582 to register.
URL:https://mychq.org/event/wise-program-ashville-library/2026-04-29/
LOCATION:Ashville Library\, 2200 N Maple Ave\, Ashville\, 14710\, United States
CATEGORIES:Library
ATTACH;FMTTYPE=image/jpeg:https://mychq.org/wp-content/uploads/2026/03/656433333_1408536707970024_2963631372130006876_n.jpg
ORGANIZER;CN="Ashville Library":MAILTO:director@ashvillelibrary.com
END:VEVENT
BEGIN:VEVENT
DTSTART;TZID=America/New_York:20260429T173000
DTEND;TZID=America/New_York:20260429T193000
DTSTAMP:20260424T120051
CREATED:20260325T162138Z
LAST-MODIFIED:20260325T162138Z
UID:10027523-1777483800-1777491000@mychq.org
SUMMARY:Learn MahJong @ Ashville Library
DESCRIPTION:A new chance to learn MahJong is now open! We are offering a 4-Class Session starting in April (plan to attend all 4 classes). Dates and time are: April 22\, 29\, May 6 and May 13 from 5:30-7:30 pm Registration is required\, and there will be a cap on attendees\, so sign up now! You can call us\, email us\, FB or Insta Message us\, or come to the library and sign up in person! This is a free event!
URL:https://mychq.org/event/learn-mahjong-ashville-library/2026-04-29/
LOCATION:Ashville Library\, 2200 N Maple Ave\, Ashville\, 14710\, United States
CATEGORIES:Library
ATTACH;FMTTYPE=image/jpeg:https://mychq.org/wp-content/uploads/2026/03/655278997_1408512474639114_121494848819212682_n.jpg
ORGANIZER;CN="Ashville Library":MAILTO:director@ashvillelibrary.com
END:VEVENT
BEGIN:VEVENT
DTSTART;TZID=America/New_York:20260518T160000
DTEND;TZID=America/New_York:20260518T170000
DTSTAMP:20260424T120051
CREATED:20250917T153241Z
LAST-MODIFIED:20250917T153241Z
UID:10021661-1779120000-1779123600@mychq.org
SUMMARY:Ashville Library Book Club
DESCRIPTION:The Ashville Library Book Club is open to New Members! \n\nMeetings are held every second month on the 3rd Monday of the month at Ashville Library at 4 pm EXCEPT for the months of July and September. These are held outdoors at the pavilion at the Whittier Apple Farm and Event Center\, usually at 6 pm.\nBook selection for November 2025 is Passionate Mothers\, Powerful Sons: The Lives of Jennie Jerome Churchill and Sara Delano Roosevelt by Charlotte Gray. Mary Rappole will be the discussion leader for November.\nWe are a bit out of sync as our September 15 meeting has been rescheduled to October 20 at ALBC. Book selection is West With Giraffes by Lynda Rutledge\, and the discussion leader is Robyn Steele. Several members have already shared that this is their favorite book of the year!\nOur bi-monthly meetings are held in January\, March\, and May. July\, September\, and November.\nMembers\, in November\, select books for the upcoming year.\nMembers who recommend a book then act as discussion leaders.\nSo our meetings are informal\, fun\, and have an underlying structure.\nWe read a wide range of books. We revisit classics. We read from the bestseller lists and from the Chautauqua Literary and Scientific Circle selections. We read the Chautauqua County “Big Read” selections\, We read historical fiction and biographies. We read what we like.\n\nWe are a welcoming group. We would love to have new members join us. Please contact Secretary Dinah Hovey\, for further information. Email diannehovey@gmail.com or call 716.782.4342
URL:https://mychq.org/event/ashville-library-book-club/2026-05-18/
LOCATION:Ashville Library\, 2200 N Maple Ave\, Ashville\, 14710\, United States
CATEGORIES:Library
ATTACH;FMTTYPE=image/jpeg:https://mychq.org/wp-content/uploads/2025/09/548184426_1240555558101474_2300676215262087517_n.jpg
ORGANIZER;CN="Ashville Library":MAILTO:director@ashvillelibrary.com
END:VEVENT
END:VCALENDAR