BEGIN:VCALENDAR
VERSION:2.0
PRODID:-//Chautauqua County Events, Local Businesses &amp; Resources | My CHQ - ECPv6.15.20//NONSGML v1.0//EN
CALSCALE:GREGORIAN
METHOD:PUBLISH
X-ORIGINAL-URL:https://mychq.org
X-WR-CALDESC:Events for Chautauqua County Events, Local Businesses &amp; Resources | My CHQ
REFRESH-INTERVAL;VALUE=DURATION:PT1H
X-Robots-Tag:noindex
X-PUBLISHED-TTL:PT1H
BEGIN:VTIMEZONE
TZID:America/New_York
BEGIN:DAYLIGHT
TZOFFSETFROM:-0500
TZOFFSETTO:-0400
TZNAME:EDT
DTSTART:20250309T070000
END:DAYLIGHT
BEGIN:STANDARD
TZOFFSETFROM:-0400
TZOFFSETTO:-0500
TZNAME:EST
DTSTART:20251102T060000
END:STANDARD
BEGIN:DAYLIGHT
TZOFFSETFROM:-0500
TZOFFSETTO:-0400
TZNAME:EDT
DTSTART:20260308T070000
END:DAYLIGHT
BEGIN:STANDARD
TZOFFSETFROM:-0400
TZOFFSETTO:-0500
TZNAME:EST
DTSTART:20261101T060000
END:STANDARD
BEGIN:DAYLIGHT
TZOFFSETFROM:-0500
TZOFFSETTO:-0400
TZNAME:EDT
DTSTART:20270314T070000
END:DAYLIGHT
BEGIN:STANDARD
TZOFFSETFROM:-0400
TZOFFSETTO:-0500
TZNAME:EST
DTSTART:20271107T060000
END:STANDARD
END:VTIMEZONE
BEGIN:VEVENT
DTSTART;TZID=America/New_York:20260502T103000
DTEND;TZID=America/New_York:20260502T150000
DTSTAMP:20260425T094249
CREATED:20260413T201236Z
LAST-MODIFIED:20260413T201236Z
UID:10028059-1777717800-1777734000@mychq.org
SUMMARY:International Women's MTB Day @ Loud Performance
DESCRIPTION: Celebrate Women on the Trails!  \nJoin us for International Women’s Mountain Biking Day—a day dedicated to celebrating the strength\, spirit\, and community of women in mountain biking. Whether it’s your first ride or your hundredth\, this is a space to feel welcomed\, supported\, and inspired. \nCome ride\, connect\, laugh\, and lift each other up with WNYMBA (Western New York Mountain Bike Association)! \n\n Loud Performance Bike Shop – Bemus Point\, NY Saturday\, May 2\, 2026 \n\n Event Schedule:• 10:30 AM – Meet\, mingle\, introductions & a group photo• 11:00 AM – Ride rolls out (all levels welcome!)• ~1:00 PM – Return to the shop for a relaxed social gathering \n\n What to Bring:• Water• A dish to share (optional but encouraged!) \n Wine will be provided Need a bike? Be sure to contact Loud Performance soon to reserve one. \nThis day is all about celebrating YOU—the riders\, the beginners\, the comeback stories\, the fearless ones\, and those just getting started. Bring a friend\, make new ones\, and be part of an incredible community of those who ride.
URL:https://mychq.org/event/international-womens-mtb-day-loud-performance/
LOCATION:Loud Performance\, 4818 NY-430\, Bemus Point\, 14712\, United States
CATEGORIES:Biking
ATTACH;FMTTYPE=image/jpeg:https://mychq.org/wp-content/uploads/2026/04/663330394_1374550844717049_5065975887673456458_n.jpg
END:VEVENT
BEGIN:VEVENT
DTSTART;TZID=America/New_York:20260523T100000
DTEND;TZID=America/New_York:20260523T133000
DTSTAMP:20260425T094249
CREATED:20260413T201332Z
LAST-MODIFIED:20260413T201332Z
UID:10028060-1779530400-1779543000@mychq.org
SUMMARY:Trail Day @ Harris Hill Extension
DESCRIPTION:Join WNYMBA for a day of trail work at Harris Hill Extension in Harris Hill State Forest. We will meet in the main parking area on Harris Hill Road. \nOur work will focus primarily on Funkytown. We plan to do some remediation and add berms to the turns. There will also be smaller groups assigned to do some projects on Bedlam. \nTools will be provided\, but you should bring:WaterBootsGlovesEye Protection \nLet’s give back to this incredible trail system. See you there! \nLunch will be served around 2:00.
URL:https://mychq.org/event/trail-day-harris-hill-extension/
LOCATION:Harris Hill Extention\, 4939 Harris Hill\, Gerry\, 14740\, United States
CATEGORIES:Biking
ATTACH;FMTTYPE=image/jpeg:https://mychq.org/wp-content/uploads/2026/04/670916583_1379759210862879_2376561259140027438_n.jpg
END:VEVENT
BEGIN:VEVENT
DTSTART;TZID=America/New_York:20260607T100000
DTEND;TZID=America/New_York:20260607T140000
DTSTAMP:20260425T094249
CREATED:20260413T201504Z
LAST-MODIFIED:20260413T201504Z
UID:10028061-1780826400-1780840800@mychq.org
SUMMARY:McCarty Hill State Forest Trail Work Day
DESCRIPTION:Join WNYMBA for a trail work day at McCarty Hill State Forest\, as we address Porcupine Trail and Yukon’s Lunch. The objective is to make both trails more sustainable and to create a short reroute on Porcupine to get trail users off the skid road that was created during the tree harvest. \nWhat to bring:Sturdy boots\, gloves\, and eye protection.Water and a SnackAny Personal Trail Tools (Tools will be provided)Leaf Blower\, if you have oneWeed Trimmer\, if you have oneA Positive Attitude! \nWe will park at the landing where Porcupine intersects with Mutton Hollow Road\, just south of East McCarty Hill Forest Road (see the image in the discussion). Work starts at 10:00\, and we will provide lunch\, most likely around 2:00. \nLet’s come together and make WNYMBA’s crown jewel trail system even better!
URL:https://mychq.org/event/mccarty-hill-state-forest-trail-work-day/
LOCATION:McCarty Hill State Forest\, 869 Mutton Hollow Rd\, Salamanca\, NY\, 14779\, United States
CATEGORIES:Biking
ATTACH;FMTTYPE=image/jpeg:https://mychq.org/wp-content/uploads/2026/04/658346829_1371073481731452_3494663924077335559_n.jpg
END:VEVENT
BEGIN:VEVENT
DTSTART;TZID=America/New_York:20260618T140000
DTEND;TZID=America/New_York:20260621T140000
DTSTAMP:20260425T094249
CREATED:20260309T155251Z
LAST-MODIFIED:20260309T155251Z
UID:10027037-1781791200-1782050400@mychq.org
SUMMARY:WNYMBA Rips the Rocks!
DESCRIPTION:Join WNYMBA for our annual WNYMBA Rips the Rocks event at The Trails at Jake’s Rocks! \nLike previous years\, we will be camping out at Dewdrop Campground\, so make sure you RSVP a site soon. Sites are already running low. There will be a WNYMBA common area for a group campfire at site 41\, so bring a chair and your own beverages. \nAs most of you know\, The Trails at Jake’s Rocks offer some of the best trails in the region. There’s something for everyone. We hope to see new riders and seasoned veterans. \nExpect groups rides and shenanigans all weekend. See you there! \nTo RSVP at Dewdrop: https://www.recreation.gov/camping/campgrounds/232036
URL:https://mychq.org/event/wnymba-rips-the-rocks-2/
LOCATION:Dewdrop Campground\, 2373 ASP\, US-1\, Salamanca\, NY\, 14779\, United States
CATEGORIES:Biking
ATTACH;FMTTYPE=image/jpeg:https://mychq.org/wp-content/uploads/2026/03/645261628_1346889184149882_2246339146264078218_n.jpg
END:VEVENT
BEGIN:VEVENT
DTSTART;TZID=America/New_York:20260814T170000
DTEND;TZID=America/New_York:20260814T235900
DTSTAMP:20260425T094249
CREATED:20260413T201559Z
LAST-MODIFIED:20260413T201559Z
UID:10028062-1786726800-1786751940@mychq.org
SUMMARY:CHQ Adventure Weekend
DESCRIPTION:Join us for a camping weekend and a mountain biking extravaganza at Loud Performance in Bemus Point\, NY! \nDee from Loud Performance has once again graciously offered to host us on his property for a weekend of camping\, riding\, and bonfires. \nOn Friday\, we will have a late evening group ride at Loud Performance and/or Long Point State Park. Ride will start around 6:00 pm. Bring your lights! \nOn Saturday\, we will have group rides at Whalen Memorial State Forest. Rides begin at 11:00\, and we will meet at the new parking area on Eggleston Hill Road. There will be a beginner ride (8ish miles)\, an intermediate ride (12-14 miles)\, and an advanced ride (18+ miles). The rides will be a mix of singletrack and the Westside Overland Trail. \nOn Sunday\, we will have group rides at Harris Hill State Forest. Rides begin at 11:00\, and we will meet at the main parking area on Harris Hill Road. The beginner ride will be 8-10 miles\, the intermediate ride will be 12-14 miles\, and the advanced ride will be 20+ miles. The rides will be a mix of singletrack and the Eastside Overland Trail. \nThere will be a working outdoor shower and port-a-johns for those who are camping at Loud over the weekend. We encourage you to bring your own food and beverages\, but you can also grab dinner at the Green Door Tavern or at Guppy’s Restaurant. \nWe can’t wait to see you for this mega adventure in the CHQ!
URL:https://mychq.org/event/chq-adventure-weekend/
LOCATION:Loud Performance\, 4818 NY-430\, Bemus Point\, 14712\, United States
CATEGORIES:Biking
ATTACH;FMTTYPE=image/jpeg:https://mychq.org/wp-content/uploads/2026/04/653055037_1357144266457707_427471996391946171_n.jpg
END:VEVENT
END:VCALENDAR