BEGIN:VCALENDAR
VERSION:2.0
PRODID:-//Chautauqua County Events, Local Businesses &amp; Resources | My CHQ - ECPv6.15.20//NONSGML v1.0//EN
CALSCALE:GREGORIAN
METHOD:PUBLISH
X-ORIGINAL-URL:https://mychq.org
X-WR-CALDESC:Events for Chautauqua County Events, Local Businesses &amp; Resources | My CHQ
REFRESH-INTERVAL;VALUE=DURATION:PT1H
X-Robots-Tag:noindex
X-PUBLISHED-TTL:PT1H
BEGIN:VTIMEZONE
TZID:America/New_York
BEGIN:DAYLIGHT
TZOFFSETFROM:-0500
TZOFFSETTO:-0400
TZNAME:EDT
DTSTART:20240310T070000
END:DAYLIGHT
BEGIN:STANDARD
TZOFFSETFROM:-0400
TZOFFSETTO:-0500
TZNAME:EST
DTSTART:20241103T060000
END:STANDARD
BEGIN:DAYLIGHT
TZOFFSETFROM:-0500
TZOFFSETTO:-0400
TZNAME:EDT
DTSTART:20250309T070000
END:DAYLIGHT
BEGIN:STANDARD
TZOFFSETFROM:-0400
TZOFFSETTO:-0500
TZNAME:EST
DTSTART:20251102T060000
END:STANDARD
BEGIN:DAYLIGHT
TZOFFSETFROM:-0500
TZOFFSETTO:-0400
TZNAME:EDT
DTSTART:20260308T070000
END:DAYLIGHT
BEGIN:STANDARD
TZOFFSETFROM:-0400
TZOFFSETTO:-0500
TZNAME:EST
DTSTART:20261101T060000
END:STANDARD
BEGIN:DAYLIGHT
TZOFFSETFROM:-0500
TZOFFSETTO:-0400
TZNAME:EDT
DTSTART:20270314T070000
END:DAYLIGHT
BEGIN:STANDARD
TZOFFSETFROM:-0400
TZOFFSETTO:-0500
TZNAME:EST
DTSTART:20271107T060000
END:STANDARD
END:VTIMEZONE
BEGIN:VEVENT
DTSTART;TZID=America/New_York:20260414T180000
DTEND;TZID=America/New_York:20260414T200000
DTSTAMP:20260424T091136
CREATED:20260302T162111Z
LAST-MODIFIED:20260302T162111Z
UID:10026836-1776189600-1776196800@mychq.org
SUMMARY:Flower Cake Class @ U-Take The Cake
DESCRIPTION:Come have fun while learning to decorate this months cake. I provide a cake and supply kit for you. You leave with your decorated cake and all the tools needed to recreate it at home again. $60 pre-order only
URL:https://mychq.org/event/flower-cake-class-u-take-the-cake/
LOCATION:U-Take The Cake\, 897 Busti Sugar Grove Rd\, Jamestown\, 14701\, United States
CATEGORIES:Food & Drink
ATTACH;FMTTYPE=image/jpeg:https://mychq.org/wp-content/uploads/2026/03/645761042_1416711776920560_3123131423496096486_n.jpg
ORGANIZER;CN="U-Take The Cake":MAILTO:utakethecakeny@hotmail.com
END:VEVENT
BEGIN:VEVENT
DTSTART;TZID=America/New_York:20260403T180000
DTEND;TZID=America/New_York:20260403T200000
DTSTAMP:20260424T091136
CREATED:20260302T162022Z
LAST-MODIFIED:20260302T162022Z
UID:10026835-1775239200-1775246400@mychq.org
SUMMARY:Easter Cake & Wine Night @ Courtyard Winery
DESCRIPTION:Come have fun while learning to decorate this month’s cake. I provide a cake and supply kit for you. You leave with your decorated cake and all the tools needed to recreate it at home again. $60. Pre-Order.
URL:https://mychq.org/event/easter-cake-wine-night-courtyard-winery/
LOCATION:Courtyard Winery\, 10021 W Main Rd\, North East\, PA\, 16428\, United States
CATEGORIES:Food & Drink
ATTACH;FMTTYPE=image/jpeg:https://mychq.org/wp-content/uploads/2026/03/645783081_1416756080249463_7599994002490902121_n.jpg
ORGANIZER;CN="U-Take The Cake":MAILTO:utakethecakeny@hotmail.com
END:VEVENT
BEGIN:VEVENT
DTSTART;TZID=America/New_York:20260331T180000
DTEND;TZID=America/New_York:20260331T200000
DTSTAMP:20260424T091136
CREATED:20260302T161822Z
LAST-MODIFIED:20260302T161822Z
UID:10026834-1774980000-1774987200@mychq.org
SUMMARY:Easter Cake Class @ U-Take The Cake
DESCRIPTION:Come have fun while learning to decorate this months cake. I provide a cake and supply kit for you. You leave with your decorated cake and all the tools needed to recreate it at home again. $60 pre order only.
URL:https://mychq.org/event/easter-cake-class-u-take-the-cake/
LOCATION:U-Take The Cake\, 897 Busti Sugar Grove Rd\, Jamestown\, 14701\, United States
CATEGORIES:Food & Drink
ATTACH;FMTTYPE=image/jpeg:https://mychq.org/wp-content/uploads/2026/03/645782966_1416708553587549_6425194606112519950_n.jpg
ORGANIZER;CN="U-Take The Cake":MAILTO:utakethecakeny@hotmail.com
END:VEVENT
BEGIN:VEVENT
DTSTART;TZID=America/New_York:20251218T180000
DTEND;TZID=America/New_York:20251218T200000
DTSTAMP:20260424T091136
CREATED:20251112T171739Z
LAST-MODIFIED:20251112T171739Z
UID:10022979-1766080800-1766088000@mychq.org
SUMMARY:Gingerbread House Decorating Party
DESCRIPTION:Grab your friends and let’s make more Christmas memories. \nI supply everything and you take home your completed house!
URL:https://mychq.org/event/gingerbread-house-decorating-party/
LOCATION:U-Take The Cake\, 897 Busti Sugar Grove Rd\, Jamestown\, 14701\, United States
CATEGORIES:Kids & Family
ATTACH;FMTTYPE=image/jpeg:https://mychq.org/wp-content/uploads/2025/11/578250682_1326418495949889_4658980817675611194_n.jpg
ORGANIZER;CN="U-Take The Cake":MAILTO:utakethecakeny@hotmail.com
END:VEVENT
BEGIN:VEVENT
DTSTART;TZID=America/New_York:20251214T100000
DTEND;TZID=America/New_York:20251214T160000
DTSTAMP:20260424T091136
CREATED:20251103T201946Z
LAST-MODIFIED:20251103T201946Z
UID:10022874-1765706400-1765728000@mychq.org
SUMMARY:Cupcakes and Gifts with Santa at U-Take The Cake
DESCRIPTION:Christmas Memories for the family. \nDecorate cupcakes with Santa and his elves\, take a photo and get a gift from Santa and his elves… \nEach Child will receive a personalized gift from Santa worth at least $10 each.. \n\nMom\, Dad\, Grandma and Grandpa bring your camera and get a photo with Santa. \n· Each child will get 3 cupcakes to decorate\, one to eat and two to take home. \n· Drinks will be served for the kids. \n· Coffee and hot mulled cider available for a small fee for the adults. \n· Seating for children\, standing room only for adults. \n· Limited seating available so jump in the sleigh quickly so you don’t miss out.
URL:https://mychq.org/event/cupcakes-and-gifts-with-santa-at-u-take-the-cake/
LOCATION:U-Take The Cake\, 897 Busti Sugar Grove Rd\, Jamestown\, 14701\, United States
CATEGORIES:Kids & Family
ATTACH;FMTTYPE=image/jpeg:https://mychq.org/wp-content/uploads/2025/11/570990234_1315140583744347_1229616011131329025_n.jpg
ORGANIZER;CN="U-Take The Cake":MAILTO:utakethecakeny@hotmail.com
END:VEVENT
BEGIN:VEVENT
DTSTART;TZID=America/New_York:20251213T130000
DTEND;TZID=America/New_York:20251213T150000
DTSTAMP:20260424T091136
CREATED:20251112T171844Z
LAST-MODIFIED:20251112T171844Z
UID:10022980-1765630800-1765638000@mychq.org
SUMMARY:Kids Gingerbread House Decorating Party
DESCRIPTION:Kids can decorate a gingerbread house and then take it home. 1 child per house/ ticket.
URL:https://mychq.org/event/kids-gingerbread-house-decorating-party/
LOCATION:U-Take The Cake\, 897 Busti Sugar Grove Rd\, Jamestown\, 14701\, United States
CATEGORIES:Kids & Family
ATTACH;FMTTYPE=image/jpeg:https://mychq.org/wp-content/uploads/2025/11/578256178_1326407619284310_4215931334784363019_n.jpg
ORGANIZER;CN="U-Take The Cake":MAILTO:utakethecakeny@hotmail.com
END:VEVENT
BEGIN:VEVENT
DTSTART;TZID=America/New_York:20251028T180000
DTEND;TZID=America/New_York:20251028T200000
DTSTAMP:20260424T091136
CREATED:20250915T153353Z
LAST-MODIFIED:20250915T153353Z
UID:10021565-1761674400-1761681600@mychq.org
SUMMARY:haunted House Cake Class @ U - Take The Cake
DESCRIPTION:Come have fun while learning to decorate this months design. \nI provide cupcakes and supply kit for you. You leave with your decorated treat and all the tools needed to recreate it at home again. Your registration Includes • INSTRUCTION • YOUR CHOICE OF YELLOW\, CHOCOLATE OR YELLOW GUTEN FREE CAKES/CUPCAKES • SUPPLY KIT – FROSTING\, BAGS\, TIPS\, AND OTHER TOOLS TO MAKE THIS MONTHS CAKE • RECIPE BOOKLET \nNO NEED TO WORRY ABOUT MAKING CAKES OR FROSTING AND TOTING THEM TO CLASS. \nNOTHING TO BUY BUT YOUR TICKET! \nSeating is limited and restricted to participants with paid registrations only . \nRegistrations are Non-Refundable and Non-transferrable for all classes.
URL:https://mychq.org/event/haunted-house-cake-class-u-take-the-cake/
LOCATION:U-Take The Cake\, 897 Busti Sugar Grove Rd\, Jamestown\, 14701\, United States
CATEGORIES:Training & Education
ATTACH;FMTTYPE=image/jpeg:https://mychq.org/wp-content/uploads/2025/09/547610005_1279697290622010_1252623885844118989_n.jpg
ORGANIZER;CN="U-Take The Cake":MAILTO:utakethecakeny@hotmail.com
END:VEVENT
BEGIN:VEVENT
DTSTART;TZID=America/New_York:20250930T180000
DTEND;TZID=America/New_York:20250930T200000
DTSTAMP:20260424T091136
CREATED:20250915T153242Z
LAST-MODIFIED:20250915T153242Z
UID:10021564-1759255200-1759262400@mychq.org
SUMMARY:Apple Harvest Cake Class @ U - Take The Cake
DESCRIPTION:Come have fun while learning to decorate this months design. \nI provide a 6″ cake and supply kit for you. You leave with your decorated treat and all the tools needed to recreate it at home again. Your registration Includes • INSTRUCTION • YOUR CHOICE OF YELLOW\, CHOCOLATE OR YELLOW GUTEN FREE CAKES/CUPCAKES • SUPPLY KIT – FROSTING\, BAGS\, TIPS\, AND OTHER TOOLS TO MAKE THIS MONTHS CAKE • RECIPE BOOKLET \nNO NEED TO WORRY ABOUT MAKING CAKES OR FROSTING AND TOTING THEM TO CLASS. \nNOTHING TO BUY BUT YOUR TICKET! \nSeating is limited and restricted to participants with paid registrations only . \nRegistrations are Non-Refundable and Non-transferrable for all classes.
URL:https://mychq.org/event/apple-harvest-cake-class-u-take-the-cake/
LOCATION:U-Take The Cake\, 897 Busti Sugar Grove Rd\, Jamestown\, 14701\, United States
CATEGORIES:Training & Education
ATTACH;FMTTYPE=image/jpeg:https://mychq.org/wp-content/uploads/2025/09/548829094_1279699907288415_2630461725689935451_n.jpg
ORGANIZER;CN="U-Take The Cake":MAILTO:utakethecakeny@hotmail.com
END:VEVENT
BEGIN:VEVENT
DTSTART;TZID=America/New_York:20250817T120000
DTEND;TZID=America/New_York:20250817T160000
DTSTAMP:20260424T091136
CREATED:20250527T151641Z
LAST-MODIFIED:20250527T151642Z
UID:10017659-1755432000-1755446400@mychq.org
SUMMARY:3rd Anniversary for a Cause
DESCRIPTION:Join us while we celebrate our children and raise money for Oshei Children’s Hospital and Josh Allen’s 17 Fund!
URL:https://mychq.org/event/3rd-anniversary-for-a-cause/
LOCATION:U-Take The Cake\, 897 Busti Sugar Grove Rd\, Jamestown\, 14701\, United States
CATEGORIES:Festivals & Fairs
ATTACH;FMTTYPE=image/jpeg:https://mychq.org/wp-content/uploads/2025/05/500089443_1195099819081758_5470527712777293430_n.jpg
ORGANIZER;CN="U-Take The Cake":MAILTO:utakethecakeny@hotmail.com
END:VEVENT
END:VCALENDAR