BEGIN:VCALENDAR
VERSION:2.0
PRODID:-//Chautauqua County Events, Local Businesses &amp; Resources | My CHQ - ECPv6.15.20//NONSGML v1.0//EN
CALSCALE:GREGORIAN
METHOD:PUBLISH
X-WR-CALNAME:Chautauqua County Events, Local Businesses &amp; Resources | My CHQ
X-ORIGINAL-URL:https://mychq.org
X-WR-CALDESC:Events for Chautauqua County Events, Local Businesses &amp; Resources | My CHQ
REFRESH-INTERVAL;VALUE=DURATION:PT1H
X-Robots-Tag:noindex
X-PUBLISHED-TTL:PT1H
BEGIN:VTIMEZONE
TZID:America/New_York
BEGIN:DAYLIGHT
TZOFFSETFROM:-0500
TZOFFSETTO:-0400
TZNAME:EDT
DTSTART:20250309T070000
END:DAYLIGHT
BEGIN:STANDARD
TZOFFSETFROM:-0400
TZOFFSETTO:-0500
TZNAME:EST
DTSTART:20251102T060000
END:STANDARD
BEGIN:DAYLIGHT
TZOFFSETFROM:-0500
TZOFFSETTO:-0400
TZNAME:EDT
DTSTART:20260308T070000
END:DAYLIGHT
BEGIN:STANDARD
TZOFFSETFROM:-0400
TZOFFSETTO:-0500
TZNAME:EST
DTSTART:20261101T060000
END:STANDARD
BEGIN:DAYLIGHT
TZOFFSETFROM:-0500
TZOFFSETTO:-0400
TZNAME:EDT
DTSTART:20270314T070000
END:DAYLIGHT
BEGIN:STANDARD
TZOFFSETFROM:-0400
TZOFFSETTO:-0500
TZNAME:EST
DTSTART:20271107T060000
END:STANDARD
END:VTIMEZONE
BEGIN:VEVENT
DTSTART;TZID=America/New_York:20260501T170000
DTEND;TZID=America/New_York:20260501T200000
DTSTAMP:20260424T090300
CREATED:20260413T192730Z
LAST-MODIFIED:20260413T192730Z
UID:10028051-1777654800-1777665600@mychq.org
SUMMARY:Pouring for a Purpose – Fri-YAY Fundraiser
DESCRIPTION: Pouring for a Purpose – Fri-YAY Fundraiser!  \nJoin us for a fun and meaningful night out as we raise money for the Temple Sunshine Closet\, supporting local families in need  \nCome enjoy great drinks\, great company\, and a great cause — because every sip truly makes a difference! \n What to Expect: 10% of all purchases will be donated to Temple Sunshine Closet 50/50 raffle drawing Raffle baskets (and we’re still accepting donations!)Food Drive will occur during the event \n The Temple Sunshine Closet provides essential items to families in our community\, and your support helps us continue making an impact where it matters most. \nGrab your friends\, come thirsty\, and let’s make this a Fri-YAY to remember! \n Pouring for a Purpose — Every Sip Supports Temple Sunshine Closet 
URL:https://mychq.org/event/pouring-for-a-purpose-fri-yay-fundraiser/
LOCATION:Southern Tier Distilling Co. – The Empty Bottle\, 2051A Stoneman Cir\, Lakewood\, 14750\, United States
CATEGORIES:Fundraising
ATTACH;FMTTYPE=image/jpeg:https://mychq.org/wp-content/uploads/2026/04/Temple-Sunshine-Closet.jpg
END:VEVENT
END:VCALENDAR