BEGIN:VCALENDAR
VERSION:2.0
PRODID:-//My CHQ - ECPv6.15.20//NONSGML v1.0//EN
CALSCALE:GREGORIAN
METHOD:PUBLISH
X-WR-CALNAME:My CHQ
X-ORIGINAL-URL:https://mychq.org
X-WR-CALDESC:Events for My CHQ
REFRESH-INTERVAL;VALUE=DURATION:PT1H
X-Robots-Tag:noindex
X-PUBLISHED-TTL:PT1H
BEGIN:VTIMEZONE
TZID:America/New_York
BEGIN:DAYLIGHT
TZOFFSETFROM:-0500
TZOFFSETTO:-0400
TZNAME:EDT
DTSTART:20250309T070000
END:DAYLIGHT
BEGIN:STANDARD
TZOFFSETFROM:-0400
TZOFFSETTO:-0500
TZNAME:EST
DTSTART:20251102T060000
END:STANDARD
BEGIN:DAYLIGHT
TZOFFSETFROM:-0500
TZOFFSETTO:-0400
TZNAME:EDT
DTSTART:20260308T070000
END:DAYLIGHT
BEGIN:STANDARD
TZOFFSETFROM:-0400
TZOFFSETTO:-0500
TZNAME:EST
DTSTART:20261101T060000
END:STANDARD
BEGIN:DAYLIGHT
TZOFFSETFROM:-0500
TZOFFSETTO:-0400
TZNAME:EDT
DTSTART:20270314T070000
END:DAYLIGHT
BEGIN:STANDARD
TZOFFSETFROM:-0400
TZOFFSETTO:-0500
TZNAME:EST
DTSTART:20271107T060000
END:STANDARD
END:VTIMEZONE
BEGIN:VEVENT
DTSTART;TZID=America/New_York:20260422T110000
DTEND;TZID=America/New_York:20260422T140000
DTSTAMP:20260421T212831
CREATED:20260420T200127Z
LAST-MODIFIED:20260420T200127Z
UID:10028280-1776855600-1776866400@mychq.org
SUMMARY:2026 Earth Day Expo & Farmer's Market
DESCRIPTION:This Wednesday\, April 22\, We’ll be at Fredonia celebrating Earth Daywith other Earth-friendly organizations and people. Come on out to learn more about all of the incredible work happening in our region and how you can be a part of it.
URL:https://mychq.org/event/2026-earth-day-expo-farmers-market/
LOCATION:SUNY Fredonia | Williams Center\, 280 Central Ave.\, Fredonia\, NY\, 14063\, United States
CATEGORIES:Markets & Yard Sales
ATTACH;FMTTYPE=image/jpeg:https://mychq.org/wp-content/uploads/2026/04/672672817_1504163365073080_5468462017620807842_n.jpg
END:VEVENT
BEGIN:VEVENT
DTSTART;TZID=America/New_York:20260424T193000
DTEND;TZID=America/New_York:20260424T213000
DTSTAMP:20260421T212831
CREATED:20260309T162728Z
LAST-MODIFIED:20260309T162728Z
UID:10027053-1777059000-1777066200@mychq.org
SUMMARY:Blithe Spirit @ Rockefeller Arts Center
DESCRIPTION:NOËL COWARD’S BLITHE SPIRIT A Walter Gloor Mainstage Series event\, six performances April 24 – May 3\, 2026\, at Marvel Theatre. Blithe Spirit is a comic play by Noël Coward\, described by the author as “an improbable farce in three acts.” The play concerns the socialite and novelist Charles Condomine\, who invites the eccentric medium and clairvoyant Madame Arcati to his house to conduct a séance\, hoping to gather material for his next book.
URL:https://mychq.org/event/blithe-spirit-rockefeller-arts-center/2026-04-24/
LOCATION:Rockefeller Arts Center\, 480 Varsity Rd\, Fredonia\, 14063\, United States
CATEGORIES:Performing Arts
ATTACH;FMTTYPE=image/jpeg:https://mychq.org/wp-content/uploads/2026/03/Blithe-Spirit.jpg
END:VEVENT
BEGIN:VEVENT
DTSTART;TZID=America/New_York:20260505T193000
DTEND;TZID=America/New_York:20260505T213000
DTSTAMP:20260421T212831
CREATED:20260309T162913Z
LAST-MODIFIED:20260309T162913Z
UID:10027058-1778009400-1778016600@mychq.org
SUMMARY:One Act Play Festival
DESCRIPTION:ONE-ACT PLAY FESTIVAL Four performances May 5 – 8\, 2026\, at Bartlett Theatre. The One Act Play Festival will feature brand new short plays created by Fredonia’s own students. The festival will be under the guidance of Assistant Professor Daniel F. Lendzian. The students will be creating these one-act works in Fredonia’s playwriting class\, so each one will be a world premiere.
URL:https://mychq.org/event/one-act-play-festival/2026-05-05/
LOCATION:Rockefeller Arts Center\, 480 Varsity Rd\, Fredonia\, 14063\, United States
CATEGORIES:Performing Arts
ATTACH;FMTTYPE=image/jpeg:https://mychq.org/wp-content/uploads/2026/03/One-Act-Play-Festival.jpg
END:VEVENT
END:VCALENDAR