BEGIN:VCALENDAR
VERSION:2.0
PRODID:-//Chautauqua County Events, Local Businesses &amp; Resources | My CHQ - ECPv6.15.20//NONSGML v1.0//EN
CALSCALE:GREGORIAN
METHOD:PUBLISH
X-WR-CALNAME:Chautauqua County Events, Local Businesses &amp; Resources | My CHQ
X-ORIGINAL-URL:https://mychq.org
X-WR-CALDESC:Events for Chautauqua County Events, Local Businesses &amp; Resources | My CHQ
REFRESH-INTERVAL;VALUE=DURATION:PT1H
X-Robots-Tag:noindex
X-PUBLISHED-TTL:PT1H
BEGIN:VTIMEZONE
TZID:America/New_York
BEGIN:DAYLIGHT
TZOFFSETFROM:-0500
TZOFFSETTO:-0400
TZNAME:EDT
DTSTART:20240310T070000
END:DAYLIGHT
BEGIN:STANDARD
TZOFFSETFROM:-0400
TZOFFSETTO:-0500
TZNAME:EST
DTSTART:20241103T060000
END:STANDARD
BEGIN:DAYLIGHT
TZOFFSETFROM:-0500
TZOFFSETTO:-0400
TZNAME:EDT
DTSTART:20250309T070000
END:DAYLIGHT
BEGIN:STANDARD
TZOFFSETFROM:-0400
TZOFFSETTO:-0500
TZNAME:EST
DTSTART:20251102T060000
END:STANDARD
BEGIN:DAYLIGHT
TZOFFSETFROM:-0500
TZOFFSETTO:-0400
TZNAME:EDT
DTSTART:20260308T070000
END:DAYLIGHT
BEGIN:STANDARD
TZOFFSETFROM:-0400
TZOFFSETTO:-0500
TZNAME:EST
DTSTART:20261101T060000
END:STANDARD
END:VTIMEZONE
BEGIN:VEVENT
DTSTART;TZID=America/New_York:20251107T200000
DTEND;TZID=America/New_York:20251107T220000
DTSTAMP:20260424T091014
CREATED:20250524T000345Z
LAST-MODIFIED:20250524T000345Z
UID:10017484-1762545600-1762552800@mychq.org
SUMMARY:Dan Tyminski Band
DESCRIPTION:Sponsored by Kwik Fill Red Apple and Country Fair. In recent years\, Tyminski’s live shows with the Dan Tyminski Band have become bluegrass fan favorites and are regularly on the must-see lists among music fans of any genre. With his newest album release – the Grammy-nominated 2024 concert album Dan Tyminski: Live From The Ryman – he captures the magic of those live shows\, while also proving that he still has the same passion for live music as he did when he was growing up.
URL:https://mychq.org/event/dan-tyminski-band/
LOCATION:Struthers Library Theatre\, 302 W 3rd Ave\, Warren\, PA\, 16365\, United States
CATEGORIES:Music & Entertainment
ATTACH;FMTTYPE=image/jpeg:https://mychq.org/wp-content/uploads/2025/05/494491151_1265925272200314_4631290763169359681_n.jpg
ORGANIZER;CN="Struthers Library Theatre":MAILTO:baylie@strutherslibrarytheatre.org
END:VEVENT
BEGIN:VEVENT
DTSTART;TZID=America/New_York:20250912T200000
DTEND;TZID=America/New_York:20250912T220000
DTSTAMP:20260424T091014
CREATED:20250524T000250Z
LAST-MODIFIED:20250524T000250Z
UID:10017483-1757707200-1757714400@mychq.org
SUMMARY:The Wallflowers
DESCRIPTION:Rock ‘n’ roll is often hard to define\, or even to find\, in these fractured musical times. But to paraphrase an old saying\, you know it when you hear it. And you always hear it with the Wallflowers. For the past 30 years\, the Jakob Dylan-led act has stood as one of rock’s most dynamic and purposeful bands – a unit dedicated to and continually honing a sound that meshes timeless songwriting and storytelling with a hard-hitting and decidedly modern musical attack. Sponsored by Whirley Drinkworks!
URL:https://mychq.org/event/the-wallflowers/
LOCATION:Struthers Library Theatre\, 302 W 3rd Ave\, Warren\, PA\, 16365\, United States
CATEGORIES:Music & Entertainment
ATTACH;FMTTYPE=image/jpeg:https://mychq.org/wp-content/uploads/2025/05/496924438_1259779266148248_7544360197338265059_n.jpg
ORGANIZER;CN="Struthers Library Theatre":MAILTO:baylie@strutherslibrarytheatre.org
END:VEVENT
END:VCALENDAR