BEGIN:VCALENDAR
VERSION:2.0
PRODID:-//Chautauqua County Events, Local Businesses &amp; Resources | My CHQ - ECPv6.15.20//NONSGML v1.0//EN
CALSCALE:GREGORIAN
METHOD:PUBLISH
X-WR-CALNAME:Chautauqua County Events, Local Businesses &amp; Resources | My CHQ
X-ORIGINAL-URL:https://mychq.org
X-WR-CALDESC:Events for Chautauqua County Events, Local Businesses &amp; Resources | My CHQ
REFRESH-INTERVAL;VALUE=DURATION:PT1H
X-Robots-Tag:noindex
X-PUBLISHED-TTL:PT1H
BEGIN:VTIMEZONE
TZID:America/New_York
BEGIN:DAYLIGHT
TZOFFSETFROM:-0500
TZOFFSETTO:-0400
TZNAME:EDT
DTSTART:20250309T070000
END:DAYLIGHT
BEGIN:STANDARD
TZOFFSETFROM:-0400
TZOFFSETTO:-0500
TZNAME:EST
DTSTART:20251102T060000
END:STANDARD
BEGIN:DAYLIGHT
TZOFFSETFROM:-0500
TZOFFSETTO:-0400
TZNAME:EDT
DTSTART:20260308T070000
END:DAYLIGHT
BEGIN:STANDARD
TZOFFSETFROM:-0400
TZOFFSETTO:-0500
TZNAME:EST
DTSTART:20261101T060000
END:STANDARD
BEGIN:DAYLIGHT
TZOFFSETFROM:-0500
TZOFFSETTO:-0400
TZNAME:EDT
DTSTART:20270314T070000
END:DAYLIGHT
BEGIN:STANDARD
TZOFFSETFROM:-0400
TZOFFSETTO:-0500
TZNAME:EST
DTSTART:20271107T060000
END:STANDARD
END:VTIMEZONE
BEGIN:VEVENT
DTSTART;TZID=America/New_York:20260429T103000
DTEND;TZID=America/New_York:20260429T110000
DTSTAMP:20260424T105308
CREATED:20260107T180826Z
LAST-MODIFIED:20260107T180826Z
UID:10023996-1777458600-1777460400@mychq.org
SUMMARY:Baby Talk @ Sinclairville Free Library
DESCRIPTION:Miss Jessica’s baby story time program\, “BABY TALK”!!! \nBabies enjoy some time playing with their peers in our Children’s Room. Babies will gain the building blocks to early literacy through talking\, singing\, reading and playing. \nFor ages birth to 2 years old. \nSongs\, Bounces\, Stories\, Read-Alongs and Play!!! \nRegistration is Currently CLOSED \nRegister to be added to our waiting listCall 716.962.5885 or visit https://sinclairvillelibrary.org/event-or-program…/
URL:https://mychq.org/event/baby-talk-sinclairville-free-library/2026-04-29/
LOCATION:Sinclairville Free Library\, 15 Main St\, Sinclairville\, 14782\, United States
CATEGORIES:Library
ATTACH;FMTTYPE=image/jpeg:https://mychq.org/wp-content/uploads/2026/01/611248436_1295306212639794_6076028806050716117_n.jpg
ORGANIZER;CN="Sinclairville Free Library":MAILTO:info@sinclairvillelibrary.org
END:VEVENT
BEGIN:VEVENT
DTSTART;TZID=America/New_York:20260429T130000
DTEND;TZID=America/New_York:20260429T140000
DTSTAMP:20260424T105308
CREATED:20260107T180954Z
LAST-MODIFIED:20260107T180954Z
UID:10024048-1777467600-1777471200@mychq.org
SUMMARY:Story Hour @ Sinclairville Free Library
DESCRIPTION:Come and spend some time with Miss Jessica and all her little library friends. You never know when it will be a Play-Doh Day!!! \nChildren will gain the building blocks to early literacy through talking\, singing\, reading\, writing\, and playing. \nFor ages 2 years old (toddler) to preschool.Participate in stories\, songs & learning. Craft or activity for extended learning. \nEach month will feature a new letter to help our littles learn their letters \nRegistration is Required. \nhttps://sinclairvillelibrary.org/event-or-program…/
URL:https://mychq.org/event/story-hour-sinclairville-free-library/2026-04-29/
LOCATION:Sinclairville Free Library\, 15 Main St\, Sinclairville\, 14782\, United States
CATEGORIES:Library
ATTACH;FMTTYPE=image/jpeg:https://mychq.org/wp-content/uploads/2025/08/518402236_1175637027940047_5604358785897967825_n.jpg
ORGANIZER;CN="Sinclairville Free Library":MAILTO:info@sinclairvillelibrary.org
END:VEVENT
END:VCALENDAR