BEGIN:VCALENDAR
VERSION:2.0
PRODID:-//My CHQ - ECPv6.15.20//NONSGML v1.0//EN
CALSCALE:GREGORIAN
METHOD:PUBLISH
X-ORIGINAL-URL:https://mychq.org
X-WR-CALDESC:Events for My CHQ
REFRESH-INTERVAL;VALUE=DURATION:PT1H
X-Robots-Tag:noindex
X-PUBLISHED-TTL:PT1H
BEGIN:VTIMEZONE
TZID:America/New_York
BEGIN:DAYLIGHT
TZOFFSETFROM:-0500
TZOFFSETTO:-0400
TZNAME:EDT
DTSTART:20250309T070000
END:DAYLIGHT
BEGIN:STANDARD
TZOFFSETFROM:-0400
TZOFFSETTO:-0500
TZNAME:EST
DTSTART:20251102T060000
END:STANDARD
BEGIN:DAYLIGHT
TZOFFSETFROM:-0500
TZOFFSETTO:-0400
TZNAME:EDT
DTSTART:20260308T070000
END:DAYLIGHT
BEGIN:STANDARD
TZOFFSETFROM:-0400
TZOFFSETTO:-0500
TZNAME:EST
DTSTART:20261101T060000
END:STANDARD
BEGIN:DAYLIGHT
TZOFFSETFROM:-0500
TZOFFSETTO:-0400
TZNAME:EDT
DTSTART:20270314T070000
END:DAYLIGHT
BEGIN:STANDARD
TZOFFSETFROM:-0400
TZOFFSETTO:-0500
TZNAME:EST
DTSTART:20271107T060000
END:STANDARD
END:VTIMEZONE
BEGIN:VEVENT
DTSTART;TZID=America/New_York:20260824T090000
DTEND;TZID=America/New_York:20260824T190000
DTSTAMP:20260422T194336
CREATED:20260129T145743Z
LAST-MODIFIED:20260129T145743Z
UID:10024550-1787562000-1787598000@mychq.org
SUMMARY:Candice Grimes: Artist in Residence
DESCRIPTION:Artist Bio & Project Statement | Candice Grimes (Aug 24th – Aug 29th)\nCandice has a vast skill set which centers around thoughtful production design to\ncreate conceptual portraiture. Her work is heavily influenced by sci-fi and horror\nthemes which explore identity\, mysticism\, passage of time\, and personal\ntransformation. \nShe has earned a B.F.A. in Advertising Photography from Rochester Institute of\nTechnology as well as an A.A.S in Visual Communications from Monroe Community\nCollege. She currently works freelance as a photographer\, producer\, and art director in\nRochester\, NY. \nThrough my on-going personal project\, “Tarocchi\,” I have explored connecting to Spirit\nand the Divine through my work. Tarot is the art of interpreting ancient symbolism and\narchetypes to understand more about one’s self and their relation to the universe. With\nthis project\, I have used tarot imagery as a framework to express personal growth. I\nuse the technique of light painting with a long exposure\, where I am the light\, and\nphysically paint in areas to reveal their secrets from behind the shadows. This gives the\nimages an ethereal aesthetic which lends to the other-worldly subject matter.
URL:https://mychq.org/event/candice-grimes-artist-in-residence/
LOCATION:Sacred Grounds Coffee House\, 6 Cleveland Ave.\, Lily Dale\, NY\, 14752\, United States
CATEGORIES:Arts & Antiques
ATTACH;FMTTYPE=image/jpeg:https://mychq.org/wp-content/uploads/2026/01/621652351_1607333196889641_3863551302267675598_n.jpg
ORGANIZER;CN="Sacred Grounds Coffee House":MAILTO:sacredgroundsld@gmail.com
END:VEVENT
BEGIN:VEVENT
DTSTART;TZID=America/New_York:20260903T120000
DTEND;TZID=America/New_York:20260903T190000
DTSTAMP:20260422T194336
CREATED:20260206T184409Z
LAST-MODIFIED:20260206T184409Z
UID:10024750-1788436800-1788462000@mychq.org
SUMMARY:Gaia Woolf Nightingall Artist in Residence
DESCRIPTION:Blessings to you! (Sept 3rd – Sept 7th)I am a British born organic horticulturist\, arboriculturist\,permaculture designer\, creative writer and visual artist.Through my work I strive to inspire within the observer aricher\, more intimate connection with the natural world.My powerful elemental mandala paintings\, landscapedesigns and stories give us pause to observe\, experienceand acknowledge the fragility of the wild places.I find joy\, inspiration and reverence in the complexities ofearths sacred natural rhythms.The elemental forces of Air\, Fire\, Water and Earth\, that swirl and flow within the greatcauldron of creation\, manifest the perfect vessels for spirit to comprehend andexperience itself. This is the foundational motivation for my work.I celebrate the ecstatic manifestation of these sacred elements through bold and uniquehand painted mandalas. Each is delicately woven with a variety of ancient insularknotwork patterns\, integrating spiritual and artistic traditional practices with diversethreads. These threads transverse the centuries back to ancient Europe and a time whenart was the expression of devotion to the Divine.Further I am also a priestess and teacher within the Reclaiming Feri tradition\, an Earthbased spiritual path\, which teaches that Divinity is immanent and expressed within ourinner landscape\, and throughout the sacred universe. This along with my many creativeendeavours has helped guide me towards a more authentic experience of self and senseof balance with nature. And I am hopeful that my paintings may inspire you to seek adeeper connection with your Divine self and the sanctity of nature.Contact me at:gaiawoolfnightingall@gmail.comhttps://earthelementalart.comhttps//www.facebook.com/GaiaWoolfNightingallhttps//www.instagram.com/Gaiawoolfart
URL:https://mychq.org/event/gaia-woolf-nightingall-artist-in-residence/
LOCATION:Sacred Grounds Coffee House\, 6 Cleveland Ave.\, Lily Dale\, NY\, 14752\, United States
CATEGORIES:Arts & Antiques
ATTACH;FMTTYPE=image/jpeg:https://mychq.org/wp-content/uploads/2026/02/625265740_1613003249655969_7562904888110111723_n.jpg
ORGANIZER;CN="Sacred Grounds Coffee House":MAILTO:sacredgroundsld@gmail.com
END:VEVENT
END:VCALENDAR