BEGIN:VCALENDAR
VERSION:2.0
PRODID:-//Chautauqua County Events, Local Businesses &amp; Resources | My CHQ - ECPv6.15.20//NONSGML v1.0//EN
CALSCALE:GREGORIAN
METHOD:PUBLISH
X-ORIGINAL-URL:https://mychq.org
X-WR-CALDESC:Events for Chautauqua County Events, Local Businesses &amp; Resources | My CHQ
REFRESH-INTERVAL;VALUE=DURATION:PT1H
X-Robots-Tag:noindex
X-PUBLISHED-TTL:PT1H
BEGIN:VTIMEZONE
TZID:America/New_York
BEGIN:DAYLIGHT
TZOFFSETFROM:-0500
TZOFFSETTO:-0400
TZNAME:EDT
DTSTART:20250309T070000
END:DAYLIGHT
BEGIN:STANDARD
TZOFFSETFROM:-0400
TZOFFSETTO:-0500
TZNAME:EST
DTSTART:20251102T060000
END:STANDARD
BEGIN:DAYLIGHT
TZOFFSETFROM:-0500
TZOFFSETTO:-0400
TZNAME:EDT
DTSTART:20260308T070000
END:DAYLIGHT
BEGIN:STANDARD
TZOFFSETFROM:-0400
TZOFFSETTO:-0500
TZNAME:EST
DTSTART:20261101T060000
END:STANDARD
BEGIN:DAYLIGHT
TZOFFSETFROM:-0500
TZOFFSETTO:-0400
TZNAME:EDT
DTSTART:20270314T070000
END:DAYLIGHT
BEGIN:STANDARD
TZOFFSETFROM:-0400
TZOFFSETTO:-0500
TZNAME:EST
DTSTART:20271107T060000
END:STANDARD
END:VTIMEZONE
BEGIN:VEVENT
DTSTART;TZID=America/New_York:20260417T170000
DTEND;TZID=America/New_York:20260417T190000
DTSTAMP:20260425T175854
CREATED:20251211T191639Z
LAST-MODIFIED:20251211T191639Z
UID:10023499-1776445200-1776452400@mychq.org
SUMMARY:Free Food Friday @ REALIFE Church
DESCRIPTION:Hey everyone\, we will be hosting Free Food Friday on the third Friday of each month at REALiFE Church from 5 – 7 pm.*WAYS TO HELP*SHARE this event!DONATE: All donations can be dropped off at Busti Church of God 10am-3pm\, Monday through Friday!If you are willing to help\, please either comment or DM this page Thank you in advance for all the help and support\, it is greatly appreciated
URL:https://mychq.org/event/free-food-friday-realife-church/2026-04-17/
LOCATION:REALiFE Jamestown\, 556 E 2nd St\, Jamestown\, 14701\, United States
CATEGORIES:Food & Drink
ATTACH;FMTTYPE=image/jpeg:https://mychq.org/wp-content/uploads/2025/12/597622562_122110131327118191_1723104967320811824_n.jpg
ORGANIZER;CN="REALiFE Jamestown":MAILTO:realifejtown@gmail.com
END:VEVENT
BEGIN:VEVENT
DTSTART;TZID=America/New_York:20260328T170000
DTEND;TZID=America/New_York:20260328T190000
DTSTAMP:20260425T175854
CREATED:20260302T171400Z
LAST-MODIFIED:20260302T171400Z
UID:10026854-1774717200-1774724400@mychq.org
SUMMARY:Jamestown Area Youth Soccer Sign Ups
DESCRIPTION:10am-2pm & 5pm – 7pm Realife church
URL:https://mychq.org/event/jamestown-area-youth-soccer-sign-ups/2026-03-28/2/
LOCATION:REALiFE Jamestown\, 556 E 2nd St\, Jamestown\, 14701\, United States
CATEGORIES:Sports
ATTACH;FMTTYPE=image/jpeg:https://mychq.org/wp-content/uploads/2026/03/645103054_1326711359503459_2308189204112357820_n.jpg
ORGANIZER;CN="REALiFE Jamestown":MAILTO:realifejtown@gmail.com
END:VEVENT
END:VCALENDAR