BEGIN:VCALENDAR
VERSION:2.0
PRODID:-//Chautauqua County Events, Local Businesses &amp; Resources | My CHQ - ECPv6.15.20//NONSGML v1.0//EN
CALSCALE:GREGORIAN
METHOD:PUBLISH
X-WR-CALNAME:Chautauqua County Events, Local Businesses &amp; Resources | My CHQ
X-ORIGINAL-URL:https://mychq.org
X-WR-CALDESC:Events for Chautauqua County Events, Local Businesses &amp; Resources | My CHQ
REFRESH-INTERVAL;VALUE=DURATION:PT1H
X-Robots-Tag:noindex
X-PUBLISHED-TTL:PT1H
BEGIN:VTIMEZONE
TZID:America/New_York
BEGIN:DAYLIGHT
TZOFFSETFROM:-0500
TZOFFSETTO:-0400
TZNAME:EDT
DTSTART:20240310T070000
END:DAYLIGHT
BEGIN:STANDARD
TZOFFSETFROM:-0400
TZOFFSETTO:-0500
TZNAME:EST
DTSTART:20241103T060000
END:STANDARD
BEGIN:DAYLIGHT
TZOFFSETFROM:-0500
TZOFFSETTO:-0400
TZNAME:EDT
DTSTART:20250309T070000
END:DAYLIGHT
BEGIN:STANDARD
TZOFFSETFROM:-0400
TZOFFSETTO:-0500
TZNAME:EST
DTSTART:20251102T060000
END:STANDARD
BEGIN:DAYLIGHT
TZOFFSETFROM:-0500
TZOFFSETTO:-0400
TZNAME:EDT
DTSTART:20260308T070000
END:DAYLIGHT
BEGIN:STANDARD
TZOFFSETFROM:-0400
TZOFFSETTO:-0500
TZNAME:EST
DTSTART:20261101T060000
END:STANDARD
BEGIN:DAYLIGHT
TZOFFSETFROM:-0500
TZOFFSETTO:-0400
TZNAME:EDT
DTSTART:20270314T070000
END:DAYLIGHT
BEGIN:STANDARD
TZOFFSETFROM:-0400
TZOFFSETTO:-0500
TZNAME:EST
DTSTART:20271107T060000
END:STANDARD
END:VTIMEZONE
BEGIN:VEVENT
DTSTART;TZID=America/New_York:20260110T190000
DTEND;TZID=America/New_York:20260110T220000
DTSTAMP:20260424T032904
CREATED:20251208T162200Z
LAST-MODIFIED:20251208T162200Z
UID:10023454-1768071600-1768082400@mychq.org
SUMMARY:20th Anniversary Party @ Pine Junction
DESCRIPTION:Come celebrate 20 years of Pine Junction with us! The Duke Sherman Band will be playing from 7-10pm in our Main Room like the Good ole’ Days! Wear your favorite PJ Merch to be entered to win a prize!
URL:https://mychq.org/event/20th-anniversary-party-pine-junction/
LOCATION:Pine Junction\, 9757 Bailey Hill Rd\, Sherman\, 14781\, United States
CATEGORIES:Adults Only & Parties
ATTACH;FMTTYPE=image/jpeg:https://mychq.org/wp-content/uploads/2025/12/590173317_1303302185177472_8351231473725036974_n.jpg
ORGANIZER;CN="Pine Junction":MAILTO:pinejunction@fairpoint.net
END:VEVENT
BEGIN:VEVENT
DTSTART;TZID=America/New_York:20251124T170000
DTEND;TZID=America/New_York:20251124T200000
DTSTAMP:20260424T032904
CREATED:20250924T173029Z
LAST-MODIFIED:20250924T173029Z
UID:10022003-1764003600-1764014400@mychq.org
SUMMARY:Ladies Sip N' Shop
DESCRIPTION:Embrace the season’s spirit and discovera treasure trove of unique handmade crafts\, delightful treats\, and festive joy. 20 vendors this year! Bars will be open and we will offer a limited appetizer menu for the event! (our full menu will not be available-munchies only) Come try one of our Christmas Cocktails! \nFree Entrance and a chance to win a door prize! \nVendor List:Burnt sage boutiqueAll American MakerCharmain’s Custom CreationsCrafty Comfort Co.It’s All RelativeBueno Cusina OilsMadara FarmsSanibellie EarringsUnique Jewelry CreationsRADICALLY ROOTED HOMESTEADWhizz n’ SmashThrive by le-vel with Coleen ThompsonDesigns by LinesMolly’s Old Fashioned CandyJulie’s Beach Glass ArtHimelein Farm\, LLCMichelle’s Beaded BeautiesKO Painted OrnamentsSHAY’S BUTTA
URL:https://mychq.org/event/ladies-sip-n-shop-2/
LOCATION:Pine Junction\, 9757 Bailey Hill Rd\, Sherman\, 14781\, United States
CATEGORIES:Markets & Yard Sales
ATTACH;FMTTYPE=image/jpeg:https://mychq.org/wp-content/uploads/2025/09/547451036_1240370758137282_6168528440865764480_n.jpg
ORGANIZER;CN="Pine Junction":MAILTO:pinejunction@fairpoint.net
END:VEVENT
BEGIN:VEVENT
DTSTART;TZID=America/New_York:20251019T110000
DTEND;TZID=America/New_York:20251019T170000
DTSTAMP:20260424T032904
CREATED:20250924T172930Z
LAST-MODIFIED:20250924T172930Z
UID:10022002-1760871600-1760893200@mychq.org
SUMMARY:Pop Up Market @ Pine Junction
DESCRIPTION:Mark Your Calendars! Sunday October 12th\, Saturday October 18th and Sunday October 19th we will have a Pop-Up Shop featuring Burnt Sage Boutique\, Radically Rooted\, Homestead Designs By Lines\, and  Madara Farms! Come have lunch and shop from these ladies and support their small businesses! Pop-Up Shop will be located in our Small Pavilion out Back and will be open from 11am-5pm.
URL:https://mychq.org/event/pop-up-market-pine-junction/2025-10-19/
LOCATION:Pine Junction\, 9757 Bailey Hill Rd\, Sherman\, 14781\, United States
CATEGORIES:Markets & Yard Sales
ATTACH;FMTTYPE=image/jpeg:https://mychq.org/wp-content/uploads/2025/09/535261891_1218414970332861_6124711486871245763_n.jpg
ORGANIZER;CN="Pine Junction":MAILTO:pinejunction@fairpoint.net
END:VEVENT
BEGIN:VEVENT
DTSTART;TZID=America/New_York:20250723T163000
DTEND;TZID=America/New_York:20250723T213000
DTSTAMP:20260424T032904
CREATED:20250128T201954Z
LAST-MODIFIED:20250128T202043Z
UID:10013348-1753288200-1753306200@mychq.org
SUMMARY:Concert In The Pines featuring Eli Young Band!
DESCRIPTION:Our Biggest and most Popular event of the year! Tickets sell out fast and are limited\, YOU DON’T WANT TO MISS The 5th ANNUAL EVENT! This year as an added twist for our 5 year anniversary Don’t Tell Lonnie either!! SHHHHH…… \n$ 1 from each ticket sold will be donated to our beneficiary for this year’s concert fundraiser. We also will have a ticketed fundraiser with 100% of the profits raised from the raffle going to the beneficiary as well! (More details to come on this) \nFor those of you that joined us for the last few years\, thank you! And if you missed the events and are new for this year\, this is a Secret Concert. Clues about the headliner will be posted and more details to follow! Join us for an exclusive event for our loyal and supportive patrons. A limited amount of Tickets will be sold on a first come first serve basis. \nOpening Act: Mark Mackayand
URL:https://mychq.org/event/concert-in-the-pines-featuring-eli-young-band/
LOCATION:Pine Junction\, 9757 Bailey Hill Rd\, Sherman\, 14781\, United States
CATEGORIES:Music & Entertainment
ORGANIZER;CN="Pine Junction":MAILTO:pinejunction@fairpoint.net
END:VEVENT
END:VCALENDAR