BEGIN:VCALENDAR
VERSION:2.0
PRODID:-//My CHQ - ECPv6.15.20//NONSGML v1.0//EN
CALSCALE:GREGORIAN
METHOD:PUBLISH
X-WR-CALNAME:My CHQ
X-ORIGINAL-URL:https://mychq.org
X-WR-CALDESC:Events for My CHQ
REFRESH-INTERVAL;VALUE=DURATION:PT1H
X-Robots-Tag:noindex
X-PUBLISHED-TTL:PT1H
BEGIN:VTIMEZONE
TZID:America/New_York
BEGIN:DAYLIGHT
TZOFFSETFROM:-0500
TZOFFSETTO:-0400
TZNAME:EDT
DTSTART:20250309T070000
END:DAYLIGHT
BEGIN:STANDARD
TZOFFSETFROM:-0400
TZOFFSETTO:-0500
TZNAME:EST
DTSTART:20251102T060000
END:STANDARD
BEGIN:DAYLIGHT
TZOFFSETFROM:-0500
TZOFFSETTO:-0400
TZNAME:EDT
DTSTART:20260308T070000
END:DAYLIGHT
BEGIN:STANDARD
TZOFFSETFROM:-0400
TZOFFSETTO:-0500
TZNAME:EST
DTSTART:20261101T060000
END:STANDARD
BEGIN:DAYLIGHT
TZOFFSETFROM:-0500
TZOFFSETTO:-0400
TZNAME:EDT
DTSTART:20270314T070000
END:DAYLIGHT
BEGIN:STANDARD
TZOFFSETFROM:-0400
TZOFFSETTO:-0500
TZNAME:EST
DTSTART:20271107T060000
END:STANDARD
END:VTIMEZONE
BEGIN:VEVENT
DTSTART;TZID=America/New_York:20260424T170000
DTEND;TZID=America/New_York:20260424T190000
DTSTAMP:20260422T063911
CREATED:20260331T162004Z
LAST-MODIFIED:20260331T162004Z
UID:10027634-1777050000-1777057200@mychq.org
SUMMARY:Artscape Fredonia Pop-Up Gallery
DESCRIPTION:A Pop-Up Gallery and celebration of Artists will be held Friday\, April 24\, from 5–7 pm at the Fredonia Grange\, 58 West Main Street. The public is invited to view the original selected artworks\, meet the artists\, and connect with project sponsors. \nArtscape Fredonia is a new public art program bringing vibrant banners featuring the work of 25 regional artists to the streets surrounding Barker Common. The project is being implemented by the North Shore Arts Alliance and support by local businesses and individuals committed to the cultural and economic vitality of the community. Artscape banners will be displayed from Spring through Fall of 2026. \nArtists from across the Tri-County area submitted work for consideration\, with selections made by an independent jury representing a cross-section of the community. Sponsors—including businesses\, organizations\, and individuals—help bring the project to life\, with their names appearing on banners as a visible sign of support for the arts and downtown revitalization. \nArtist’s work selected for Artscape Fredonia 2026 are: Elizabeth Booth\, Dennis Bertram\, Susan Simmons\, Erin Ruffino\, Ron Nasca\, Sandra Maggio\, Jewel Lin\, Ronnie Lafferty\, Lisa Summerfield\, Lyn Harris\, Jessica Ellen Boice\, Michael Hoerbelt\, Patrick Stokes\, Janet Mandel\, Sheila Raczka Canon\, Christopher Sciarrino\, Dan Vanderzyden\, Tom Janik\, Carrie Shank\, Diane Buckley\, Charles Ruffino\, Carrie Duckett\, Erin Borosky\, Diane Andrasik\, and Jeff Crist. \nProgram sponsors include: White Porch Studios\, Owl Homes of Fredonia\, Lana’s The Little House\, Pucci Carpet One Furniture & Bedding\, Mudslingers\, Barcelona Bed & Breakfast\, East Main Laundry Co\, Village Frame Shoppe\, Tuscany Market & Deli\, OBSERVER\, Wells Enterprises\, 1891 Fredonia Opera House Performing Arts Center\, Lawley Insurance/Employee Benefits\, Tim Hortons\, Howard Hanna Holt Real Estate\, Gugino & Ryel Financial\, Fredonia Jazz Society\, Lake Shore Savings\, The White Inn\, Sacred Grounds Coffee House\, Peter D. Clark Attorney\, Marsha R. Finley\, Jeffrey McMinn\, Nancy Nixon Ensign\, and the North Shore Arts Alliance. \nArtscape Fredonia is generously supported by the Northern Chautauqua Community Foundation.
URL:https://mychq.org/event/artscape-fredonia-pop-up-gallery/
LOCATION:Fredonia Grange\, 58 W Main St\, Fredonia\, 14063\, United States
CATEGORIES:Arts & Antiques
ATTACH;FMTTYPE=image/jpeg:https://mychq.org/wp-content/uploads/2026/03/657920001_1407516354746257_6765928480957332321_n.jpg
ORGANIZER;CN="North Shore Arts Alliance":MAILTO:nsaachautauqua@gmail.com
END:VEVENT
BEGIN:VEVENT
DTSTART;TZID=America/New_York:20260523T100000
DTEND;TZID=America/New_York:20260523T170000
DTSTAMP:20260422T063911
CREATED:20260316T150139Z
LAST-MODIFIED:20260316T150139Z
UID:10027295-1779530400-1779555600@mychq.org
SUMMARY:Art Trail Studio & Hub Tour 2026 - Memorial Day Weekend
DESCRIPTION:Join us on the Art Trail for the most unique art event in Western NY!Featuring local artists of the North Shore Arts Alliance\, this driving tour consists of artist studios\, artist hubs\, and galleries at 15 different locations around Chautauqua County for Memorial Day Weekend. Meet some of the area’s finest visual artists and find meaningful pieces for gifting or keeping. Pick up your “Passport” at any location and collect stamps along the way to win a gift certificate.All Memorial Day Art Trail locations will be open May 23 & 24th from 10-5pm. \nMemorial Day Locations & Artists include:Hub #1 – Marv Bjurlin Studio (Fredonia)Hub #3 – Waldo Latimer Studio (Fredonia)Hub #4 – Kniti Griti Works Studio (Fredonia): Marcia Merrins\, June Burns\, & Ronnie LaffertyHub #5 – Sandra Maggio Studio (Fredonia)Hub #6 – 21 Brix Winery (Portland): Patrick Stokes\, Seri Beeson\, Sarah Brown\, & Karen TavernaHub #7 – Sacred Grounds Coffee (Lilydale): D’Arsie Mae & Doot BokelmanHub #8 – Portage Hill Art Gallery (Westfield): Audrey Kay Dowling\, Myriam Mayshark\, David Gregor\, & Tim SivertsenHub #9 – Reno Pottery (Dewittville): Jim & Pat RenoHub #10 – The Sheep Barn Gallery (Mayville): John Gerber\, Hank Gerber\, & Nancy WehrHub #11 – Cynthia Norton Studio (CHQ Inst.)Hub #12 – LMNOP Gallery (Sherman): Peter HamiltonHub #13 – Bemus Point Library (Bemus Point): Jackie Damore & Lisa SummerfieldHub #14 – Janet Mandel Art Studio (Kennedy)Hub #15 – Edgewater Art House (Jamestown): Susan Gutierrez\, Terry Lair\, Melissa Meyers\, & Carrie SheffieldHub #16 – Nancy Nixon Ensign Studio (Jamestown) \nFind more information and the interactive map at:www.nsaachautauqua.org/art-trail.html \nStay tuned for Art Trail: Labor Day Edition! (Sept. 5 & 6)
URL:https://mychq.org/event/art-trail-studio-hub-tour-2026-memorial-day-weekend/2026-05-23/
LOCATION:Multiple Venues (See Event Description)
CATEGORIES:Arts & Antiques
ATTACH;FMTTYPE=image/jpeg:https://mychq.org/wp-content/uploads/2026/03/650925251_1394752216022671_3964054242169904255_n.jpg
ORGANIZER;CN="North Shore Arts Alliance":MAILTO:nsaachautauqua@gmail.com
END:VEVENT
END:VCALENDAR