BEGIN:VCALENDAR
VERSION:2.0
PRODID:-//My CHQ - ECPv6.15.20//NONSGML v1.0//EN
CALSCALE:GREGORIAN
METHOD:PUBLISH
X-ORIGINAL-URL:https://mychq.org
X-WR-CALDESC:Events for My CHQ
REFRESH-INTERVAL;VALUE=DURATION:PT1H
X-Robots-Tag:noindex
X-PUBLISHED-TTL:PT1H
BEGIN:VTIMEZONE
TZID:America/New_York
BEGIN:DAYLIGHT
TZOFFSETFROM:-0500
TZOFFSETTO:-0400
TZNAME:EDT
DTSTART:20240310T070000
END:DAYLIGHT
BEGIN:STANDARD
TZOFFSETFROM:-0400
TZOFFSETTO:-0500
TZNAME:EST
DTSTART:20241103T060000
END:STANDARD
BEGIN:DAYLIGHT
TZOFFSETFROM:-0500
TZOFFSETTO:-0400
TZNAME:EDT
DTSTART:20250309T070000
END:DAYLIGHT
BEGIN:STANDARD
TZOFFSETFROM:-0400
TZOFFSETTO:-0500
TZNAME:EST
DTSTART:20251102T060000
END:STANDARD
BEGIN:DAYLIGHT
TZOFFSETFROM:-0500
TZOFFSETTO:-0400
TZNAME:EDT
DTSTART:20260308T070000
END:DAYLIGHT
BEGIN:STANDARD
TZOFFSETFROM:-0400
TZOFFSETTO:-0500
TZNAME:EST
DTSTART:20261101T060000
END:STANDARD
BEGIN:DAYLIGHT
TZOFFSETFROM:-0500
TZOFFSETTO:-0400
TZNAME:EDT
DTSTART:20270314T070000
END:DAYLIGHT
BEGIN:STANDARD
TZOFFSETFROM:-0400
TZOFFSETTO:-0500
TZNAME:EST
DTSTART:20271107T060000
END:STANDARD
END:VTIMEZONE
BEGIN:VEVENT
DTSTART;TZID=America/New_York:20260411T100000
DTEND;TZID=America/New_York:20260411T120000
DTSTAMP:20260423T015537
CREATED:20260406T163514Z
LAST-MODIFIED:20260406T163514Z
UID:10027752-1775901600-1775908800@mychq.org
SUMMARY:Tarp Skunks Youth Coaches Clinic
DESCRIPTION:Attention Youth Coaches!  \nGet ready for the season with our Tarp Skunks Coaches Clinic\, proudly presented by the Secrets of Champions! \nJoin us on THIS Saturday\, April 11th at 10 AM for a FREE clinic focused on: \n Essential drills \n Fundamentals mastery \n Practice planning \n Player development strategies \nThis is a great opportunity to grow your skills\, connect with other coaches\, and bring new ideas back to your team this season! \n Robert H. Jackson Center\, Jamestown \n FREE for all attendees \nTag a youth coach who should be there
URL:https://mychq.org/event/tarp-skunks-youth-coaches-clinic/
LOCATION:Robert H. Jackson Center\, 305 E. 4th St.\, Jamestown\, NY\, 14701\, United States
CATEGORIES:Training & Education
ATTACH;FMTTYPE=image/jpeg:https://mychq.org/wp-content/uploads/2026/04/668565587_1722507735788502_8351555443668191712_n.jpg
ORGANIZER;CN="Jamestown Tarp Skunks":MAILTO:christian@tarpskunks.net
END:VEVENT
BEGIN:VEVENT
DTSTART;TZID=America/New_York:20250729T183000
DTEND;TZID=America/New_York:20250729T203000
DTSTAMP:20260423T015537
CREATED:20250728T160701Z
LAST-MODIFIED:20250728T160701Z
UID:10020254-1753813800-1753821000@mychq.org
SUMMARY:Jamestown Tarp Skunks PLAYOFF GAME!
DESCRIPTION:Playoffs are SET! \n\nThe 2-seed Tarp Skunks will take on the 3-seed Niagara Falls Americans\, Tuesday\, July 29th\, AT HOME!\nSo come on out to Russell E. Diethrick Park and cheer on the Skunks to victory!\nFirst pitch is set for 6:30 PM\n\nTickets are available at the ticket window on game day or by calling our office on Tuesday at (716) 705-5600. Don’t miss the playoff energy.
URL:https://mychq.org/event/jamestown-tarp-skunks-playoff-game/
LOCATION:Russell Diethrick Park\, 485 Falconer St.\, Jamestown\, NY\, 14701\, United States
CATEGORIES:Sports
ATTACH;FMTTYPE=image/jpeg:https://mychq.org/wp-content/uploads/2025/07/525636684_1504947330877878_6811030145052166279_n.jpg
ORGANIZER;CN="Jamestown Tarp Skunks":MAILTO:christian@tarpskunks.net
END:VEVENT
BEGIN:VEVENT
DTSTART;TZID=America/New_York:20250725T183000
DTEND;TZID=America/New_York:20250725T203000
DTSTAMP:20260423T015537
CREATED:20250430T224038Z
LAST-MODIFIED:20250430T224038Z
UID:10016637-1753468200-1753475400@mychq.org
SUMMARY:Jamestown Tarp Skunks July Home Games | Schedule and Promotions
DESCRIPTION:This event listing is for the July part of the schedule! \nTarp Skunks Fans\, it’s time to get stinky \n\nThe promotional schedule for Chautauqua County’s best summer entertainment is OUT! Join us for our Opening Night Tailgate Festival presented by 3 C’s Catering & The Falcons Nest Banquet Hall and Jamestown Awning and Party Tents to see live music from the Porcelain Bus Drivers. The First 200 fans to the game will receive a 5th anniversary Tarp Skunks T-shirt!\n\n\n$2 Night ($2 beer\, hot dogs\, and bleacher tickets)!\n\nJuly 7th & July 21st\n\n\nJuly 3rd: Fireworks Night!\nJuly 11th: Wegmans Community Buyout Night (free tickets)!\nJuly 13th: Bark at the Park Pet Night!\nJuly 17th: First Responders & Medical Healthcare Professionals Night!\nJuly 19th: Strike Out Cancer Night!\nJuly 25th: XMAS is July Fireworks!\n\nAnd so much more! Check out the link below to read all about it! We can’t wait to spend our summer with you!\n\nhttps://www.jamestowntarpskunks.com/…/Full_Schedule…
URL:https://mychq.org/event/jamestown-tarp-skunks-july-home-games-schedule-and-promotions/2025-07-25/
LOCATION:Russell Diethrick Park\, 485 Falconer St.\, Jamestown\, NY\, 14701\, United States
CATEGORIES:Sports
ATTACH;FMTTYPE=image/png:https://mychq.org/wp-content/uploads/2025/04/Skunks-July.png
ORGANIZER;CN="Jamestown Tarp Skunks":MAILTO:christian@tarpskunks.net
END:VEVENT
END:VCALENDAR