BEGIN:VCALENDAR
VERSION:2.0
PRODID:-//Chautauqua County Events, Local Businesses &amp; Resources | My CHQ - ECPv6.15.20//NONSGML v1.0//EN
CALSCALE:GREGORIAN
METHOD:PUBLISH
X-ORIGINAL-URL:https://mychq.org
X-WR-CALDESC:Events for Chautauqua County Events, Local Businesses &amp; Resources | My CHQ
REFRESH-INTERVAL;VALUE=DURATION:PT1H
X-Robots-Tag:noindex
X-PUBLISHED-TTL:PT1H
BEGIN:VTIMEZONE
TZID:America/New_York
BEGIN:DAYLIGHT
TZOFFSETFROM:-0500
TZOFFSETTO:-0400
TZNAME:EDT
DTSTART:20240310T070000
END:DAYLIGHT
BEGIN:STANDARD
TZOFFSETFROM:-0400
TZOFFSETTO:-0500
TZNAME:EST
DTSTART:20241103T060000
END:STANDARD
BEGIN:DAYLIGHT
TZOFFSETFROM:-0500
TZOFFSETTO:-0400
TZNAME:EDT
DTSTART:20250309T070000
END:DAYLIGHT
BEGIN:STANDARD
TZOFFSETFROM:-0400
TZOFFSETTO:-0500
TZNAME:EST
DTSTART:20251102T060000
END:STANDARD
BEGIN:DAYLIGHT
TZOFFSETFROM:-0500
TZOFFSETTO:-0400
TZNAME:EDT
DTSTART:20260308T070000
END:DAYLIGHT
BEGIN:STANDARD
TZOFFSETFROM:-0400
TZOFFSETTO:-0500
TZNAME:EST
DTSTART:20261101T060000
END:STANDARD
BEGIN:DAYLIGHT
TZOFFSETFROM:-0500
TZOFFSETTO:-0400
TZNAME:EDT
DTSTART:20270314T070000
END:DAYLIGHT
BEGIN:STANDARD
TZOFFSETFROM:-0400
TZOFFSETTO:-0500
TZNAME:EST
DTSTART:20271107T060000
END:STANDARD
END:VTIMEZONE
BEGIN:VEVENT
DTSTART;TZID=America/New_York:20260420T173000
DTEND;TZID=America/New_York:20260420T183000
DTSTAMP:20260423T185309
CREATED:20260415T183737Z
LAST-MODIFIED:20260415T183737Z
UID:10028189-1776706200-1776709800@mychq.org
SUMMARY:Business Basics: Success at the Farmers Market
DESCRIPTION:This introduction to a monthly education program is specifically designed for existing and prospective businesses interested in vending at the Jamestown Farmers Market! \nLed by Ginny Carlberg at FarmNet\, learn the basics of:-setting up your business legally-explore insurance options-get a baseline for tracking sales and record keeping-learn ways to maximize your sales at a farmers market \nRegistration is required! See “Ticket” Link
URL:https://mychq.org/event/business-basics-success-at-the-farmers-market/
LOCATION:Online Event
CATEGORIES:Markets & Yard Sales
ATTACH;FMTTYPE=image/jpeg:https://mychq.org/wp-content/uploads/2026/04/670272449_1739849870472307_7559704757416637720_n.jpg
ORGANIZER;CN="Jamestown Farmers Market":MAILTO:info@jfmny.org
END:VEVENT
BEGIN:VEVENT
DTSTART;TZID=America/New_York:20260411T080000
DTEND;TZID=America/New_York:20260411T130000
DTSTAMP:20260423T185309
CREATED:20251125T160014Z
LAST-MODIFIED:20251125T160014Z
UID:10023301-1775894400-1775912400@mychq.org
SUMMARY:2026 Winter Market Kick Off!
DESCRIPTION:Our winter market is back for a 2nd season and MORE dates!Join us the 2nd and 4th Saturday of each month\, January through May! Inside in the Undercroft of St. Luke’s!FREE Pancakes (GF & DF) Fresh and local food and handmade goods \nSee you at the market January 10th!
URL:https://mychq.org/event/2026-winter-market-kick-off/2026-04-11/
LOCATION:St. Luke’s Episcopal Church\, 410 N Main St\, Jamestown\, 14701\, United States
CATEGORIES:Markets & Yard Sales
ATTACH;FMTTYPE=image/jpeg:https://mychq.org/wp-content/uploads/2025/11/586031733_1622725278851434_419675276324648253_n.jpg
ORGANIZER;CN="Jamestown Farmers Market":MAILTO:info@jfmny.org
END:VEVENT
BEGIN:VEVENT
DTSTART;TZID=America/New_York:20260331T180000
DTEND;TZID=America/New_York:20260331T190000
DTSTAMP:20260423T185309
CREATED:20260318T180134Z
LAST-MODIFIED:20260318T180134Z
UID:10027319-1774980000-1774983600@mychq.org
SUMMARY:Summer 2026 Vendor Info Session - Zoom
DESCRIPTION:Register ahead of time in the link above! \nLearn about what it takes to be a JFM vendor! Special Event weekends\, insurance requirements\, fees\, perks of being a JFM vendor\, and our other food access programs! Q&A to follow!
URL:https://mychq.org/event/summer-2026-vendor-info-session-zoom/
LOCATION:Online Event
CATEGORIES:Training & Education
ATTACH;FMTTYPE=image/jpeg:https://mychq.org/wp-content/uploads/2026/03/654214310_1716366296153998_5886883396731554744_n.jpg
ORGANIZER;CN="Jamestown Farmers Market":MAILTO:info@jfmny.org
END:VEVENT
BEGIN:VEVENT
DTSTART;TZID=America/New_York:20260107T160000
DTEND;TZID=America/New_York:20260107T170000
DTSTAMP:20260423T185309
CREATED:20251226T222942Z
LAST-MODIFIED:20251226T222942Z
UID:10023764-1767801600-1767805200@mychq.org
SUMMARY:"What Is Liability Insurance?" Online Webinar
DESCRIPTION:Are you thinking about become a vendor at the market? In 2026\, liability insurance will be required. Wondering what that is and how to get it? Join us and David Snow – State Farm Insurance Agent on January 7th to learn about liability insurance and the best option for your business! This opportunity is open to all businesses! \n\n\nRegistration required: https://events.teams.microsoft.com/…/1eb69f1b-5eac-43e2…
URL:https://mychq.org/event/what-is-liability-insurance-online-webinar/
LOCATION:Online Event
CATEGORIES:Training & Education
ATTACH;FMTTYPE=image/jpeg:https://mychq.org/wp-content/uploads/2025/12/598226431_1643356203455008_2002716009787431086_n.jpg
ORGANIZER;CN="Jamestown Farmers Market":MAILTO:info@jfmny.org
END:VEVENT
BEGIN:VEVENT
DTSTART;TZID=America/New_York:20251206T110000
DTEND;TZID=America/New_York:20251206T140000
DTSTAMP:20260423T185309
CREATED:20251111T172439Z
LAST-MODIFIED:20251111T172439Z
UID:10022976-1765018800-1765029600@mychq.org
SUMMARY:Empty Bowls 2025
DESCRIPTION:Each year the area’s local potters come together and donate THOUSANDS of bowls to help fundraiseJoin us for a cozy\, community-centered day at the 2025 Empty Bowls\, where art\, food\, and generosity come together to fight hunger in Chautauqua County! \nWith your donation\, you’ll receive: A handmade bowl crafted by a local potter Soup donated by local businesses and volunteers A drink to enjoy alongside your meal \nEach bowl you take home serves as a reminder of the “empty bowls” in our community\, and the power we have when we come together to fill them. \nAll proceeds from Empty Bowls directly support St. Susan’s Center and the Jamestown Farmers Market – Mobile Market program\, helping to increase food access and provide relief for our neighbors in need. \nCome share a meal\, take home a beautiful handmade bowl\, and help make a lasting impact – one bowl at a time.
URL:https://mychq.org/event/empty-bowls-2025/
LOCATION:St. Luke’s Episcopal Church\, 410 N Main St\, Jamestown\, 14701\, United States
CATEGORIES:Food & Drink
ATTACH;FMTTYPE=image/jpeg:https://mychq.org/wp-content/uploads/2025/11/579009878_1612569959866966_4042810061029392884_n.jpg
ORGANIZER;CN="Jamestown Farmers Market":MAILTO:info@jfmny.org
END:VEVENT
BEGIN:VEVENT
DTSTART;TZID=America/New_York:20251129T090000
DTEND;TZID=America/New_York:20251129T130000
DTSTAMP:20260423T185309
CREATED:20250623T142139Z
LAST-MODIFIED:20251031T155635Z
UID:10018733-1764406800-1764421200@mychq.org
SUMMARY:Jamestown Farmers Market
DESCRIPTION:Our summer farmers market runs outside on 3rd and Main St. in Downtown Jamestown\, outside of the Lucille Ball Museum and Crown Street Roasters each Saturday June through November. If the weather turns\, the market will move indoors to St. Luke’s Church.
URL:https://mychq.org/event/jamestown-farmers-market/2025-11-29/
LOCATION:St. Luke’s Episcopal Church\, 410 N Main St\, Jamestown\, 14701\, United States
CATEGORIES:Markets & Yard Sales
ATTACH;FMTTYPE=image/jpeg:https://mychq.org/wp-content/uploads/2025/06/490845647_1443705946753369_2518766854171740118_n.jpg
ORGANIZER;CN="Jamestown Farmers Market":MAILTO:info@jfmny.org
END:VEVENT
BEGIN:VEVENT
DTSTART;TZID=America/New_York:20251122T100000
DTEND;TZID=America/New_York:20251122T120000
DTSTAMP:20260423T185309
CREATED:20251104T155925Z
LAST-MODIFIED:20251104T155925Z
UID:10022879-1763805600-1763812800@mychq.org
SUMMARY:Miranda Wilcox LIVE @ Jamestown Farmers Market
DESCRIPTION:The Jamestown Farmer’s market features a multitude of unique vendors and live music each Saturday! Close out the season with me on November 22nd in the heart of bustling Jamestown.
URL:https://mychq.org/event/miranda-wilcox-live-jamestown-farmers-market/
LOCATION:Downtown Jamestown\, 19 W 3rd St\, Jamestown\, 14701\, United States
CATEGORIES:Music & Entertainment
ATTACH;FMTTYPE=image/jpeg:https://mychq.org/wp-content/uploads/2025/11/576746996_793588410212583_7568108602028755054_n.jpg
ORGANIZER;CN="Jamestown Farmers Market":MAILTO:info@jfmny.org
END:VEVENT
BEGIN:VEVENT
DTSTART;TZID=America/New_York:20251117T180000
DTEND;TZID=America/New_York:20251117T200000
DTSTAMP:20260423T185309
CREATED:20251103T202249Z
LAST-MODIFIED:20251103T202249Z
UID:10022876-1763402400-1763409600@mychq.org
SUMMARY:Farm to Table Dinner
DESCRIPTION:Join us in celebrating the 2025 with our 8th Annual Farm to Table Dinner! \nA delicious locally sourced meal will help kick off the holiday season. We’ll highlight the season\, recognize our great vendors\, and shout out all the volunteers who helped make this year happen! \nEARLY BIRD TICKETSSingle $25 (normally $35)Table $150 (normally $175) seats 6
URL:https://mychq.org/event/farm-to-table-dinner/
LOCATION:St. Luke’s Episcopal Church\, 410 N Main St\, Jamestown\, 14701\, United States
CATEGORIES:Food & Drink
ATTACH;FMTTYPE=image/png:https://mychq.org/wp-content/uploads/2025/11/jamestown-farmers-market.png
ORGANIZER;CN="Jamestown Farmers Market":MAILTO:info@jfmny.org
END:VEVENT
BEGIN:VEVENT
DTSTART;TZID=America/New_York:20250816T084500
DTEND;TZID=America/New_York:20250816T150000
DTSTAMP:20260423T185309
CREATED:20250505T152521Z
LAST-MODIFIED:20250505T152521Z
UID:10016866-1755333900-1755356400@mychq.org
SUMMARY:JFM 5K Run/Walk
DESCRIPTION:Welcome to the Market’s first 5K race! \nJoin us and Chautauqua Striders in a morning or fun\, food\, and fitness! The course is in the heart of downtown Jamestown and will take you along the waterfront of the Chadakoin River\, with the race starting and ending at the market. \nThe race is part of the Chautauqua Striders 2025 Runner of the Year Series. Meaning Athletic Club members get 10% off their race fee. \nAll racers will get a large canvas tote filled with local goodies! Shirts will be available for purchase. \nPost run refreshments will be provided! \nPacket Pick Up will take place Thursday (8/14) and Friday (8/15) at St. Luke’s Episcopal Church office 9 am – 3 pm OR the morning of the race starting at 8:45 am.
URL:https://mychq.org/event/jfm-5k-run-walk/
LOCATION:Downtown Jamestown\, 19 W 3rd St\, Jamestown\, 14701\, United States
CATEGORIES:Sports
ATTACH;FMTTYPE=image/jpeg:https://mychq.org/wp-content/uploads/2025/05/495540340_1455546088902688_8367412923382135786_n.jpg
ORGANIZER;CN="Jamestown Farmers Market":MAILTO:info@jfmny.org
END:VEVENT
BEGIN:VEVENT
DTSTART;TZID=America/New_York:20250809T100000
DTEND;TZID=America/New_York:20250809T120000
DTSTAMP:20260423T185309
CREATED:20250612T172606Z
LAST-MODIFIED:20250612T172606Z
UID:10018492-1754733600-1754740800@mychq.org
SUMMARY:Michael Gerholdt @ Jamestown Farmers Market
DESCRIPTION:I’ll be setting up at the alley between Crown Street Roasting and the Lucy Museum Gift Shop. Come shopping and get entertained!
URL:https://mychq.org/event/michael-gerholdt-jamestown-farmers-market/
LOCATION:Downtown Jamestown\, 19 W 3rd St\, Jamestown\, 14701\, United States
CATEGORIES:Music & Entertainment
ATTACH;FMTTYPE=image/jpeg:https://mychq.org/wp-content/uploads/2025/06/506123778_1078907477622725_6334515636155995368_n.jpg
ORGANIZER;CN="Jamestown Farmers Market":MAILTO:info@jfmny.org
END:VEVENT
END:VCALENDAR