BEGIN:VCALENDAR
VERSION:2.0
PRODID:-//My CHQ - ECPv6.15.20//NONSGML v1.0//EN
CALSCALE:GREGORIAN
METHOD:PUBLISH
X-ORIGINAL-URL:https://mychq.org
X-WR-CALDESC:Events for My CHQ
REFRESH-INTERVAL;VALUE=DURATION:PT1H
X-Robots-Tag:noindex
X-PUBLISHED-TTL:PT1H
BEGIN:VTIMEZONE
TZID:America/New_York
BEGIN:DAYLIGHT
TZOFFSETFROM:-0500
TZOFFSETTO:-0400
TZNAME:EDT
DTSTART:20240310T070000
END:DAYLIGHT
BEGIN:STANDARD
TZOFFSETFROM:-0400
TZOFFSETTO:-0500
TZNAME:EST
DTSTART:20241103T060000
END:STANDARD
BEGIN:DAYLIGHT
TZOFFSETFROM:-0500
TZOFFSETTO:-0400
TZNAME:EDT
DTSTART:20250309T070000
END:DAYLIGHT
BEGIN:STANDARD
TZOFFSETFROM:-0400
TZOFFSETTO:-0500
TZNAME:EST
DTSTART:20251102T060000
END:STANDARD
BEGIN:DAYLIGHT
TZOFFSETFROM:-0500
TZOFFSETTO:-0400
TZNAME:EDT
DTSTART:20260308T070000
END:DAYLIGHT
BEGIN:STANDARD
TZOFFSETFROM:-0400
TZOFFSETTO:-0500
TZNAME:EST
DTSTART:20261101T060000
END:STANDARD
END:VTIMEZONE
BEGIN:VEVENT
DTSTART;TZID=America/New_York:20251129T140000
DTEND;TZID=America/New_York:20251129T160000
DTSTAMP:20260422T203610
CREATED:20251126T175330Z
LAST-MODIFIED:20251126T175330Z
UID:10023320-1764424800-1764432000@mychq.org
SUMMARY:Cookie Decorating with a Twist!
DESCRIPTION:Bring your sweet tooth to The Mayberry Jungle Saturday\, November 29th at 2pm for holiday cookie decorating—with a twist! \nThe cost is $20 per person and will include all of the necessary materials to make some delicious (and super cute!) plant themed sugar cookies. \nSeating is limited so reservations are recommended. Call or text 716-581-0440\, or send a DM today to save your seat!
URL:https://mychq.org/event/cookie-decorating-with-a-twist/
LOCATION:The Mayberry Jungle\, 36 S Erie St\, Mayville\, 14757\, United States
CATEGORIES:Kids & Family
ATTACH;FMTTYPE=image/jpeg:https://mychq.org/wp-content/uploads/2025/11/582329627_873672608336805_3648710852109180161_n.jpg
ORGANIZER;CN="Handcrafted From the Heart":MAILTO:handcrafted14757@outlook.com
END:VEVENT
BEGIN:VEVENT
DTSTART;TZID=America/New_York:20251124T180000
DTEND;TZID=America/New_York:20251124T210000
DTSTAMP:20260422T203610
CREATED:20250703T182054Z
LAST-MODIFIED:20250703T182054Z
UID:10019224-1764007200-1764018000@mychq.org
SUMMARY:Countdown to Christmas Snowman Class
DESCRIPTION:Do you like to count down the days to Christmas with your family or friends? Join us in making this adorable Snowman whose nose counts the days down. \nAll materials are included as well as light refreshments. Please note that the number of kits are limited so registration will be required to hold your seat. The link to register will be added soon. \n$35 for the class.
URL:https://mychq.org/event/countdown-to-christmas-snowman-class-2/
LOCATION:Handcrafted from the Heart\, 38 S Erie St\, Mayville\, 14757\, United States
CATEGORIES:Arts & Antiques
ATTACH;FMTTYPE=image/jpeg:https://mychq.org/wp-content/uploads/2025/07/514337375_1239611011293909_2000417979218401382_n.jpg
ORGANIZER;CN="Handcrafted From the Heart":MAILTO:handcrafted14757@outlook.com
END:VEVENT
BEGIN:VEVENT
DTSTART;TZID=America/New_York:20251103T180000
DTEND;TZID=America/New_York:20251103T210000
DTSTAMP:20260422T203610
CREATED:20250703T181959Z
LAST-MODIFIED:20250703T181959Z
UID:10019223-1762192800-1762203600@mychq.org
SUMMARY:Build Your Own Stacked Christmas Trees
DESCRIPTION:These stacked Christmas Trees are cute and can be used as a set or separated on a mantle or in your favorite spot. Each tree varies in size from the other 2 and we will only have a limited supply. Attendees must register and select their choice in style of trees 2 weeks before the event so that they can be made. The class will be $25 and attendees can register here —> https://form.jotform.com/223435069074153
URL:https://mychq.org/event/build-your-own-stacked-christmas-trees-2/
LOCATION:Handcrafted from the Heart\, 38 S Erie St\, Mayville\, 14757\, United States
CATEGORIES:Arts & Antiques
ATTACH;FMTTYPE=image/jpeg:https://mychq.org/wp-content/uploads/2025/07/513940223_1239614954626848_6534188165626324656_n.jpg
ORGANIZER;CN="Handcrafted From the Heart":MAILTO:handcrafted14757@outlook.com
END:VEVENT
BEGIN:VEVENT
DTSTART;TZID=America/New_York:20250922T180000
DTEND;TZID=America/New_York:20250922T210000
DTSTAMP:20260422T203610
CREATED:20250718T202910Z
LAST-MODIFIED:20250718T202910Z
UID:10019790-1758564000-1758574800@mychq.org
SUMMARY:Create Your Own 24" Sign
DESCRIPTION:Participants will create a one-of-a-kind 24″ sign from style options or an idea of their choosing. Any ideas for a custom design will need to be submitted no less than 10 days prior so it can be designed. \nDesign options will be available soon. To register for this class\, participants are encouraged to register so that we have enough space and materials. Jotform link to be available soon. \nClass cost will be $45 for the sign and will include all materials as well as light refreshments.
URL:https://mychq.org/event/create-your-own-24-sign/
LOCATION:Handcrafted from the Heart\, 38 S Erie St\, Mayville\, 14757\, United States
CATEGORIES:Arts & Antiques
ATTACH;FMTTYPE=image/jpeg:https://mychq.org/wp-content/uploads/2025/07/518287334_1252151580039852_1755998842652369845_n.jpg
ORGANIZER;CN="Handcrafted From the Heart":MAILTO:handcrafted14757@outlook.com
END:VEVENT
BEGIN:VEVENT
DTSTART;TZID=America/New_York:20250917T180000
DTEND;TZID=America/New_York:20250917T210000
DTSTAMP:20260422T203610
CREATED:20250718T202822Z
LAST-MODIFIED:20250718T202822Z
UID:10019789-1758132000-1758142800@mychq.org
SUMMARY:Girl's Night Out - Sip and Shop
DESCRIPTION:Join us for our second annual Sip and Shop event where we will be sipping\, snacking\, and checking out our new products. We will also be sampling some of the products that we carry. Discounts or door prizes may be on the agenda for the evening and maybe some of our artisans will join us too.
URL:https://mychq.org/event/girls-night-out-sip-and-shop/
LOCATION:Handcrafted from the Heart\, 38 S Erie St\, Mayville\, 14757\, United States
CATEGORIES:Adults Only & Parties
ATTACH;FMTTYPE=image/jpeg:https://mychq.org/wp-content/uploads/2025/07/515439695_1252144100040600_7246530854841739281_n.jpg
ORGANIZER;CN="Handcrafted From the Heart":MAILTO:handcrafted14757@outlook.com
END:VEVENT
BEGIN:VEVENT
DTSTART;TZID=America/New_York:20250813T173000
DTEND;TZID=America/New_York:20250813T200000
DTSTAMP:20260422T203610
CREATED:20250718T202709Z
LAST-MODIFIED:20250718T202709Z
UID:10019788-1755106200-1755115200@mychq.org
SUMMARY:Beach Glass Art #2 Co-Hosted with Cheri Press
DESCRIPTION:Join us for our 2nd Beach Glass Art Class hosted by Cheri Press. We will have some options available for you to make or you can be creative and bring your own ideas for your frame. Participants will have a choice of a 5×7 frame for $25 or an 8×10 for $30. All materials are included – the beach glass is from Barcelona\, and we will have fun! Registration is encouraged as we have limited seating. Please use the link to register so we can save your seat –> https://form.jotform.com/223435069074153
URL:https://mychq.org/event/beach-glass-art-2-co-hosted-with-cheri-press/
LOCATION:Handcrafted from the Heart\, 38 S Erie St\, Mayville\, 14757\, United States
CATEGORIES:Arts & Antiques
ATTACH;FMTTYPE=image/jpeg:https://mychq.org/wp-content/uploads/2025/07/515441625_1252115700043440_9148839452904353370_n.jpg
ORGANIZER;CN="Handcrafted From the Heart":MAILTO:handcrafted14757@outlook.com
END:VEVENT
BEGIN:VEVENT
DTSTART;TZID=America/New_York:20250716T173000
DTEND;TZID=America/New_York:20250716T200000
DTSTAMP:20260422T203610
CREATED:20250524T224211Z
LAST-MODIFIED:20250524T224211Z
UID:10017571-1752687000-1752696000@mychq.org
SUMMARY:Beach Glass Art co-hosted with Cheri Press
DESCRIPTION:Join us for our first Beach Glass Art Class hosted by Cheri Press. We will have some options available for you to make or you can be creative and bring your own ideas for your frame. Participants will have a choice of a 5×7 frame for $25 or an 8×10 for $30. All materials are included – the beach glass is from Barcelona\, and we will have fun! Registration is encouraged as we have limited seating. Please use the link to register so we can save your seat –> https://form.jotform.com/223435069074153
URL:https://mychq.org/event/beach-glass-art-co-hosted-with-cheri-press/
LOCATION:Handcrafted from the Heart\, 38 S Erie St\, Mayville\, 14757\, United States
CATEGORIES:Arts & Antiques
ATTACH;FMTTYPE=image/jpeg:https://mychq.org/wp-content/uploads/2025/05/500422422_1209677067620637_5449951652257798005_n.jpg
ORGANIZER;CN="Handcrafted From the Heart":MAILTO:handcrafted14757@outlook.com
END:VEVENT
END:VCALENDAR