BEGIN:VCALENDAR
VERSION:2.0
PRODID:-//My CHQ - ECPv6.15.20//NONSGML v1.0//EN
CALSCALE:GREGORIAN
METHOD:PUBLISH
X-WR-CALNAME:My CHQ
X-ORIGINAL-URL:https://mychq.org
X-WR-CALDESC:Events for My CHQ
REFRESH-INTERVAL;VALUE=DURATION:PT1H
X-Robots-Tag:noindex
X-PUBLISHED-TTL:PT1H
BEGIN:VTIMEZONE
TZID:America/New_York
BEGIN:DAYLIGHT
TZOFFSETFROM:-0500
TZOFFSETTO:-0400
TZNAME:EDT
DTSTART:20240310T070000
END:DAYLIGHT
BEGIN:STANDARD
TZOFFSETFROM:-0400
TZOFFSETTO:-0500
TZNAME:EST
DTSTART:20241103T060000
END:STANDARD
BEGIN:DAYLIGHT
TZOFFSETFROM:-0500
TZOFFSETTO:-0400
TZNAME:EDT
DTSTART:20250309T070000
END:DAYLIGHT
BEGIN:STANDARD
TZOFFSETFROM:-0400
TZOFFSETTO:-0500
TZNAME:EST
DTSTART:20251102T060000
END:STANDARD
BEGIN:DAYLIGHT
TZOFFSETFROM:-0500
TZOFFSETTO:-0400
TZNAME:EDT
DTSTART:20260308T070000
END:DAYLIGHT
BEGIN:STANDARD
TZOFFSETFROM:-0400
TZOFFSETTO:-0500
TZNAME:EST
DTSTART:20261101T060000
END:STANDARD
BEGIN:DAYLIGHT
TZOFFSETFROM:-0500
TZOFFSETTO:-0400
TZNAME:EDT
DTSTART:20270314T070000
END:DAYLIGHT
BEGIN:STANDARD
TZOFFSETFROM:-0400
TZOFFSETTO:-0500
TZNAME:EST
DTSTART:20271107T060000
END:STANDARD
END:VTIMEZONE
BEGIN:VEVENT
DTSTART;TZID=America/New_York:20260316T180000
DTEND;TZID=America/New_York:20260316T200000
DTSTAMP:20260422T171056
CREATED:20260303T215311Z
LAST-MODIFIED:20260303T215311Z
UID:10026913-1773684000-1773691200@mychq.org
SUMMARY:Paint and Pour @ Handcrafted From the Heart
DESCRIPTION:Something NEW and unique is coming your way! We invite you to join us for our 1st ever PAINT AND POUR! We will be taking our handmade vessels to a new level and will be making our own handmade candles. We will have scents available for those who want them. Everything will be included in this class along with light refreshments. A link to register will be coming soon – so stay tuned. The cost of the class will be dependent on the vessel chosen as well.
URL:https://mychq.org/event/paint-and-pour-handcrafted-from-the-heart/
LOCATION:Handcrafted from the Heart\, 38 S Erie St\, Mayville\, 14757\, United States
CATEGORIES:Arts & Antiques
ATTACH;FMTTYPE=image/jpeg:https://mychq.org/wp-content/uploads/2026/03/598055500_1375631301025212_8751060443600998181_n-1.jpg
ORGANIZER;CN="Handcrafted From the Heart":MAILTO:handcrafted14757@outlook.com
END:VEVENT
BEGIN:VEVENT
DTSTART;TZID=America/New_York:20260203T173000
DTEND;TZID=America/New_York:20260203T193000
DTSTAMP:20260422T171056
CREATED:20251222T174231Z
LAST-MODIFIED:20251222T174231Z
UID:10023716-1770139800-1770147000@mychq.org
SUMMARY:Paint & Pour
DESCRIPTION:Something NEW and unique is coming your way! We invite you to join us for our 1st ever PAINT AND POUR! We will be taking our handmade vessels to a new level and will be making our own handmade candles. We will have scents available for those who want them. Everything will be included in this class along with light refreshments. A link to register will be coming soon – so stay tuned. The cost of the class will be dependent on the vessel chosen as well.
URL:https://mychq.org/event/paint-pour/
LOCATION:Handcrafted from the Heart\, 38 S Erie St\, Mayville\, 14757\, United States
CATEGORIES:Arts & Antiques
ATTACH;FMTTYPE=image/jpeg:https://mychq.org/wp-content/uploads/2025/12/598055500_1375631301025212_8751060443600998181_n.jpg
ORGANIZER;CN="Handcrafted From the Heart":MAILTO:handcrafted14757@outlook.com
END:VEVENT
BEGIN:VEVENT
DTSTART;TZID=America/New_York:20260112T180000
DTEND;TZID=America/New_York:20260112T210000
DTSTAMP:20260422T171056
CREATED:20250929T151546Z
LAST-MODIFIED:20250929T151546Z
UID:10022135-1768240800-1768251600@mychq.org
SUMMARY:Vintage & Oversized Paper Snowflakes
DESCRIPTION:Join us in making your choice 2-3 vintage or oversized paper snowflakes or make a combination of the 2 styles. The oversized paper ones are roughly 24″ in diameter and the vintage ones are roughly 18″ in diameter. \nAll materials will be included in this class as well as light refreshments. We will be limited to 12 attendees at this time and the class will be $25 each. Your registration link for your RSVP is available here: https://form.jotform.com/223435069074153
URL:https://mychq.org/event/vintage-oversized-paper-snowflakes-2/
LOCATION:Handcrafted from the Heart\, 38 S Erie St\, Mayville\, 14757\, United States
CATEGORIES:Arts & Antiques
ATTACH;FMTTYPE=image/jpeg:https://mychq.org/wp-content/uploads/2025/09/530667421_1273898654531811_4973932150009309616_n.jpg
ORGANIZER;CN="Handcrafted From the Heart":MAILTO:handcrafted14757@outlook.com
END:VEVENT
BEGIN:VEVENT
DTSTART;TZID=America/New_York:20260110T100000
DTEND;TZID=America/New_York:20260110T130000
DTSTAMP:20260422T171056
CREATED:20251009T202153Z
LAST-MODIFIED:20251009T202153Z
UID:10022469-1768039200-1768050000@mychq.org
SUMMARY:1st Annual Hand-Maker's Swap
DESCRIPTION:What you can expect: \n-This is a FREE Event-We are going to max this out at 10 participants\, so bring 10 of the same handmade\, homemade\, or homegrown items. Each participant will leave with 10 items.-Please RSVP with what you plan to swap so we have a goodmix.-Some ideas of what to bring: baked goods\, pantry staples\, natural cleaning products\, produce\, crafts\, and more! \nThe link to register will be up soon!
URL:https://mychq.org/event/1st-annual-hand-makers-swap/
LOCATION:Handcrafted from the Heart\, 38 S Erie St\, Mayville\, 14757\, United States
CATEGORIES:Arts & Antiques
ATTACH;FMTTYPE=image/jpeg:https://mychq.org/wp-content/uploads/2025/10/558976414_1315000380421638_8799065325753023772_n.jpg
ORGANIZER;CN="Handcrafted From the Heart":MAILTO:handcrafted14757@outlook.com
END:VEVENT
BEGIN:VEVENT
DTSTART;TZID=America/New_York:20251226T110000
DTEND;TZID=America/New_York:20251226T150000
DTSTAMP:20260422T171056
CREATED:20251117T160845Z
LAST-MODIFIED:20251117T160845Z
UID:10023047-1766746800-1766761200@mychq.org
SUMMARY:Paint and Plant Fridays with The Mayberry Jungle
DESCRIPTION:We have put a spin on our joint Paint and Plant classes with the Mayberry Jungle. Stop in on Fridays between 11 am and 3 pm to paint a beautiful and unique planter. \nStep 1: Stop into Handcrafted From the Heart (38 S. Erie St.) and choose your favorite planter to paint (we have SO many to choose from). Paint your planter and let it dry. \nStep 2: Once it is dry\, take your planter next door to the Mayberry Jungle (36 S. Erie St.) to choose your succulent and plant it up. Top off with some stones. Each project will be between $20 and $40.
URL:https://mychq.org/event/paint-and-plant-fridays-with-the-mayberry-jungle/2025-12-26/
LOCATION:Handcrafted from the Heart\, 38 S Erie St\, Mayville\, 14757\, United States
CATEGORIES:Arts & Antiques
ATTACH;FMTTYPE=image/jpeg:https://mychq.org/wp-content/uploads/2025/11/570599753_1335881358333540_3251050551968055965_n.jpg
ORGANIZER;CN="Handcrafted From the Heart":MAILTO:handcrafted14757@outlook.com
END:VEVENT
BEGIN:VEVENT
DTSTART;TZID=America/New_York:20251222T173000
DTEND;TZID=America/New_York:20251222T193000
DTSTAMP:20260422T171056
CREATED:20250929T151341Z
LAST-MODIFIED:20250929T151341Z
UID:10022134-1766424600-1766431800@mychq.org
SUMMARY:Mayberry Jungle Workshops
DESCRIPTION:If you’re looking for something fun to do in the coming months\, consider our workshops! \nOctober: \n\n10/11 – Pumpculents\n10/13 – Paint & Plant\n10/18 – Kids Minecraft Terrarium\n10/25 – Cemetariums\n\nNovember: \n\n11/1 – Moss & Fern Terrarium Workshop\n11/8 – Kids Minecraft Terrarium and/or Accessories\n11/15 – Cactus Dish Gardens\n11/22 – Paint & Plant\n11/24 – Thanksgiving Floral Centerpieces\n11/29 – Cookie Decorating with a Twist (Plant Theme)\n\nDecember: \n\n12/6 – “Gingerbread” Houses (Made of Clay)\n12/13 – Kids “Gingerbread” Houses (Made with Clay)\n12/20 – Paint & Plant\n12/22 – Christmas Floral Centerpieces
URL:https://mychq.org/event/mayberry-jungle-workshops/2025-12-22/
LOCATION:The Mayberry Jungle\, 36 S Erie St\, Mayville\, 14757\, United States
CATEGORIES:Arts & Antiques
ATTACH;FMTTYPE=image/jpeg:https://mychq.org/wp-content/uploads/2025/09/556369304_834472018923531_2454202096039167727_n.jpg
ORGANIZER;CN="Handcrafted From the Heart":MAILTO:handcrafted14757@outlook.com
END:VEVENT
BEGIN:VEVENT
DTSTART;TZID=America/New_York:20251220T130000
DTEND;TZID=America/New_York:20251220T150000
DTSTAMP:20260422T171056
CREATED:20251117T161118Z
LAST-MODIFIED:20251117T161118Z
UID:10023052-1766235600-1766242800@mychq.org
SUMMARY:December Paint & Plant - Christmas
DESCRIPTION:Each month we offer this collaborative event with The Mayberry Jungle where we choose a handmade planter\, paint it\, and choose and plant your favorite tropical or succulents in it. During these classes\, all of our planters will be available to choose from along with 1-2 featured planters per month. December’s features will be Christmas Tree\, Santa\, Snowman\, or Santa Gnome that we will be making look amazing. Location -Handcrafted From the Heart – 38 S. Erie St.\, Mayville. \nOf course we provide light refreshments during each class and you are welcome to bring your own drinks. \nPre-registration is encouraged using this link as seating is limited —>https://form.jotform.com/223435069074153.
URL:https://mychq.org/event/december-paint-plant-christmas/
LOCATION:Handcrafted from the Heart\, 38 S Erie St\, Mayville\, 14757\, United States
CATEGORIES:Arts & Antiques
ATTACH;FMTTYPE=image/jpeg:https://mychq.org/wp-content/uploads/2025/11/558957270_1314976670424009_1261857942765844812_n.jpg
ORGANIZER;CN="Handcrafted From the Heart":MAILTO:handcrafted14757@outlook.com
END:VEVENT
BEGIN:VEVENT
DTSTART;TZID=America/New_York:20251220T100000
DTEND;TZID=America/New_York:20251220T130000
DTSTAMP:20260422T171056
CREATED:20250718T203122Z
LAST-MODIFIED:20250718T203122Z
UID:10019795-1766224800-1766235600@mychq.org
SUMMARY:Handmade Gifts Workshop
DESCRIPTION:Handmade gifts are so much fun to give and to receive so we invite you to join us for Saturday workshops that will focus on projects that are giftable. Your cost will depend on your project. We will be partnering up with other local makers and businesses to offer specific classes during the 4 week pop-in workshop\, so stay tuned for that info.
URL:https://mychq.org/event/handmade-gifts-workshop/2025-12-20/
LOCATION:Handcrafted from the Heart\, 38 S Erie St\, Mayville\, 14757\, United States
CATEGORIES:Arts & Antiques
ATTACH;FMTTYPE=image/jpeg:https://mychq.org/wp-content/uploads/2025/07/518276779_1252141210040889_4171081984696551483_n.jpg
ORGANIZER;CN="Handcrafted From the Heart":MAILTO:handcrafted14757@outlook.com
END:VEVENT
BEGIN:VEVENT
DTSTART;TZID=America/New_York:20251220T090000
DTEND;TZID=America/New_York:20251220T140000
DTSTAMP:20260422T171056
CREATED:20251117T161008Z
LAST-MODIFIED:20251117T161008Z
UID:10023051-1766221200-1766239200@mychq.org
SUMMARY:Saturday Shopping @ Handcrafted From The Heart
DESCRIPTION:Join us for our special Saturday Hours between Thanksgiving and Christmas. Our shop is stocked with great handmade products that you are not likely to find anywhere else – and they are all made in house\, made locally\, and made in the USA only. We will have baked goods on site as well as our Handmade Gifts Workshop happening for anyone who wants to create special gifts by hand.
URL:https://mychq.org/event/saturday-shopping-handcrafted-from-the-heart/2025-12-20/
LOCATION:Handcrafted from the Heart\, 38 S Erie St\, Mayville\, 14757\, United States
CATEGORIES:Arts & Antiques
ATTACH;FMTTYPE=image/jpeg:https://mychq.org/wp-content/uploads/2025/11/579899055_1351871700067839_3775926912812510956_n.jpg
ORGANIZER;CN="Handcrafted From the Heart":MAILTO:handcrafted14757@outlook.com
END:VEVENT
BEGIN:VEVENT
DTSTART;TZID=America/New_York:20251208T180000
DTEND;TZID=America/New_York:20251208T200000
DTSTAMP:20260422T171056
CREATED:20250718T203011Z
LAST-MODIFIED:20250718T203011Z
UID:10019791-1765216800-1765224000@mychq.org
SUMMARY:Christmas Beach Glass Art Co-Hosted with Cheri Press
DESCRIPTION:Join us for our Christmas-themed Beach Glass Art Class hosted by Cheri Press. We will have some options available for you to make or you can be creative and bring your own ideas for your frame. Participants will have a choice of a 5×7 frame for $25 or an 8×10 for $30. All materials are included – the beach glass is from Barcelona\, and we will have fun! Registration is encouraged as we have limited seating and will purchase materials needed. Please use the link to register so we can save your seat –> https://form.jotform.com/223435069074153
URL:https://mychq.org/event/christmas-beach-glass-art-co-hosted-with-cheri-press/
LOCATION:Handcrafted from the Heart\, 38 S Erie St\, Mayville\, 14757\, United States
CATEGORIES:Arts & Antiques
ATTACH;FMTTYPE=image/jpeg:https://mychq.org/wp-content/uploads/2025/07/504432775_1252135596708117_7271142436221879225_n.jpg
ORGANIZER;CN="Handcrafted From the Heart":MAILTO:handcrafted14757@outlook.com
END:VEVENT
BEGIN:VEVENT
DTSTART;TZID=America/New_York:20251206T140000
DTEND;TZID=America/New_York:20251206T160000
DTSTAMP:20260422T171056
CREATED:20251126T175515Z
LAST-MODIFIED:20251126T175515Z
UID:10023321-1765029600-1765036800@mychq.org
SUMMARY:"Gingerbread" House Workshop
DESCRIPTION:Join us Saturday\, December 6th at 2pm in The Mayberry Jungle to create a keepsake “gingerbread” house made out of clay\, beads\, and other long lasting materials. \nThe cost is $40 per person and includes all of the necessary supplies to create an adorable “gingerbread” house that can be enjoyed for years to come. \nSeating is limited\, so please reserve yourself a spot by texting or calling 716-581-0440\, or by sending a message on Facebook or Instagram.
URL:https://mychq.org/event/gingerbread-house-workshop/
LOCATION:The Mayberry Jungle\, 36 S Erie St\, Mayville\, 14757\, United States
CATEGORIES:Kids & Family
ATTACH;FMTTYPE=image/jpeg:https://mychq.org/wp-content/uploads/2025/11/583840434_873647588339307_6476229670458118112_n.jpg
ORGANIZER;CN="Handcrafted From the Heart":MAILTO:handcrafted14757@outlook.com
END:VEVENT
BEGIN:VEVENT
DTSTART;TZID=America/New_York:20251201T180000
DTEND;TZID=America/New_York:20251201T210000
DTSTAMP:20260422T171056
CREATED:20250703T182139Z
LAST-MODIFIED:20250703T182139Z
UID:10019225-1764612000-1764622800@mychq.org
SUMMARY:Decorate Your Own 3' Wooden Grinchmas Tree
DESCRIPTION:Are you looking for a nice\, handmade wooden Christmas Tree that you can decorate for inside or outside for the Christmas season? These sturdy wood trees are 3′ in height and stand level. Bring your own embellishments such as bulbs or lights and give your tree some extra pizzaz. The class will include light refreshments and will cost $45. Since the trees need to be made\, seating will be limited and we will cut the RSVPs off 10 days prior to the event. You can register for the class here —>https://form.jotform.com/223435069074153
URL:https://mychq.org/event/decorate-your-own-3-wooden-grinchmas-tree/
LOCATION:Handcrafted from the Heart\, 38 S Erie St\, Mayville\, 14757\, United States
CATEGORIES:Arts & Antiques
ATTACH;FMTTYPE=image/jpeg:https://mychq.org/wp-content/uploads/2025/07/513826029_1239614267960250_7033066788489579371_n.jpg
ORGANIZER;CN="Handcrafted From the Heart":MAILTO:handcrafted14757@outlook.com
END:VEVENT
BEGIN:VEVENT
DTSTART;TZID=America/New_York:20251129T140000
DTEND;TZID=America/New_York:20251129T160000
DTSTAMP:20260422T171056
CREATED:20251126T175330Z
LAST-MODIFIED:20251126T175330Z
UID:10023320-1764424800-1764432000@mychq.org
SUMMARY:Cookie Decorating with a Twist!
DESCRIPTION:Bring your sweet tooth to The Mayberry Jungle Saturday\, November 29th at 2pm for holiday cookie decorating—with a twist! \nThe cost is $20 per person and will include all of the necessary materials to make some delicious (and super cute!) plant themed sugar cookies. \nSeating is limited so reservations are recommended. Call or text 716-581-0440\, or send a DM today to save your seat!
URL:https://mychq.org/event/cookie-decorating-with-a-twist/
LOCATION:The Mayberry Jungle\, 36 S Erie St\, Mayville\, 14757\, United States
CATEGORIES:Kids & Family
ATTACH;FMTTYPE=image/jpeg:https://mychq.org/wp-content/uploads/2025/11/582329627_873672608336805_3648710852109180161_n.jpg
ORGANIZER;CN="Handcrafted From the Heart":MAILTO:handcrafted14757@outlook.com
END:VEVENT
BEGIN:VEVENT
DTSTART;TZID=America/New_York:20251124T180000
DTEND;TZID=America/New_York:20251124T210000
DTSTAMP:20260422T171056
CREATED:20250703T182054Z
LAST-MODIFIED:20250703T182054Z
UID:10019224-1764007200-1764018000@mychq.org
SUMMARY:Countdown to Christmas Snowman Class
DESCRIPTION:Do you like to count down the days to Christmas with your family or friends? Join us in making this adorable Snowman whose nose counts the days down. \nAll materials are included as well as light refreshments. Please note that the number of kits are limited so registration will be required to hold your seat. The link to register will be added soon. \n$35 for the class.
URL:https://mychq.org/event/countdown-to-christmas-snowman-class-2/
LOCATION:Handcrafted from the Heart\, 38 S Erie St\, Mayville\, 14757\, United States
CATEGORIES:Arts & Antiques
ATTACH;FMTTYPE=image/jpeg:https://mychq.org/wp-content/uploads/2025/07/514337375_1239611011293909_2000417979218401382_n.jpg
ORGANIZER;CN="Handcrafted From the Heart":MAILTO:handcrafted14757@outlook.com
END:VEVENT
BEGIN:VEVENT
DTSTART;TZID=America/New_York:20251103T180000
DTEND;TZID=America/New_York:20251103T210000
DTSTAMP:20260422T171056
CREATED:20250703T181959Z
LAST-MODIFIED:20250703T181959Z
UID:10019223-1762192800-1762203600@mychq.org
SUMMARY:Build Your Own Stacked Christmas Trees
DESCRIPTION:These stacked Christmas Trees are cute and can be used as a set or separated on a mantle or in your favorite spot. Each tree varies in size from the other 2 and we will only have a limited supply. Attendees must register and select their choice in style of trees 2 weeks before the event so that they can be made. The class will be $25 and attendees can register here —> https://form.jotform.com/223435069074153
URL:https://mychq.org/event/build-your-own-stacked-christmas-trees-2/
LOCATION:Handcrafted from the Heart\, 38 S Erie St\, Mayville\, 14757\, United States
CATEGORIES:Arts & Antiques
ATTACH;FMTTYPE=image/jpeg:https://mychq.org/wp-content/uploads/2025/07/513940223_1239614954626848_6534188165626324656_n.jpg
ORGANIZER;CN="Handcrafted From the Heart":MAILTO:handcrafted14757@outlook.com
END:VEVENT
BEGIN:VEVENT
DTSTART;TZID=America/New_York:20250922T180000
DTEND;TZID=America/New_York:20250922T210000
DTSTAMP:20260422T171056
CREATED:20250718T202910Z
LAST-MODIFIED:20250718T202910Z
UID:10019790-1758564000-1758574800@mychq.org
SUMMARY:Create Your Own 24" Sign
DESCRIPTION:Participants will create a one-of-a-kind 24″ sign from style options or an idea of their choosing. Any ideas for a custom design will need to be submitted no less than 10 days prior so it can be designed. \nDesign options will be available soon. To register for this class\, participants are encouraged to register so that we have enough space and materials. Jotform link to be available soon. \nClass cost will be $45 for the sign and will include all materials as well as light refreshments.
URL:https://mychq.org/event/create-your-own-24-sign/
LOCATION:Handcrafted from the Heart\, 38 S Erie St\, Mayville\, 14757\, United States
CATEGORIES:Arts & Antiques
ATTACH;FMTTYPE=image/jpeg:https://mychq.org/wp-content/uploads/2025/07/518287334_1252151580039852_1755998842652369845_n.jpg
ORGANIZER;CN="Handcrafted From the Heart":MAILTO:handcrafted14757@outlook.com
END:VEVENT
BEGIN:VEVENT
DTSTART;TZID=America/New_York:20250917T180000
DTEND;TZID=America/New_York:20250917T210000
DTSTAMP:20260422T171056
CREATED:20250718T202822Z
LAST-MODIFIED:20250718T202822Z
UID:10019789-1758132000-1758142800@mychq.org
SUMMARY:Girl's Night Out - Sip and Shop
DESCRIPTION:Join us for our second annual Sip and Shop event where we will be sipping\, snacking\, and checking out our new products. We will also be sampling some of the products that we carry. Discounts or door prizes may be on the agenda for the evening and maybe some of our artisans will join us too.
URL:https://mychq.org/event/girls-night-out-sip-and-shop/
LOCATION:Handcrafted from the Heart\, 38 S Erie St\, Mayville\, 14757\, United States
CATEGORIES:Adults Only & Parties
ATTACH;FMTTYPE=image/jpeg:https://mychq.org/wp-content/uploads/2025/07/515439695_1252144100040600_7246530854841739281_n.jpg
ORGANIZER;CN="Handcrafted From the Heart":MAILTO:handcrafted14757@outlook.com
END:VEVENT
BEGIN:VEVENT
DTSTART;TZID=America/New_York:20250813T173000
DTEND;TZID=America/New_York:20250813T200000
DTSTAMP:20260422T171056
CREATED:20250718T202709Z
LAST-MODIFIED:20250718T202709Z
UID:10019788-1755106200-1755115200@mychq.org
SUMMARY:Beach Glass Art #2 Co-Hosted with Cheri Press
DESCRIPTION:Join us for our 2nd Beach Glass Art Class hosted by Cheri Press. We will have some options available for you to make or you can be creative and bring your own ideas for your frame. Participants will have a choice of a 5×7 frame for $25 or an 8×10 for $30. All materials are included – the beach glass is from Barcelona\, and we will have fun! Registration is encouraged as we have limited seating. Please use the link to register so we can save your seat –> https://form.jotform.com/223435069074153
URL:https://mychq.org/event/beach-glass-art-2-co-hosted-with-cheri-press/
LOCATION:Handcrafted from the Heart\, 38 S Erie St\, Mayville\, 14757\, United States
CATEGORIES:Arts & Antiques
ATTACH;FMTTYPE=image/jpeg:https://mychq.org/wp-content/uploads/2025/07/515441625_1252115700043440_9148839452904353370_n.jpg
ORGANIZER;CN="Handcrafted From the Heart":MAILTO:handcrafted14757@outlook.com
END:VEVENT
BEGIN:VEVENT
DTSTART;TZID=America/New_York:20250716T173000
DTEND;TZID=America/New_York:20250716T200000
DTSTAMP:20260422T171056
CREATED:20250524T224211Z
LAST-MODIFIED:20250524T224211Z
UID:10017571-1752687000-1752696000@mychq.org
SUMMARY:Beach Glass Art co-hosted with Cheri Press
DESCRIPTION:Join us for our first Beach Glass Art Class hosted by Cheri Press. We will have some options available for you to make or you can be creative and bring your own ideas for your frame. Participants will have a choice of a 5×7 frame for $25 or an 8×10 for $30. All materials are included – the beach glass is from Barcelona\, and we will have fun! Registration is encouraged as we have limited seating. Please use the link to register so we can save your seat –> https://form.jotform.com/223435069074153
URL:https://mychq.org/event/beach-glass-art-co-hosted-with-cheri-press/
LOCATION:Handcrafted from the Heart\, 38 S Erie St\, Mayville\, 14757\, United States
CATEGORIES:Arts & Antiques
ATTACH;FMTTYPE=image/jpeg:https://mychq.org/wp-content/uploads/2025/05/500422422_1209677067620637_5449951652257798005_n.jpg
ORGANIZER;CN="Handcrafted From the Heart":MAILTO:handcrafted14757@outlook.com
END:VEVENT
END:VCALENDAR