BEGIN:VCALENDAR
VERSION:2.0
PRODID:-//My CHQ - ECPv6.15.20//NONSGML v1.0//EN
CALSCALE:GREGORIAN
METHOD:PUBLISH
X-ORIGINAL-URL:https://mychq.org
X-WR-CALDESC:Events for My CHQ
REFRESH-INTERVAL;VALUE=DURATION:PT1H
X-Robots-Tag:noindex
X-PUBLISHED-TTL:PT1H
BEGIN:VTIMEZONE
TZID:America/New_York
BEGIN:DAYLIGHT
TZOFFSETFROM:-0500
TZOFFSETTO:-0400
TZNAME:EDT
DTSTART:20250309T070000
END:DAYLIGHT
BEGIN:STANDARD
TZOFFSETFROM:-0400
TZOFFSETTO:-0500
TZNAME:EST
DTSTART:20251102T060000
END:STANDARD
BEGIN:DAYLIGHT
TZOFFSETFROM:-0500
TZOFFSETTO:-0400
TZNAME:EDT
DTSTART:20260308T070000
END:DAYLIGHT
BEGIN:STANDARD
TZOFFSETFROM:-0400
TZOFFSETTO:-0500
TZNAME:EST
DTSTART:20261101T060000
END:STANDARD
BEGIN:DAYLIGHT
TZOFFSETFROM:-0500
TZOFFSETTO:-0400
TZNAME:EDT
DTSTART:20270314T070000
END:DAYLIGHT
BEGIN:STANDARD
TZOFFSETFROM:-0400
TZOFFSETTO:-0500
TZNAME:EST
DTSTART:20271107T060000
END:STANDARD
END:VTIMEZONE
BEGIN:VEVENT
DTSTART;TZID=America/New_York:20260502T200000
DTEND;TZID=America/New_York:20260502T235900
DTSTAMP:20260421T102927
CREATED:20260413T204029Z
LAST-MODIFIED:20260413T204029Z
UID:10028078-1777752000-1777766340@mychq.org
SUMMARY:Silent Disco @ Full Strength Coffee
DESCRIPTION:Come dance the night away at our Silent Disco! Tickets are limited. $20 per person. Headphones provided. Stop in to purchase or call 716 232 4230. Drinks available. 21+ event.
URL:https://mychq.org/event/silent-disco-full-strength-coffee/
LOCATION:Full Strength Coffee\, 55 E Main St\, Westfield\, 14787\, United States
CATEGORIES:Music & Entertainment
ATTACH;FMTTYPE=image/jpeg:https://mychq.org/wp-content/uploads/2026/04/668586558_1608219831306821_2629673740712194017_n.jpg
ORGANIZER;CN="Full Strength Coffee":MAILTO:fullstrengthcoffeecompany@gmail.com
END:VEVENT
END:VCALENDAR