BEGIN:VCALENDAR
VERSION:2.0
PRODID:-//My CHQ - ECPv6.15.20//NONSGML v1.0//EN
CALSCALE:GREGORIAN
METHOD:PUBLISH
X-ORIGINAL-URL:https://mychq.org
X-WR-CALDESC:Events for My CHQ
REFRESH-INTERVAL;VALUE=DURATION:PT1H
X-Robots-Tag:noindex
X-PUBLISHED-TTL:PT1H
BEGIN:VTIMEZONE
TZID:America/New_York
BEGIN:DAYLIGHT
TZOFFSETFROM:-0500
TZOFFSETTO:-0400
TZNAME:EDT
DTSTART:20240310T070000
END:DAYLIGHT
BEGIN:STANDARD
TZOFFSETFROM:-0400
TZOFFSETTO:-0500
TZNAME:EST
DTSTART:20241103T060000
END:STANDARD
BEGIN:DAYLIGHT
TZOFFSETFROM:-0500
TZOFFSETTO:-0400
TZNAME:EDT
DTSTART:20250309T070000
END:DAYLIGHT
BEGIN:STANDARD
TZOFFSETFROM:-0400
TZOFFSETTO:-0500
TZNAME:EST
DTSTART:20251102T060000
END:STANDARD
BEGIN:DAYLIGHT
TZOFFSETFROM:-0500
TZOFFSETTO:-0400
TZNAME:EDT
DTSTART:20260308T070000
END:DAYLIGHT
BEGIN:STANDARD
TZOFFSETFROM:-0400
TZOFFSETTO:-0500
TZNAME:EST
DTSTART:20261101T060000
END:STANDARD
BEGIN:DAYLIGHT
TZOFFSETFROM:-0500
TZOFFSETTO:-0400
TZNAME:EDT
DTSTART:20270314T070000
END:DAYLIGHT
BEGIN:STANDARD
TZOFFSETFROM:-0400
TZOFFSETTO:-0500
TZNAME:EST
DTSTART:20271107T060000
END:STANDARD
END:VTIMEZONE
BEGIN:VEVENT
DTSTART;TZID=America/New_York:20260322T083000
DTEND;TZID=America/New_York:20260322T110000
DTSTAMP:20260421T143618
CREATED:20260302T155527Z
LAST-MODIFIED:20260302T155527Z
UID:10026825-1774168200-1774177200@mychq.org
SUMMARY:Breakfast with the Easter Bunny!
DESCRIPTION:5th annual Breakfast With The Easter Bunny! Includes face painting by Miss Patti! Two seatings available. Call soon to make your reservation! 716 232 4230
URL:https://mychq.org/event/breakfast-with-the-easter-bunny/
LOCATION:Full Strength Coffee\, 55 E Main St\, Westfield\, 14787\, United States
CATEGORIES:Kids & Family
ATTACH;FMTTYPE=image/jpeg:https://mychq.org/wp-content/uploads/2026/03/645874925_1572583888203749_734098975342591528_n.jpg
ORGANIZER;CN="Full Strength Coffee":MAILTO:fullstrengthcoffeecompany@gmail.com
END:VEVENT
BEGIN:VEVENT
DTSTART;TZID=America/New_York:20260115T180000
DTEND;TZID=America/New_York:20260115T200000
DTSTAMP:20260421T143618
CREATED:20260110T232737Z
LAST-MODIFIED:20260110T232737Z
UID:10024105-1768500000-1768507200@mychq.org
SUMMARY:Trivia @ Full Strength Coffee Company
DESCRIPTION:It’s baaaaack!!! Trivia with Will Meyer!
URL:https://mychq.org/event/trivia-full-strength-coffee-company/
LOCATION:Full Strength Coffee\, 55 E Main St\, Westfield\, 14787\, United States
CATEGORIES:Trivia
ATTACH;FMTTYPE=image/jpeg:https://mychq.org/wp-content/uploads/2026/01/611561533_1520396923422446_1222161780777743017_n.jpg
ORGANIZER;CN="Full Strength Coffee":MAILTO:fullstrengthcoffeecompany@gmail.com
END:VEVENT
BEGIN:VEVENT
DTSTART;TZID=America/New_York:20251220T120000
DTEND;TZID=America/New_York:20251220T140000
DTSTAMP:20260421T143618
CREATED:20251117T155053Z
LAST-MODIFIED:20251117T155053Z
UID:10023029-1766232000-1766239200@mychq.org
SUMMARY:Holiday Tunes Sung by WACS Alumni\, Mark Wilson
DESCRIPTION:Join us to eat\, drink\, shop\, or relax and listen to the sounds of the season (and maybe even sing along too!)
URL:https://mychq.org/event/holiday-tunes-sung-by-wacs-alumni-mark-wilson/
LOCATION:Full Strength Coffee\, 55 E Main St\, Westfield\, 14787\, United States
CATEGORIES:Music & Entertainment
ATTACH;FMTTYPE=image/jpeg:https://mychq.org/wp-content/uploads/2025/11/580713380_1470614431734029_6960443328315128326_n.jpg
ORGANIZER;CN="Full Strength Coffee":MAILTO:fullstrengthcoffeecompany@gmail.com
END:VEVENT
BEGIN:VEVENT
DTSTART;TZID=America/New_York:20251210T183000
DTEND;TZID=America/New_York:20251210T193000
DTSTAMP:20260421T143618
CREATED:20251117T154950Z
LAST-MODIFIED:20251117T154950Z
UID:10023028-1765391400-1765395000@mychq.org
SUMMARY:Christmas Stories at the Coffee Shop
DESCRIPTION:Don your favorite Christmas Jammies and join us for stories\, songs\, hot cocoa and holiday cheer!
URL:https://mychq.org/event/christmas-stories-at-the-coffee-shop/
LOCATION:Full Strength Coffee\, 55 E Main St\, Westfield\, 14787\, United States
CATEGORIES:Books & Reading
ATTACH;FMTTYPE=image/jpeg:https://mychq.org/wp-content/uploads/2025/11/581022943_1470740441721428_6441190462750260590_n.jpg
ORGANIZER;CN="Full Strength Coffee":MAILTO:fullstrengthcoffeecompany@gmail.com
END:VEVENT
BEGIN:VEVENT
DTSTART;TZID=America/New_York:20251106T180000
DTEND;TZID=America/New_York:20251106T200000
DTSTAMP:20260421T143618
CREATED:20251022T201446Z
LAST-MODIFIED:20251022T201446Z
UID:10022609-1762452000-1762459200@mychq.org
SUMMARY:Pottery Painting Night!
DESCRIPTION:Back by popular demand in collaboration with Pearl City Clay House!Sign up today for a fun\, creative\, relaxing evening!
URL:https://mychq.org/event/pottery-painting-night/
LOCATION:Full Strength Coffee\, 55 E Main St\, Westfield\, 14787\, United States
CATEGORIES:Arts & Antiques
ATTACH;FMTTYPE=image/jpeg:https://mychq.org/wp-content/uploads/2025/10/561449156_1441562221305917_5896833588083065322_n.jpg
ORGANIZER;CN="Full Strength Coffee":MAILTO:fullstrengthcoffeecompany@gmail.com
END:VEVENT
END:VCALENDAR