BEGIN:VCALENDAR
VERSION:2.0
PRODID:-//My CHQ - ECPv6.15.20//NONSGML v1.0//EN
CALSCALE:GREGORIAN
METHOD:PUBLISH
X-WR-CALNAME:My CHQ
X-ORIGINAL-URL:https://mychq.org
X-WR-CALDESC:Events for My CHQ
REFRESH-INTERVAL;VALUE=DURATION:PT1H
X-Robots-Tag:noindex
X-PUBLISHED-TTL:PT1H
BEGIN:VTIMEZONE
TZID:America/New_York
BEGIN:DAYLIGHT
TZOFFSETFROM:-0500
TZOFFSETTO:-0400
TZNAME:EDT
DTSTART:20240310T070000
END:DAYLIGHT
BEGIN:STANDARD
TZOFFSETFROM:-0400
TZOFFSETTO:-0500
TZNAME:EST
DTSTART:20241103T060000
END:STANDARD
BEGIN:DAYLIGHT
TZOFFSETFROM:-0500
TZOFFSETTO:-0400
TZNAME:EDT
DTSTART:20250309T070000
END:DAYLIGHT
BEGIN:STANDARD
TZOFFSETFROM:-0400
TZOFFSETTO:-0500
TZNAME:EST
DTSTART:20251102T060000
END:STANDARD
BEGIN:DAYLIGHT
TZOFFSETFROM:-0500
TZOFFSETTO:-0400
TZNAME:EDT
DTSTART:20260308T070000
END:DAYLIGHT
BEGIN:STANDARD
TZOFFSETFROM:-0400
TZOFFSETTO:-0500
TZNAME:EST
DTSTART:20261101T060000
END:STANDARD
BEGIN:DAYLIGHT
TZOFFSETFROM:-0500
TZOFFSETTO:-0400
TZNAME:EDT
DTSTART:20270314T070000
END:DAYLIGHT
BEGIN:STANDARD
TZOFFSETFROM:-0400
TZOFFSETTO:-0500
TZNAME:EST
DTSTART:20271107T060000
END:STANDARD
END:VTIMEZONE
BEGIN:VEVENT
DTSTART;TZID=America/New_York:20260328T150000
DTEND;TZID=America/New_York:20260328T170000
DTSTAMP:20260423T051627
CREATED:20260312T201307Z
LAST-MODIFIED:20260312T201307Z
UID:10027206-1774710000-1774717200@mychq.org
SUMMARY:Barnyard Stories
DESCRIPTION: Join us for BARNYARD STORIES! \nMarch is Read Across America month.And we’re celebrating in the most magical way possible. \nBring your little storyteller to the barn for an afternoon they will never forget. \nKids will create their own story and/or illustrations\, then read it aloud to our horses… and to Gus\, a certified therapy dog from the PAWSitive Support Program! With Laura Bierbower \nOne parent stays and watches the magic happen. Children take home their own story creation to read again and again. \nWe will also have an animal artist\, Barbara Garfield\, here to help with any illustrations! \n Saturday\, March 28 3-5 PM Between Lakewood & Jamestown\, NY $25 per child | 10 spots only \nAll books (blank for their own story or illustrations) and supplies provided.Weather-proof barn setting.A portion of the proceeds benefits the PAWSitive Support Program. \nDM to register. Spots will go fast.  \nDena Garfield Equine Union
URL:https://mychq.org/event/barnyard-stories/
LOCATION:Forest Acres Retreats & Events\, 1122 Forest Ave Ext\, Jamestown\, 14701\, United States
CATEGORIES:Kids & Family
ATTACH;FMTTYPE=image/jpeg:https://mychq.org/wp-content/uploads/2026/03/648979442_1273305421598051_3703659413093594725_n.jpg
ORGANIZER;CN="Forest Acres Retreats and Events":MAILTO:forestacresretreats@gmail.com
END:VEVENT
BEGIN:VEVENT
DTSTART;TZID=America/New_York:20260312T183000
DTEND;TZID=America/New_York:20260312T203000
DTSTAMP:20260423T051627
CREATED:20260306T214148Z
LAST-MODIFIED:20260306T214202Z
UID:10026989-1773340200-1773347400@mychq.org
SUMMARY:Hoppy Hour Yoga\, Brews & Live Music @ Wicked Warren's
DESCRIPTION:Mat to Mug YogaMarch 12 | 6:30–8:30 pmat Wicked Warren’s JamestownLive acoustic music by Shamus O’DonnellYoga with Dena Garfield \nSlow down. Breathe. Sip. Move. \nJoin us for a relaxed\, feel-good evening where yoga meets live music and your favorite drink. We’ll flow through a playful\, accessible 60-minute yoga session designed for all levels while enjoying live acoustic music in a cozy\, dim-lit space. No pressure\, no performance\, just connection\, laughter\, and a chance to unwind midweek. \nYour ticket includes• 60-minute guided yoga session• One beer or beverage to enjoy during class• Live acoustic music throughout• Non-alcoholic options available \nBring a friend\, your partner\, or come solo and meet new people. Expect a cool vibe\, gentle movement\, and a lot of smiles. \nTickets $30All levels welcome \nCome as you are. Leave lighter.
URL:https://mychq.org/event/hoppy-hour-yoga-brews-live-music-wicked-warrens/
LOCATION:Wicked Warrens Jamestown\, Washington St.\, Jamestown\, 14701\, United States
CATEGORIES:Music & Entertainment
ATTACH;FMTTYPE=image/jpeg:https://mychq.org/wp-content/uploads/2026/03/626929449_1246934290901831_7882946629193779773_n-1.jpg
ORGANIZER;CN="Forest Acres Retreats and Events":MAILTO:forestacresretreats@gmail.com
END:VEVENT
BEGIN:VEVENT
DTSTART;TZID=America/New_York:20260226T183000
DTEND;TZID=America/New_York:20260226T203000
DTSTAMP:20260423T051627
CREATED:20260206T184546Z
LAST-MODIFIED:20260206T184546Z
UID:10024751-1772130600-1772137800@mychq.org
SUMMARY:Hoppy Hour Yoga\, Brews & Live Music
DESCRIPTION:Mat to Mug YogaFebruary 26 | 6:30–8:30 pmat Wicked Warren’s JamestownLive acoustic music by Shamus O’DonnellYoga with Dena Garfield \nSlow down. Breathe. Sip. Move. \nJoin us for a relaxed\, feel-good evening where yoga meets live music and your favorite drink. We’ll flow through a playful\, accessible 60-minute yoga session designed for all levels while enjoying live acoustic music in a cozy\, dim-lit space. No pressure\, no performance\, just connection\, laughter\, and a chance to unwind midweek. \nYour ticket includes• 60-minute guided yoga session• One beer or beverage to enjoy during class• Live acoustic music throughout• Non-alcoholic options available \nBring a friend\, your partner\, or come solo and meet new people. Expect a cool vibe\, gentle movement\, and a lot of smiles. \nTickets $30All levels welcome \nCome as you are. Leave lighter.
URL:https://mychq.org/event/hoppy-hour-yoga-brews-live-music/
LOCATION:Wicked Warrens Jamestown\, Washington St.\, Jamestown\, 14701\, United States
CATEGORIES:Health & Care
ATTACH;FMTTYPE=image/jpeg:https://mychq.org/wp-content/uploads/2026/02/626929449_1246934290901831_7882946629193779773_n.jpg
ORGANIZER;CN="Forest Acres Retreats and Events":MAILTO:forestacresretreats@gmail.com
END:VEVENT
BEGIN:VEVENT
DTSTART;TZID=America/New_York:20260122T183000
DTEND;TZID=America/New_York:20260122T203000
DTSTAMP:20260423T051627
CREATED:20260116T181704Z
LAST-MODIFIED:20260116T181704Z
UID:10024322-1769106600-1769113800@mychq.org
SUMMARY:Sip\, Stretch\, & Savor: The Ultimate Flow & Flight Experience
DESCRIPTION:Sip\, Stretch\, & Savor: The Ultimate Flow & Flight ExperienceLooking for a way to find your center without taking yourself well… too seriously? Join us for a unique Beer & Flow Yoga session where your mat meets the craft tap.Forget waiting for the after-party.In this class\, the beer is part of the practice! We’ve curated a custom beer flight designed to be incorporated directly into your flow.What to Expect:• Integrated Tasting: We’ll guide you through a series of accessible yoga poses\, pausing intentionally to sip and savor different pours from your flight.• Balanced Flow: A mindful\, all-levels sequence focused on relaxation\, balance (don’t spill!)\, and good vibes.• The Flight: Four 5oz pours of our finest craft brews\, ranging from light and crisp to bold and complex.• Community Atmosphere: Stay after the final “Namaste” to finish your favorite pour and chat with fellow craft-loving yogis.Whether you’re a seasoned practitioner or a total beginner\, this session is about mindfulness\, movement\, and the perfect pour.Grab your mat\, bring a friend\, and let’s find some “Hops-piness”together. \nhttps://wickedwarrens.com/…/candlelight-yoga-12-slash…
URL:https://mychq.org/event/sip-stretch-savor-the-ultimate-flow-flight-experience-2/
LOCATION:Wicked Warrens Jamestown\, Washington St.\, Jamestown\, 14701\, United States
CATEGORIES:Food & Drink
ATTACH;FMTTYPE=image/jpeg:https://mychq.org/wp-content/uploads/2026/01/605517386_1218248967103697_2945507461007234055_n-1.jpg
ORGANIZER;CN="Forest Acres Retreats and Events":MAILTO:forestacresretreats@gmail.com
END:VEVENT
BEGIN:VEVENT
DTSTART;TZID=America/New_York:20260115T183000
DTEND;TZID=America/New_York:20260115T203000
DTSTAMP:20260423T051627
CREATED:20260105T161846Z
LAST-MODIFIED:20260105T161846Z
UID:10023947-1768501800-1768509000@mychq.org
SUMMARY:Sip\, Stretch\, & Savor: The Ultimate Flow & Flight Experience
DESCRIPTION:Sip\, Stretch\, & Savor: The Ultimate Flow & Flight ExperienceLooking for a way to find your center without taking yourself well… too seriously? Join us for a unique Beer & Flow Yoga session where your mat meets the craft tap.Forget waiting for the after-party.In this class\, the beer is part of the practice! We’ve curated a custom beer flight designed to be incorporated directly into your flow.What to Expect:• Integrated Tasting: We’ll guide you through a series of accessible yoga poses\, pausing intentionally to sip and savor different pours from your flight.• Balanced Flow: A mindful\, all-levels sequence focused on relaxation\, balance (don’t spill!)\, and good vibes.• The Flight: Four 5oz pours of our finest craft brews\, ranging from light and crisp to bold and complex.• Community Atmosphere: Stay after the final “Namaste” to finish your favorite pour and chat with fellow craft-loving yogis.Whether you’re a seasoned practitioner or a total beginner\, this session is about mindfulness\, movement\, and the perfect pour.Grab your mat\, bring a friend\, and let’s find some “Hops-piness”together. \nhttps://wickedwarrens.com/…/candlelight-yoga-12-slash…
URL:https://mychq.org/event/sip-stretch-savor-the-ultimate-flow-flight-experience/
LOCATION:Wicked Warrens Jamestown\, Washington St.\, Jamestown\, 14701\, United States
CATEGORIES:Health & Care
ATTACH;FMTTYPE=image/jpeg:https://mychq.org/wp-content/uploads/2026/01/605517386_1218248967103697_2945507461007234055_n.jpg
ORGANIZER;CN="Forest Acres Retreats and Events":MAILTO:forestacresretreats@gmail.com
END:VEVENT
BEGIN:VEVENT
DTSTART;TZID=America/New_York:20251218T183000
DTEND;TZID=America/New_York:20251218T203000
DTSTAMP:20260423T051627
CREATED:20251202T010643Z
LAST-MODIFIED:20251202T010643Z
UID:10023362-1766082600-1766089800@mychq.org
SUMMARY:Candlelight Restorative Yoga
DESCRIPTION:Give yourself 90 minutes of calm right before the holiday rush.We’ll melt into restorative heart + hip openers under candlelight\, unwind the nervous system\, and end with a warm cup of Golden Glow Sleep Milk. Brews + NA options also available\, included with ticket purchase. \nWe know it’s a busy time… but you’ll be so glad you took this time for yourself.Come breathe\, rest\, and reset your glow.  \n Limited spots – reserve early. $25  \nwww.wickedwarrens.com/shop
URL:https://mychq.org/event/candlelight-restorative-yoga/
LOCATION:Wicked Warrens Jamestown\, Washington St.\, Jamestown\, 14701\, United States
CATEGORIES:Health & Care
ATTACH;FMTTYPE=image/jpeg:https://mychq.org/wp-content/uploads/2025/12/593193080_1196171585978102_4038631149767226555_n-e1764637579693.jpg
ORGANIZER;CN="Forest Acres Retreats and Events":MAILTO:forestacresretreats@gmail.com
END:VEVENT
BEGIN:VEVENT
DTSTART;TZID=America/New_York:20250731T183000
DTEND;TZID=America/New_York:20250731T200000
DTSTAMP:20260423T051627
CREATED:20250724T152348Z
LAST-MODIFIED:20250724T152348Z
UID:10019909-1753986600-1753992000@mychq.org
SUMMARY:Restorative Yoga + Vision Journaling @ SOLT
DESCRIPTION:Bring Your Grand Vision to Life  Restorative Yoga + Vision Journaling in the Salt Cave Breathe in clarity. \nExhale doubt. Surrounded by the healing energy of Himalayan salt\, you’ll be guided through a deeply nourishing restorative yoga practice followed by a reflective journaling session to help you reconnect with your purpose and awaken your next bold chapter.  \nJournaling. + Salt Therapy. + Soul Awakening. \n Thursday\, July 31st \n 6:30 PM – 8:00 PM \n $65 per person \n SOLT Spa & Cafe\, 519 W 3rd St.\, Jamestown\, NY 14701  Spots are very limited — reserve your space now!  716-484-3355
URL:https://mychq.org/event/restorative-yoga-vision-journaling-solt/
LOCATION:SOLT Cafe and Spa\, 517 W 3rd St.\, Jamestown\, NY\, 14701\, United States
CATEGORIES:Health & Care
ATTACH;FMTTYPE=image/png:https://mychq.org/wp-content/uploads/2025/07/SOLT-yoga.png
ORGANIZER;CN="Forest Acres Retreats and Events":MAILTO:forestacresretreats@gmail.com
END:VEVENT
END:VCALENDAR