BEGIN:VCALENDAR
VERSION:2.0
PRODID:-//Chautauqua County Events, Local Businesses &amp; Resources | My CHQ - ECPv6.15.20//NONSGML v1.0//EN
CALSCALE:GREGORIAN
METHOD:PUBLISH
X-WR-CALNAME:Chautauqua County Events, Local Businesses &amp; Resources | My CHQ
X-ORIGINAL-URL:https://mychq.org
X-WR-CALDESC:Events for Chautauqua County Events, Local Businesses &amp; Resources | My CHQ
REFRESH-INTERVAL;VALUE=DURATION:PT1H
X-Robots-Tag:noindex
X-PUBLISHED-TTL:PT1H
BEGIN:VTIMEZONE
TZID:America/New_York
BEGIN:DAYLIGHT
TZOFFSETFROM:-0500
TZOFFSETTO:-0400
TZNAME:EDT
DTSTART:20250309T070000
END:DAYLIGHT
BEGIN:STANDARD
TZOFFSETFROM:-0400
TZOFFSETTO:-0500
TZNAME:EST
DTSTART:20251102T060000
END:STANDARD
BEGIN:DAYLIGHT
TZOFFSETFROM:-0500
TZOFFSETTO:-0400
TZNAME:EDT
DTSTART:20260308T070000
END:DAYLIGHT
BEGIN:STANDARD
TZOFFSETFROM:-0400
TZOFFSETTO:-0500
TZNAME:EST
DTSTART:20261101T060000
END:STANDARD
BEGIN:DAYLIGHT
TZOFFSETFROM:-0500
TZOFFSETTO:-0400
TZNAME:EDT
DTSTART:20270314T070000
END:DAYLIGHT
BEGIN:STANDARD
TZOFFSETFROM:-0400
TZOFFSETTO:-0500
TZNAME:EST
DTSTART:20271107T060000
END:STANDARD
END:VTIMEZONE
BEGIN:VEVENT
DTSTART;TZID=America/New_York:20260808T100000
DTEND;TZID=America/New_York:20260808T120000
DTSTAMP:20260424T021242
CREATED:20260424T005753Z
LAST-MODIFIED:20260424T005753Z
UID:10028377-1786183200-1786190400@mychq.org
SUMMARY:Historic Tours: Lucy Downtown Tour
DESCRIPTION:Enjoy a guided walking tour of downtown Jamestown\, New York\, and learn about the fascinating history of this charming town as it applies to Lucille Ball. \nParticipants will meet at the Fenton History Center at 10:00 a.m. \nThe Fenton History Center conducts historic walking tours from June to August. The cost is $8 for members and $12 for non-members. Participants can pre-register online\, at the Fenton\, or by phone at 716-664-6256. There is a limit of 20 people for each tour. \nFor the first time\, we are introducing the Full Circuit History Pass\, which provides individual access to all of the Fenton Historic Walking Tours throughout the 2026 season. Each pass is valid for one person. The cost is $50 for members and $80 for non-members. \nThank you to our sponsors: Rodgers Land Surveying\, Ahlstrom Schaeffer\, and Weber Knapp
URL:https://mychq.org/event/historic-tours-lucy-downtown-tour/
LOCATION:Fenton History Center\, 67 Washington St\, Jamestown\, 14701\, United States
CATEGORIES:Tours
ATTACH;FMTTYPE=image/jpeg:https://mychq.org/wp-content/uploads/2026/04/676598045_1400671378768048_4136994843268518742_n.jpg
ORGANIZER;CN="Fenton History Center":MAILTO:info@fentonhistorycenter.org
END:VEVENT
BEGIN:VEVENT
DTSTART;TZID=America/New_York:20260815T100000
DTEND;TZID=America/New_York:20260815T120000
DTSTAMP:20260424T021242
CREATED:20260424T005835Z
LAST-MODIFIED:20260424T005835Z
UID:10028378-1786788000-1786795200@mychq.org
SUMMARY:Historic Tours: Jamestown's Industrial Past
DESCRIPTION:Learn about the foundation of Jamestown’s industries on this walking tour. Beginning at the Fenton History Center and progressing through the pioneer period to the early 1900s\, and never leaving the area around Brooklyn Square. \nParticipants will meet at the Fenton History Center at 10:00 a.m. \nThe Fenton History Center conducts historic walking tours from June to August. The cost is $8 for members and $12 for non-members. Participants can pre-register online\, at the Fenton\, or by phone at 716-664-6256. There is a limit of 20 people for each tour. \nFor the first time\, we are introducing the Full Circuit History Pass\, which provides individual access to all of the Fenton Historic Walking Tours throughout the 2026 season. Each pass is valid for one person. The cost is $50 for members and $80 for non-members. \nThank you to our sponsors: Rodgers Land Surveying\, Ahlstrom Schaeffer\, and Weber Knapp
URL:https://mychq.org/event/historic-tours-jamestowns-industrial-past-2/
LOCATION:Fenton History Center\, 67 Washington St\, Jamestown\, 14701\, United States
CATEGORIES:Tours
ATTACH;FMTTYPE=image/jpeg:https://mychq.org/wp-content/uploads/2026/04/676598045_1400671378768048_4136994843268518742_n.jpg
ORGANIZER;CN="Fenton History Center":MAILTO:info@fentonhistorycenter.org
END:VEVENT
BEGIN:VEVENT
DTSTART;TZID=America/New_York:20260818T190000
DTEND;TZID=America/New_York:20260818T210000
DTSTAMP:20260424T021242
CREATED:20260424T004740Z
LAST-MODIFIED:20260424T004740Z
UID:10028366-1787079600-1787086800@mychq.org
SUMMARY:Lecture: Corry-Jamestown Manufacturing
DESCRIPTION:Corry-Jamestown Corp. was an office furniture manufacturing company located in Corry\, Pennsylvania. But it began in Jamestown\, New York\, and involved a number of people from around the country with connections to Jamestown and the metal furniture industry. Needing a factory building for the new company a factory was found in Corry and the company moved there in 1919 and the rest is history. Karen Livsey and Sam Genco will present. \nThe 2026 Fenton History Center Lecture Series features evening lectures between April and October. This event is free and open to the public. Lectures are held in the dining room at the Gov. Reuben Fenton mansion. They are also streamed via YouTube. Donations are appreciated to support the Fenton History Center’s mission to preserve local history and provide educational opportunities. \nThank you to our sponsor: Rodgers Land Surveying.
URL:https://mychq.org/event/lecture-corry-jamestown-manufacturing/
LOCATION:Fenton History Center\, 67 Washington St\, Jamestown\, 14701\, United States
CATEGORIES:Government & History
ATTACH;FMTTYPE=image/jpeg:https://mychq.org/wp-content/uploads/2026/04/Fenton-Lecture-Series.jpg
ORGANIZER;CN="Fenton History Center":MAILTO:info@fentonhistorycenter.org
END:VEVENT
BEGIN:VEVENT
DTSTART;TZID=America/New_York:20260822T100000
DTEND;TZID=America/New_York:20260822T120000
DTSTAMP:20260424T021242
CREATED:20260424T005922Z
LAST-MODIFIED:20260424T005922Z
UID:10028379-1787392800-1787400000@mychq.org
SUMMARY:Historic Tours: Jamestown's Hidden Alleys
DESCRIPTION:Tucked away from view behind respectable facades\, alleys were indispensable elements in American cities during the last half of the nineteenth century. The “impolite” realities of the industrial movement were hidden from Victorian society. Jamestown had 5 alleys – what are their stories? Learn about them on the Hidden Alleys tour. \nParticipants will meet at the Fenton History Center at 10:00 a.m. \nThe Fenton History Center conducts historic walking tours from June to August. The cost is $8 for members and $12 for non-members. Participants can pre-register online\, at the Fenton\, or by phone at 716-664-6256. There is a limit of 20 people for each tour. \nFor the first time\, we are introducing the Full Circuit History Pass\, which provides individual access to all of the Fenton Historic Walking Tours throughout the 2026 season. Each pass is valid for one person. The cost is $50 for members and $80 for non-members. \nThank you to our sponsors: Rodgers Land Surveying\, Ahlstrom Schaeffer\, and Weber Knapp
URL:https://mychq.org/event/historic-tours-jamestowns-hidden-alleys-3/
LOCATION:Fenton History Center\, 67 Washington St\, Jamestown\, 14701\, United States
CATEGORIES:Tours
ATTACH;FMTTYPE=image/jpeg:https://mychq.org/wp-content/uploads/2026/04/676598045_1400671378768048_4136994843268518742_n.jpg
ORGANIZER;CN="Fenton History Center":MAILTO:info@fentonhistorycenter.org
END:VEVENT
BEGIN:VEVENT
DTSTART;TZID=America/New_York:20260829T100000
DTEND;TZID=America/New_York:20260829T120000
DTSTAMP:20260424T021242
CREATED:20260424T010007Z
LAST-MODIFIED:20260424T010007Z
UID:10028380-1787997600-1788004800@mychq.org
SUMMARY:Historic Tours: Military Tour at Lake View Cemetery
DESCRIPTION:Learn the stories about veterans buried in Lake View Cemetery. Six veterans will be highlighted whose stories need to be heard. \nParticipants will meet outside the Lake View Cemetery office on the corner of Buffalo Street and Lakeview Avenue at 10:00 a.m. \nThe Fenton History Center conducts historic walking tours from June to August. The cost is $8 for members and $12 for non-members. Participants can pre-register online\, at the Fenton\, or by phone at 716-664-6256. There is a limit of 20 people for each tour. \nFor the first time\, we are introducing the Full Circuit History Pass\, which provides individual access to all of the Fenton Historic Walking Tours throughout the 2026 season. Each pass is valid for one person. The cost is $50 for members and $80 for non-members. \nThank you to our sponsors: Rodgers Land Surveying\, Ahlstrom Schaeffer\, and Weber Knapp
URL:https://mychq.org/event/historic-tours-military-tour-at-lake-view-cemetery/
LOCATION:Jamestown Free Methodist Church\, 515 E. 7th St\, Jamestown\, 14701\, United States
CATEGORIES:Tours
ATTACH;FMTTYPE=image/jpeg:https://mychq.org/wp-content/uploads/2026/04/676598045_1400671378768048_4136994843268518742_n.jpg
ORGANIZER;CN="Fenton History Center":MAILTO:info@fentonhistorycenter.org
END:VEVENT
BEGIN:VEVENT
DTSTART;TZID=America/New_York:20260915T190000
DTEND;TZID=America/New_York:20260915T210000
DTSTAMP:20260424T021242
CREATED:20260424T004811Z
LAST-MODIFIED:20260424T004811Z
UID:10028367-1789498800-1789506000@mychq.org
SUMMARY:Lecture: Lucille M. Wright Museum
DESCRIPTION:Wright Museum Curator Dennis Webster will give a quick\, virtual tour of some of the highlights of the Wright Air Museum\, talk about upcoming exhibits and provide some background related to the fascinating life and work of Lucile M. Wright. He’ll also recall a less than well known connection between aviation and radio broadcasting in Jamestown. \nThe 2026 Fenton History Center Lecture Series features evening lectures between April and October. This event is free and open to the public. Lectures are held in the dining room at the Gov. Reuben Fenton mansion. They are also streamed via YouTube. Donations are appreciated to support the Fenton History Center’s mission to preserve local history and provide educational opportunities. \nThank you to our sponsor: Rodgers Land Surveying.
URL:https://mychq.org/event/lecture-lucille-m-wright-museum/
LOCATION:Fenton History Center\, 67 Washington St\, Jamestown\, 14701\, United States
CATEGORIES:Government & History
ATTACH;FMTTYPE=image/jpeg:https://mychq.org/wp-content/uploads/2026/04/Fenton-Lecture-Series.jpg
ORGANIZER;CN="Fenton History Center":MAILTO:info@fentonhistorycenter.org
END:VEVENT
BEGIN:VEVENT
DTSTART;TZID=America/New_York:20261020T190000
DTEND;TZID=America/New_York:20261020T210000
DTSTAMP:20260424T021242
CREATED:20260424T004849Z
LAST-MODIFIED:20260424T004849Z
UID:10028368-1792522800-1792530000@mychq.org
SUMMARY:Lecture: A Real Witch Hunt and Other Ghostly Delights
DESCRIPTION:A Real Witch Hunt and other Ghostly Delights is a presentation in 3 parts. Part one is the adventure of three teachers at West Valley Central School from 1979-81 who explored the legend of Sophia Disch\, the legendary Witch of West Valley. Over 3 years we researched the true story of the Disch family and why Sophia\, in life and in her afterlife was considered a witch by many of the local citizens. Part 2 is a short journey through Chautauqua County and some of the unsolved stories and legends of ghosts and spirits that have haunted our villages and towns nearby and a challenge to our audience to perhaps go on their own adventure to solve these mysteries with todays modern technology. Finally\, there will be a short discussion of the role of our modern day witches here in Western New York. (i.e. The Witchy Women of the Finger Lakes). Presented by Rick DeKay\, who is a middle school teacher. \nThe 2026 Fenton History Center Lecture Series features evening lectures between April and October. This event is free and open to the public. Lectures are held in the dining room at the Gov. Reuben Fenton mansion. They are also streamed via YouTube. Donations are appreciated to support the Fenton History Center’s mission to preserve local history and provide educational opportunities. \nThank you to our sponsor: Rodgers Land Surveying.
URL:https://mychq.org/event/lecture-a-real-witch-hunt-and-other-ghostly-delights/
LOCATION:Fenton History Center\, 67 Washington St\, Jamestown\, 14701\, United States
CATEGORIES:Government & History
ATTACH;FMTTYPE=image/jpeg:https://mychq.org/wp-content/uploads/2026/04/Fenton-Lecture-Series.jpg
ORGANIZER;CN="Fenton History Center":MAILTO:info@fentonhistorycenter.org
END:VEVENT
END:VCALENDAR